{"text_format":"1","workbook":"xlsx","n_sheets":2,"sheets":["Tabelle1","Tabelle2"],"not_rendered":{"charts":0,"images":0,"macros":1,"external_links":0,"defined_names":3,"comments":2,"pivot_tables":0},"unopened":[],"bounds":{"document_bytes":16777216,"sheet_cells":100000,"rows_first":2000,"rows_last":500,"rows_between":2000,"halvings":0,"cell_chars":16384,"cell_head_chars":4096},"cells_cut":0,"cells_raw":0,"read":"whole","date_system":"1900"}

{"sheet":"Tabelle1","index":0,"n_rows":230,"n_cols":33,"rows_kept":230,"cut":false,"hidden":false,"merged":[]}
["Volkssportläufe im Saalekreis im Jahre",null,null,null,null,null,2023]
["Wertungstabelle  Kreisranglistenläufe "]
[]
["Laufwertungen und Plazierungen"]
["sex","AK","Pl.","Name","Jahr-gang","Verein ","Final-Wert","Teil-nahmen","Läufe in Wertung","Punkte","1.","2.","3.","4.","5.","6.","7.","8.","9.","10.","11.","12.",null,null,null,null,null,null,null,null,null,null,"Streich-werte"]
["W",{"$f":"IF(ISBLANK(E6),\"\",LOOKUP(IF(2000+E6>$G$1,1900+E6,2000+E6),Tabelle2!A:A,Tabelle2!C:C))","v":"U12"},{"$f":"IF(G6>=1,SUMPRODUCT(($A$6:$A$418=A6)*($B$6:$B$418=B6)*($G$6:$G$418>G6))+1,\"\")","v":1},"Wagner, Anny",12,"TSV Leuna Ski",{"$f":"H6+J6","v":26},{"$f":"COUNTIF(K6:AE6,\">=1\")+COUNTIF(K6:AE6,\"T\")","v":1},{"$f":"MIN(15,COUNTIF(K6:AE6,\">=1\"))","v":1},{"$f":"IF(I6>=15,(SUM(LARGE(K6:AE6,{1;2;3;4;5;6;7;8;9;10;11;12;13;14;15}))+AF6),SUM(K6:AF6))","v":25},null,25,null,null,null,null,null,null,null,null,null,null,null,null,null,null,null,null,null,null,null,null,{"$f":"COUNTIF(K6:AF6,\">=1\")-I6","v":0}]
["W",{"$f":"IF(ISBLANK(E7),\"\",LOOKUP(IF(2000+E7>$G$1,1900+E7,2000+E7),Tabelle2!A:A,Tabelle2!C:C))","v":"U12"},{"$f":"IF(G7>=1,SUMPRODUCT(($A$6:$A$418=A7)*($B$6:$B$418=B7)*($G$6:$G$418>G7))+1,\"\")","v":1},"Wagner, Magdalena",13,"TSV Leuna Ski",{"$f":"H7+J7","v":26},{"$f":"COUNTIF(K7:AE7,\">=1\")+COUNTIF(K7:AE7,\"T\")","v":1},{"$f":"MIN(15,COUNTIF(K7:AE7,\">=1\"))","v":1},{"$f":"IF(I7>=15,(SUM(LARGE(K7:AE7,{1;2;3;4;5;6;7;8;9;10;11;12;13;14;15}))+AF7),SUM(K7:AF7))","v":25},null,25,null,null,null,null,null,null,null,null,null,null,null,null,null,null,null,null,null,null,null,null,{"$f":"COUNTIF(K7:AF7,\">=1\")-I7","v":0}]
["W",{"$f":"IF(ISBLANK(E8),\"\",LOOKUP(IF(2000+E8>$G$1,1900+E8,2000+E8),Tabelle2!A:A,Tabelle2!C:C))","v":"U14"},{"$f":"IF(G8>=1,SUMPRODUCT(($A$6:$A$418=A8)*($B$6:$B$418=B8)*($G$6:$G$418>G8))+1,\"\")","v":1},"Ballhaus, Clara",11,"TSV Leuna",{"$f":"H8+J8","v":52},{"$f":"COUNTIF(K8:AE8,\">=1\")+COUNTIF(K8:AE8,\"T\")","v":2},{"$f":"MIN(15,COUNTIF(K8:AE8,\">=1\"))","v":2},{"$f":"IF(I8>=15,(SUM(LARGE(K8:AE8,{1;2;3;4;5;6;7;8;9;10;11;12;13;14;15}))+AF8),SUM(K8:AF8))","v":50},25,25,null,null,null,null,null,null,null,null,null,null,null,null,null,null,null,null,null,null,null,null,{"$f":"COUNTIF(K8:AF8,\">=1\")-I8","v":0}]
["W",{"$f":"IF(ISBLANK(E9),\"\",LOOKUP(IF(2000+E9>$G$1,1900+E9,2000+E9),Tabelle2!A:A,Tabelle2!C:C))","v":"U14"},{"$f":"IF(G9>=1,SUMPRODUCT(($A$6:$A$418=A9)*($B$6:$B$418=B9)*($G$6:$G$418>G9))+1,\"\")","v":2},"Lange, Lilli",10,"TSV Leuna Ski",{"$f":"H9+J9","v":24},{"$f":"COUNTIF(K9:AE9,\">=1\")+COUNTIF(K9:AE9,\"T\")","v":1},{"$f":"MIN(15,COUNTIF(K9:AE9,\">=1\"))","v":1},{"$f":"IF(I9>=15,(SUM(LARGE(K9:AE9,{1;2;3;4;5;6;7;8;9;10;11;12;13;14;15}))+AF9),SUM(K9:AF9))","v":23},null,23,null,null,null,null,null,null,null,null,null,null,null,null,null,null,null,null,null,null,null,null,{"$f":"COUNTIF(K9:AF9,\">=1\")-I9","v":0}]
["W",{"$f":"IF(ISBLANK(E10),\"\",LOOKUP(IF(2000+E10>$G$1,1900+E10,2000+E10),Tabelle2!A:A,Tabelle2!C:C))","v":"U14"},{"$f":"IF(G10>=1,SUMPRODUCT(($A$6:$A$418=A10)*($B$6:$B$418=B10)*($G$6:$G$418>G10))+1,\"\")","v":""},"Brammertz, Laura",10,"SV Braunsbedra",{"$f":"H10+J10","v":0},{"$f":"COUNTIF(K10:AE10,\">=1\")+COUNTIF(K10:AE10,\"T\")","v":0},{"$f":"MIN(15,COUNTIF(K10:AE10,\">=1\"))","v":0},{"$f":"IF(I10>=15,(SUM(LARGE(K10:AE10,{1;2;3;4;5;6;7;8;9;10;11;12;13;14;15}))+AF10),SUM(K10:AF10))","v":0},null,null,null,null,null,null,null,null,null,null,null,null,null,null,null,null,null,null,null,null,null,null,{"$f":"COUNTIF(K10:AF10,\">=1\")-I10","v":0}]
["W",{"$f":"IF(ISBLANK(E11),\"\",LOOKUP(IF(2000+E11>$G$1,1900+E11,2000+E11),Tabelle2!A:A,Tabelle2!C:C))","v":"U14"},{"$f":"IF(G11>=1,SUMPRODUCT(($A$6:$A$418=A11)*($B$6:$B$418=B11)*($G$6:$G$418>G11))+1,\"\")","v":""},"Witzsche, Yasmin",10,"TSV Leuna Ski",{"$f":"H11+J11","v":0},{"$f":"COUNTIF(K11:AE11,\">=1\")+COUNTIF(K11:AE11,\"T\")","v":0},{"$f":"MIN(15,COUNTIF(K11:AE11,\">=1\"))","v":0},{"$f":"IF(I11>=15,(SUM(LARGE(K11:AE11,{1;2;3;4;5;6;7;8;9;10;11;12;13;14;15}))+AF11),SUM(K11:AF11))","v":0},null,null,null,null,null,null,null,null,null,null,null,null,null,null,null,null,null,null,null,null,null,null,{"$f":"COUNTIF(K11:AF11,\">=1\")-I11","v":0}]
["W",{"$f":"IF(ISBLANK(E12),\"\",LOOKUP(IF(2000+E12>$G$1,1900+E12,2000+E12),Tabelle2!A:A,Tabelle2!C:C))","v":"U14"},{"$f":"IF(G12>=1,SUMPRODUCT(($A$6:$A$418=A12)*($B$6:$B$418=B12)*($G$6:$G$418>G12))+1,\"\")","v":""},"Zentrich, Luise",10,"SV Braunsbedra",{"$f":"H12+J12","v":0},{"$f":"COUNTIF(K12:AE12,\">=1\")+COUNTIF(K12:AE12,\"T\")","v":0},{"$f":"MIN(15,COUNTIF(K12:AE12,\">=1\"))","v":0},{"$f":"IF(I12>=15,(SUM(LARGE(K12:AE12,{1;2;3;4;5;6;7;8;9;10;11;12;13;14;15}))+AF12),SUM(K12:AF12))","v":0},null,null,null,null,null,null,null,null,null,null,null,null,null,null,null,null,null,null,null,null,null,null,{"$f":"COUNTIF(K12:AF12,\">=1\")-I12","v":0}]
["W",{"$f":"IF(ISBLANK(E13),\"\",LOOKUP(IF(2000+E13>$G$1,1900+E13,2000+E13),Tabelle2!A:A,Tabelle2!C:C))","v":"U16"},{"$f":"IF(G13>=1,SUMPRODUCT(($A$6:$A$418=A13)*($B$6:$B$418=B13)*($G$6:$G$418>G13))+1,\"\")","v":1},"Becker, Pia-Marie",9,"SV Braunsbedra",{"$f":"H13+J13","v":52},{"$f":"COUNTIF(K13:AE13,\">=1\")+COUNTIF(K13:AE13,\"T\")","v":2},{"$f":"MIN(15,COUNTIF(K13:AE13,\">=1\"))","v":2},{"$f":"IF(I13>=15,(SUM(LARGE(K13:AE13,{1;2;3;4;5;6;7;8;9;10;11;12;13;14;15}))+AF13),SUM(K13:AF13))","v":50},25,25,null,null,null,null,null,null,null,null,null,null,null,null,null,null,null,null,null,null,null,null,{"$f":"COUNTIF(K13:AF13,\">=1\")-I13","v":0}]
["W",{"$f":"IF(ISBLANK(E14),\"\",LOOKUP(IF(2000+E14>$G$1,1900+E14,2000+E14),Tabelle2!A:A,Tabelle2!C:C))","v":"U16"},{"$f":"IF(G14>=1,SUMPRODUCT(($A$6:$A$418=A14)*($B$6:$B$418=B14)*($G$6:$G$418>G14))+1,\"\")","v":2},"Hauptrock, Judy",9,"TSV Leuna Ski",{"$f":"H14+J14","v":26},{"$f":"COUNTIF(K14:AE14,\">=1\")+COUNTIF(K14:AE14,\"T\")","v":1},{"$f":"MIN(15,COUNTIF(K14:AE14,\">=1\"))","v":1},{"$f":"IF(I14>=15,(SUM(LARGE(K14:AE14,{1;2;3;4;5;6;7;8;9;10;11;12;13;14;15}))+AF14),SUM(K14:AF14))","v":25},null,25,null,null,null,null,null,null,null,null,null,null,null,null,null,null,null,null,null,null,null,null,{"$f":"COUNTIF(K14:AF14,\">=1\")-I14","v":0}]
["W",{"$f":"IF(ISBLANK(E15),\"\",LOOKUP(IF(2000+E15>$G$1,1900+E15,2000+E15),Tabelle2!A:A,Tabelle2!C:C))","v":"U16"},{"$f":"IF(G15>=1,SUMPRODUCT(($A$6:$A$418=A15)*($B$6:$B$418=B15)*($G$6:$G$418>G15))+1,\"\")","v":""},"Dittrich, Johanna",8,"WHV 91",{"$f":"H15+J15","v":0},{"$f":"COUNTIF(K15:AE15,\">=1\")+COUNTIF(K15:AE15,\"T\")","v":0},{"$f":"MIN(15,COUNTIF(K15:AE15,\">=1\"))","v":0},{"$f":"IF(I15>=15,(SUM(LARGE(K15:AE15,{1;2;3;4;5;6;7;8;9;10;11;12;13;14;15}))+AF15),SUM(K15:AF15))","v":0},null,null,null,null,null,null,null,null,null,null,null,null,null,null,null,null,null,null,null,null,null,null,{"$f":"COUNTIF(K15:AF15,\">=1\")-I15","v":0}]
["W",{"$f":"IF(ISBLANK(E16),\"\",LOOKUP(IF(2000+E16>$G$1,1900+E16,2000+E16),Tabelle2!A:A,Tabelle2!C:C))","v":"U16"},{"$f":"IF(G16>=1,SUMPRODUCT(($A$6:$A$418=A16)*($B$6:$B$418=B16)*($G$6:$G$418>G16))+1,\"\")","v":""},"Hähnel, Allega",8,"TSV Leuna Ski",{"$f":"H16+J16","v":0},{"$f":"COUNTIF(K16:AE16,\">=1\")+COUNTIF(K16:AE16,\"T\")","v":0},{"$f":"MIN(15,COUNTIF(K16:AE16,\">=1\"))","v":0},{"$f":"IF(I16>=15,(SUM(LARGE(K16:AE16,{1;2;3;4;5;6;7;8;9;10;11;12;13;14;15}))+AF16),SUM(K16:AF16))","v":0},null,null,null,null,null,null,null,null,null,null,null,null,null,null,null,null,null,null,null,null,null,null,{"$f":"COUNTIF(K16:AF16,\">=1\")-I16","v":0}]
["W",{"$f":"IF(ISBLANK(E17),\"\",LOOKUP(IF(2000+E17>$G$1,1900+E17,2000+E17),Tabelle2!A:A,Tabelle2!C:C))","v":"U18"},{"$f":"IF(G17>=1,SUMPRODUCT(($A$6:$A$418=A17)*($B$6:$B$418=B17)*($G$6:$G$418>G17))+1,\"\")","v":1},"Liebscher, Julia",7,"SV Braunsbedra",{"$f":"H17+J17","v":26},{"$f":"COUNTIF(K17:AE17,\">=1\")+COUNTIF(K17:AE17,\"T\")","v":1},{"$f":"MIN(15,COUNTIF(K17:AE17,\">=1\"))","v":1},{"$f":"IF(I17>=15,(SUM(LARGE(K17:AE17,{1;2;3;4;5;6;7;8;9;10;11;12;13;14;15}))+AF17),SUM(K17:AF17))","v":25},null,25,null,null,null,null,null,null,null,null,null,null,null,null,null,null,null,null,null,null,null,null,{"$f":"COUNTIF(K17:AF17,\">=1\")-I17","v":0}]
["W",{"$f":"IF(ISBLANK(E18),\"\",LOOKUP(IF(2000+E18>$G$1,1900+E18,2000+E18),Tabelle2!A:A,Tabelle2!C:C))","v":"U18"},{"$f":"IF(G18>=1,SUMPRODUCT(($A$6:$A$418=A18)*($B$6:$B$418=B18)*($G$6:$G$418>G18))+1,\"\")","v":""},"Hassenmeier, Maren",7,"SV Brajunsbedra",{"$f":"H18+J18","v":0},{"$f":"COUNTIF(K18:AE18,\">=1\")+COUNTIF(K18:AE18,\"T\")","v":0},{"$f":"MIN(15,COUNTIF(K18:AE18,\">=1\"))","v":0},{"$f":"IF(I18>=15,(SUM(LARGE(K18:AE18,{1;2;3;4;5;6;7;8;9;10;11;12;13;14;15}))+AF18),SUM(K18:AF18))","v":0},null,null,null,null,null,null,null,null,null,null,null,null,null,null,null,null,null,null,null,null,null,null,{"$f":"COUNTIF(K18:AF18,\">=1\")-I18","v":0}]
["W",{"$f":"IF(ISBLANK(E19),\"\",LOOKUP(IF(2000+E19>$G$1,1900+E19,2000+E19),Tabelle2!A:A,Tabelle2!C:C))","v":"U20"},{"$f":"IF(G19>=1,SUMPRODUCT(($A$6:$A$418=A19)*($B$6:$B$418=B19)*($G$6:$G$418>G19))+1,\"\")","v":1},"Krebs, Carolin ",4,"Gutenberg",{"$f":"H19+J19","v":26},{"$f":"COUNTIF(K19:AE19,\">=1\")+COUNTIF(K19:AE19,\"T\")","v":1},{"$f":"MIN(15,COUNTIF(K19:AE19,\">=1\"))","v":1},{"$f":"IF(I19>=15,(SUM(LARGE(K19:AE19,{1;2;3;4;5;6;7;8;9;10;11;12;13;14;15}))+AF19),SUM(K19:AF19))","v":25},null,25,null,null,null,null,null,null,null,null,null,null,null,null,null,null,null,null,null,null,null,null,{"$f":"COUNTIF(K19:AF19,\">=1\")-I19","v":0}]
["W",{"$f":"IF(ISBLANK(E20),\"\",LOOKUP(IF(2000+E20>$G$1,1900+E20,2000+E20),Tabelle2!A:A,Tabelle2!C:C))","v":20},{"$f":"IF(G20>=1,SUMPRODUCT(($A$6:$A$418=A20)*($B$6:$B$418=B20)*($G$6:$G$418>G20))+1,\"\")","v":""},"Krakowiak, Laura",96,"Mücheln",{"$f":"H20+J20","v":0},{"$f":"COUNTIF(K20:AE20,\">=1\")+COUNTIF(K20:AE20,\"T\")","v":0},{"$f":"MIN(15,COUNTIF(K20:AE20,\">=1\"))","v":0},{"$f":"IF(I20>=15,(SUM(LARGE(K20:AE20,{1;2;3;4;5;6;7;8;9;10;11;12;13;14;15}))+AF20),SUM(K20:AF20))","v":0},null,null,null,null,null,null,null,null,null,null,null,null,null,null,null,null,null,null,null,null,null,null,{"$f":"COUNTIF(K20:AF20,\">=1\")-I20","v":0}]
["W",{"$f":"IF(ISBLANK(E21),\"\",LOOKUP(IF(2000+E21>$G$1,1900+E21,2000+E21),Tabelle2!A:A,Tabelle2!C:C))","v":20},{"$f":"IF(G21>=1,SUMPRODUCT(($A$6:$A$418=A21)*($B$6:$B$418=B21)*($G$6:$G$418>G21))+1,\"\")","v":""},"Schier, Maria",3,"Braunsbedra",{"$f":"H21+J21","v":0},{"$f":"COUNTIF(K21:AE21,\">=1\")+COUNTIF(K21:AE21,\"T\")","v":0},{"$f":"MIN(15,COUNTIF(K21:AE21,\">=1\"))","v":0},{"$f":"IF(I21>=15,(SUM(LARGE(K21:AE21,{1;2;3;4;5;6;7;8;9;10;11;12;13;14;15}))+AF21),SUM(K21:AF21))","v":0},null,null,null,null,null,null,null,null,null,null,null,null,null,null,null,null,null,null,null,null,null,null,{"$f":"COUNTIF(K21:AF21,\">=1\")-I21","v":0}]
["W",{"$f":"IF(ISBLANK(E22),\"\",LOOKUP(IF(2000+E22>$G$1,1900+E22,2000+E22),Tabelle2!A:A,Tabelle2!C:C))","v":20},{"$f":"IF(G22>=1,SUMPRODUCT(($A$6:$A$418=A22)*($B$6:$B$418=B22)*($G$6:$G$418>G22))+1,\"\")","v":""},"Walther, Carolin",94,"Mücheln",{"$f":"H22+J22","v":0},{"$f":"COUNTIF(K22:AE22,\">=1\")+COUNTIF(K22:AE22,\"T\")","v":0},{"$f":"MIN(15,COUNTIF(K22:AE22,\">=1\"))","v":0},{"$f":"IF(I22>=15,(SUM(LARGE(K22:AE22,{1;2;3;4;5;6;7;8;9;10;11;12;13;14;15}))+AF22),SUM(K22:AF22))","v":0},null,null,null,null,null,null,null,null,null,null,null,null,null,null,null,null,null,null,null,null,null,null,{"$f":"COUNTIF(K22:AF22,\">=1\")-I22","v":0}]
["W",{"$f":"IF(ISBLANK(E23),\"\",LOOKUP(IF(2000+E23>$G$1,1900+E23,2000+E23),Tabelle2!A:A,Tabelle2!C:C))","v":30},{"$f":"IF(G23>=1,SUMPRODUCT(($A$6:$A$418=A23)*($B$6:$B$418=B23)*($G$6:$G$418>G23))+1,\"\")","v":1},"Bernstein, Tessa",93,"Bad Dürrenberg",{"$f":"H23+J23","v":21},{"$f":"COUNTIF(K23:AE23,\">=1\")+COUNTIF(K23:AE23,\"T\")","v":1},{"$f":"MIN(15,COUNTIF(K23:AE23,\">=1\"))","v":1},{"$f":"IF(I23>=15,(SUM(LARGE(K23:AE23,{1;2;3;4;5;6;7;8;9;10;11;12;13;14;15}))+AF23),SUM(K23:AF23))","v":20},20,null,null,null,null,null,null,null,null,null,null,null,null,null,null,null,null,null,null,null,null,null,{"$f":"COUNTIF(K23:AF23,\">=1\")-I23","v":0}]
["W",{"$f":"IF(ISBLANK(E24),\"\",LOOKUP(IF(2000+E24>$G$1,1900+E24,2000+E24),Tabelle2!A:A,Tabelle2!C:C))","v":30},{"$f":"IF(G24>=1,SUMPRODUCT(($A$6:$A$418=A24)*($B$6:$B$418=B24)*($G$6:$G$418>G24))+1,\"\")","v":""},"Geck, Jessy",92,"Merseburg",{"$f":"H24+J24","v":0},{"$f":"COUNTIF(K24:AE24,\">=1\")+COUNTIF(K24:AE24,\"T\")","v":0},{"$f":"MIN(15,COUNTIF(K24:AE24,\">=1\"))","v":0},{"$f":"IF(I24>=15,(SUM(LARGE(K24:AE24,{1;2;3;4;5;6;7;8;9;10;11;12;13;14;15}))+AF24),SUM(K24:AF24))","v":0},null,null,null,null,null,null,null,null,null,null,null,null,null,null,null,null,null,null,null,null,null,null,{"$f":"COUNTIF(K24:AF24,\">=1\")-I24","v":0}]
["W",{"$f":"IF(ISBLANK(E25),\"\",LOOKUP(IF(2000+E25>$G$1,1900+E25,2000+E25),Tabelle2!A:A,Tabelle2!C:C))","v":30},{"$f":"IF(G25>=1,SUMPRODUCT(($A$6:$A$418=A25)*($B$6:$B$418=B25)*($G$6:$G$418>G25))+1,\"\")","v":""},"Giewolles, Juliane",89,"Frankleben",{"$f":"H25+J25","v":0},{"$f":"COUNTIF(K25:AE25,\">=1\")+COUNTIF(K25:AE25,\"T\")","v":0},{"$f":"MIN(15,COUNTIF(K25:AE25,\">=1\"))","v":0},{"$f":"IF(I25>=15,(SUM(LARGE(K25:AE25,{1;2;3;4;5;6;7;8;9;10;11;12;13;14;15}))+AF25),SUM(K25:AF25))","v":0},null,null,null,null,null,null,null,null,null,null,null,null,null,null,null,null,null,null,null,null,null,null,{"$f":"COUNTIF(K25:AF25,\">=1\")-I25","v":0}]
["W",{"$f":"IF(ISBLANK(E26),\"\",LOOKUP(IF(2000+E26>$G$1,1900+E26,2000+E26),Tabelle2!A:A,Tabelle2!C:C))","v":30},{"$f":"IF(G26>=1,SUMPRODUCT(($A$6:$A$418=A26)*($B$6:$B$418=B26)*($G$6:$G$418>G26))+1,\"\")","v":""},"Hippe, Juliane",89,"Merseburg",{"$f":"H26+J26","v":0},{"$f":"COUNTIF(K26:AE26,\">=1\")+COUNTIF(K26:AE26,\"T\")","v":0},{"$f":"MIN(15,COUNTIF(K26:AE26,\">=1\"))","v":0},{"$f":"IF(I26>=15,(SUM(LARGE(K26:AE26,{1;2;3;4;5;6;7;8;9;10;11;12;13;14;15}))+AF26),SUM(K26:AF26))","v":0},null,null,null,null,null,null,null,null,null,null,null,null,null,null,null,null,null,null,null,null,null,null,{"$f":"COUNTIF(K26:AF26,\">=1\")-I26","v":0}]
["W",{"$f":"IF(ISBLANK(E27),\"\",LOOKUP(IF(2000+E27>$G$1,1900+E27,2000+E27),Tabelle2!A:A,Tabelle2!C:C))","v":30},{"$f":"IF(G27>=1,SUMPRODUCT(($A$6:$A$418=A27)*($B$6:$B$418=B27)*($G$6:$G$418>G27))+1,\"\")","v":""},"Josch, Janet",89,"Bad Lauchstädt",{"$f":"H27+J27","v":0},{"$f":"COUNTIF(K27:AE27,\">=1\")+COUNTIF(K27:AE27,\"T\")","v":0},{"$f":"MIN(15,COUNTIF(K27:AE27,\">=1\"))","v":0},{"$f":"IF(I27>=15,(SUM(LARGE(K27:AE27,{1;2;3;4;5;6;7;8;9;10;11;12;13;14;15}))+AF27),SUM(K27:AF27))","v":0},null,null,null,null,null,null,null,null,null,null,null,null,null,null,null,null,null,null,null,null,null,null,{"$f":"COUNTIF(K27:AF27,\">=1\")-I27","v":0}]
["W",{"$f":"IF(ISBLANK(E28),\"\",LOOKUP(IF(2000+E28>$G$1,1900+E28,2000+E28),Tabelle2!A:A,Tabelle2!C:C))","v":35},{"$f":"IF(G28>=1,SUMPRODUCT(($A$6:$A$418=A28)*($B$6:$B$418=B28)*($G$6:$G$418>G28))+1,\"\")","v":1},"Bergner, Elena",84,"TSV Leuna Ski",{"$f":"H28+J28","v":21},{"$f":"COUNTIF(K28:AE28,\">=1\")+COUNTIF(K28:AE28,\"T\")","v":1},{"$f":"MIN(15,COUNTIF(K28:AE28,\">=1\"))","v":1},{"$f":"IF(I28>=15,(SUM(LARGE(K28:AE28,{1;2;3;4;5;6;7;8;9;10;11;12;13;14;15}))+AF28),SUM(K28:AF28))","v":20},null,20,null,null,null,null,null,null,null,null,null,null,null,null,null,null,null,null,null,null,null,null,{"$f":"COUNTIF(K28:AF28,\">=1\")-I28","v":0}]
["W",{"$f":"IF(ISBLANK(E29),\"\",LOOKUP(IF(2000+E29>$G$1,1900+E29,2000+E29),Tabelle2!A:A,Tabelle2!C:C))","v":35},{"$f":"IF(G29>=1,SUMPRODUCT(($A$6:$A$418=A29)*($B$6:$B$418=B29)*($G$6:$G$418>G29))+1,\"\")","v":2},"Heimann, Steffi",86,"SV Braunsbedra",{"$f":"H29+J29","v":16},{"$f":"COUNTIF(K29:AE29,\">=1\")+COUNTIF(K29:AE29,\"T\")","v":1},{"$f":"MIN(15,COUNTIF(K29:AE29,\">=1\"))","v":1},{"$f":"IF(I29>=15,(SUM(LARGE(K29:AE29,{1;2;3;4;5;6;7;8;9;10;11;12;13;14;15}))+AF29),SUM(K29:AF29))","v":15},15,null,null,null,null,null,null,null,null,null,null,null,null,null,null,null,null,null,null,null,null,null,{"$f":"COUNTIF(K29:AF29,\">=1\")-I29","v":0}]
["W",{"$f":"IF(ISBLANK(E30),\"\",LOOKUP(IF(2000+E30>$G$1,1900+E30,2000+E30),Tabelle2!A:A,Tabelle2!C:C))","v":35},{"$f":"IF(G30>=1,SUMPRODUCT(($A$6:$A$418=A30)*($B$6:$B$418=B30)*($G$6:$G$418>G30))+1,\"\")","v":""},"Engel, Franka",85,"SV Braunsbedra",{"$f":"H30+J30","v":0},{"$f":"COUNTIF(K30:AE30,\">=1\")+COUNTIF(K30:AE30,\"T\")","v":0},{"$f":"MIN(15,COUNTIF(K30:AE30,\">=1\"))","v":0},{"$f":"IF(I30>=15,(SUM(LARGE(K30:AE30,{1;2;3;4;5;6;7;8;9;10;11;12;13;14;15}))+AF30),SUM(K30:AF30))","v":0},null,null,null,null,null,null,null,null,null,null,null,null,null,null,null,null,null,null,null,null,null,null,{"$f":"COUNTIF(K30:AF30,\">=1\")-I30","v":0}]
["W",{"$f":"IF(ISBLANK(E31),\"\",LOOKUP(IF(2000+E31>$G$1,1900+E31,2000+E31),Tabelle2!A:A,Tabelle2!C:C))","v":35},{"$f":"IF(G31>=1,SUMPRODUCT(($A$6:$A$418=A31)*($B$6:$B$418=B31)*($G$6:$G$418>G31))+1,\"\")","v":""},"Haring, Anika",86,"Kinderträume Merseburg",{"$f":"H31+J31","v":0},{"$f":"COUNTIF(K31:AE31,\">=1\")+COUNTIF(K31:AE31,\"T\")","v":0},{"$f":"MIN(15,COUNTIF(K31:AE31,\">=1\"))","v":0},{"$f":"IF(I31>=15,(SUM(LARGE(K31:AE31,{1;2;3;4;5;6;7;8;9;10;11;12;13;14;15}))+AF31),SUM(K31:AF31))","v":0},null,null,null,null,null,null,null,null,null,null,null,null,null,null,null,null,null,null,null,null,null,null,{"$f":"COUNTIF(K31:AF31,\">=1\")-I31","v":0}]
["W",{"$f":"IF(ISBLANK(E32),\"\",LOOKUP(IF(2000+E32>$G$1,1900+E32,2000+E32),Tabelle2!A:A,Tabelle2!C:C))","v":35},{"$f":"IF(G32>=1,SUMPRODUCT(($A$6:$A$418=A32)*($B$6:$B$418=B32)*($G$6:$G$418>G32))+1,\"\")","v":""},"Müller, Antje",87,"Roßbach",{"$f":"H32+J32","v":0},{"$f":"COUNTIF(K32:AE32,\">=1\")+COUNTIF(K32:AE32,\"T\")","v":0},{"$f":"MIN(15,COUNTIF(K32:AE32,\">=1\"))","v":0},{"$f":"IF(I32>=15,(SUM(LARGE(K32:AE32,{1;2;3;4;5;6;7;8;9;10;11;12;13;14;15}))+AF32),SUM(K32:AF32))","v":0},null,null,null,null,null,null,null,null,null,null,null,null,null,null,null,null,null,null,null,null,null,null,{"$f":"COUNTIF(K32:AF32,\">=1\")-I32","v":0}]
["W",{"$f":"IF(ISBLANK(E33),\"\",LOOKUP(IF(2000+E33>$G$1,1900+E33,2000+E33),Tabelle2!A:A,Tabelle2!C:C))","v":35},{"$f":"IF(G33>=1,SUMPRODUCT(($A$6:$A$418=A33)*($B$6:$B$418=B33)*($G$6:$G$418>G33))+1,\"\")","v":""},"Vogler, Stefanie",85,"Gröst",{"$f":"H33+J33","v":0},{"$f":"COUNTIF(K33:AE33,\">=1\")+COUNTIF(K33:AE33,\"T\")","v":0},{"$f":"MIN(15,COUNTIF(K33:AE33,\">=1\"))","v":0},{"$f":"IF(I33>=15,(SUM(LARGE(K33:AE33,{1;2;3;4;5;6;7;8;9;10;11;12;13;14;15}))+AF33),SUM(K33:AF33))","v":0},null,null,null,null,null,null,null,null,null,null,null,null,null,null,null,null,null,null,null,null,null,null,{"$f":"COUNTIF(K33:AF33,\">=1\")-I33","v":0}]
["W",{"$f":"IF(ISBLANK(E34),\"\",LOOKUP(IF(2000+E34>$G$1,1900+E34,2000+E34),Tabelle2!A:A,Tabelle2!C:C))","v":35},{"$f":"IF(G34>=1,SUMPRODUCT(($A$6:$A$418=A34)*($B$6:$B$418=B34)*($G$6:$G$418>G34))+1,\"\")","v":""},"Vorrath, Nancy",86,"TSV Leuna Ski",{"$f":"H34+J34","v":0},{"$f":"COUNTIF(K34:AE34,\">=1\")+COUNTIF(K34:AE34,\"T\")","v":0},{"$f":"MIN(15,COUNTIF(K34:AE34,\">=1\"))","v":0},{"$f":"IF(I34>=15,(SUM(LARGE(K34:AE34,{1;2;3;4;5;6;7;8;9;10;11;12;13;14;15}))+AF34),SUM(K34:AF34))","v":0},null,null,null,null,null,null,null,null,null,null,null,null,null,null,null,null,null,null,null,null,null,null,{"$f":"COUNTIF(K34:AF34,\">=1\")-I34","v":0}]
["W",{"$f":"IF(ISBLANK(E35),\"\",LOOKUP(IF(2000+E35>$G$1,1900+E35,2000+E35),Tabelle2!A:A,Tabelle2!C:C))","v":35},{"$f":"IF(G35>=1,SUMPRODUCT(($A$6:$A$418=A35)*($B$6:$B$418=B35)*($G$6:$G$418>G35))+1,\"\")","v":""},"Weber, Anne",88,"Barnstädt",{"$f":"H35+J35","v":0},{"$f":"COUNTIF(K35:AE35,\">=1\")+COUNTIF(K35:AE35,\"T\")","v":0},{"$f":"MIN(15,COUNTIF(K35:AE35,\">=1\"))","v":0},{"$f":"IF(I35>=15,(SUM(LARGE(K35:AE35,{1;2;3;4;5;6;7;8;9;10;11;12;13;14;15}))+AF35),SUM(K35:AF35))","v":0},null,null,null,null,null,null,null,null,null,null,null,null,null,null,null,null,null,null,null,null,null,null,{"$f":"COUNTIF(K35:AF35,\">=1\")-I35","v":0}]
["W",{"$f":"IF(ISBLANK(E36),\"\",LOOKUP(IF(2000+E36>$G$1,1900+E36,2000+E36),Tabelle2!A:A,Tabelle2!C:C))","v":40},{"$f":"IF(G36>=1,SUMPRODUCT(($A$6:$A$418=A36)*($B$6:$B$418=B36)*($G$6:$G$418>G36))+1,\"\")","v":1},"Köller, Susan",83,"TC Merseburg",{"$f":"H36+J36","v":42},{"$f":"COUNTIF(K36:AE36,\">=1\")+COUNTIF(K36:AE36,\"T\")","v":2},{"$f":"MIN(15,COUNTIF(K36:AE36,\">=1\"))","v":2},{"$f":"IF(I36>=15,(SUM(LARGE(K36:AE36,{1;2;3;4;5;6;7;8;9;10;11;12;13;14;15}))+AF36),SUM(K36:AF36))","v":40},20,20,null,null,null,null,null,null,null,null,null,null,null,null,null,null,null,null,null,null,null,null,{"$f":"COUNTIF(K36:AF36,\">=1\")-I36","v":0}]
["W",{"$f":"IF(ISBLANK(E37),\"\",LOOKUP(IF(2000+E37>$G$1,1900+E37,2000+E37),Tabelle2!A:A,Tabelle2!C:C))","v":40},{"$f":"IF(G37>=1,SUMPRODUCT(($A$6:$A$418=A37)*($B$6:$B$418=B37)*($G$6:$G$418>G37))+1,\"\")","v":2},"Block, Anett",79,"SV Braunsbedra",{"$f":"H37+J37","v":38},{"$f":"COUNTIF(K37:AE37,\">=1\")+COUNTIF(K37:AE37,\"T\")","v":2},{"$f":"MIN(15,COUNTIF(K37:AE37,\">=1\"))","v":2},{"$f":"IF(I37>=15,(SUM(LARGE(K37:AE37,{1;2;3;4;5;6;7;8;9;10;11;12;13;14;15}))+AF37),SUM(K37:AF37))","v":36},18,18,null,null,null,null,null,null,null,null,null,null,null,null,null,null,null,null,null,null,null,null,{"$f":"COUNTIF(K37:AF37,\">=1\")-I37","v":0}]
["W",{"$f":"IF(ISBLANK(E38),\"\",LOOKUP(IF(2000+E38>$G$1,1900+E38,2000+E38),Tabelle2!A:A,Tabelle2!C:C))","v":40},{"$f":"IF(G38>=1,SUMPRODUCT(($A$6:$A$418=A38)*($B$6:$B$418=B38)*($G$6:$G$418>G38))+1,\"\")","v":""},"Bischof, Katrin",81,"SV Braunsbedra",{"$f":"H38+J38","v":0},{"$f":"COUNTIF(K38:AE38,\">=1\")+COUNTIF(K38:AE38,\"T\")","v":0},{"$f":"MIN(15,COUNTIF(K38:AE38,\">=1\"))","v":0},{"$f":"IF(I38>=15,(SUM(LARGE(K38:AE38,{1;2;3;4;5;6;7;8;9;10;11;12;13;14;15}))+AF38),SUM(K38:AF38))","v":0},null,null,null,null,null,null,null,null,null,null,null,null,null,null,null,null,null,null,null,null,null,null,{"$f":"COUNTIF(K38:AF38,\">=1\")-I38","v":0}]
["W",{"$f":"IF(ISBLANK(E39),\"\",LOOKUP(IF(2000+E39>$G$1,1900+E39,2000+E39),Tabelle2!A:A,Tabelle2!C:C))","v":40},{"$f":"IF(G39>=1,SUMPRODUCT(($A$6:$A$418=A39)*($B$6:$B$418=B39)*($G$6:$G$418>G39))+1,\"\")","v":""},"Buttstädt, Nicole",83,"Braunsbedra",{"$f":"H39+J39","v":0},{"$f":"COUNTIF(K39:AE39,\">=1\")+COUNTIF(K39:AE39,\"T\")","v":0},{"$f":"MIN(15,COUNTIF(K39:AE39,\">=1\"))","v":0},{"$f":"IF(I39>=15,(SUM(LARGE(K39:AE39,{1;2;3;4;5;6;7;8;9;10;11;12;13;14;15}))+AF39),SUM(K39:AF39))","v":0},null,null,null,null,null,null,null,null,null,null,null,null,null,null,null,null,null,null,null,null,null,null,{"$f":"COUNTIF(K39:AF39,\">=1\")-I39","v":0}]
["W",{"$f":"IF(ISBLANK(E40),\"\",LOOKUP(IF(2000+E40>$G$1,1900+E40,2000+E40),Tabelle2!A:A,Tabelle2!C:C))","v":40},{"$f":"IF(G40>=1,SUMPRODUCT(($A$6:$A$418=A40)*($B$6:$B$418=B40)*($G$6:$G$418>G40))+1,\"\")","v":""},"Grabowski, Carolin",82,"Roßbach",{"$f":"H40+J40","v":0},{"$f":"COUNTIF(K40:AE40,\">=1\")+COUNTIF(K40:AE40,\"T\")","v":0},{"$f":"MIN(15,COUNTIF(K40:AE40,\">=1\"))","v":0},{"$f":"IF(I40>=15,(SUM(LARGE(K40:AE40,{1;2;3;4;5;6;7;8;9;10;11;12;13;14;15}))+AF40),SUM(K40:AF40))","v":0},null,null,null,null,null,null,null,null,null,null,null,null,null,null,null,null,null,null,null,null,null,null,{"$f":"COUNTIF(K40:AF40,\">=1\")-I40","v":0}]
["W",{"$f":"IF(ISBLANK(E41),\"\",LOOKUP(IF(2000+E41>$G$1,1900+E41,2000+E41),Tabelle2!A:A,Tabelle2!C:C))","v":40},{"$f":"IF(G41>=1,SUMPRODUCT(($A$6:$A$418=A41)*($B$6:$B$418=B41)*($G$6:$G$418>G41))+1,\"\")","v":""},"Kramer, Susanne",83,"TC Merseburg",{"$f":"H41+J41","v":0},{"$f":"COUNTIF(K41:AE41,\">=1\")+COUNTIF(K41:AE41,\"T\")","v":0},{"$f":"MIN(15,COUNTIF(K41:AE41,\">=1\"))","v":0},{"$f":"IF(I41>=15,(SUM(LARGE(K41:AE41,{1;2;3;4;5;6;7;8;9;10;11;12;13;14;15}))+AF41),SUM(K41:AF41))","v":0},null,null,null,null,null,null,null,null,null,null,null,null,null,null,null,null,null,null,null,null,null,null,{"$f":"COUNTIF(K41:AF41,\">=1\")-I41","v":0}]
["W",{"$f":"IF(ISBLANK(E42),\"\",LOOKUP(IF(2000+E42>$G$1,1900+E42,2000+E42),Tabelle2!A:A,Tabelle2!C:C))","v":40},{"$f":"IF(G42>=1,SUMPRODUCT(($A$6:$A$418=A42)*($B$6:$B$418=B42)*($G$6:$G$418>G42))+1,\"\")","v":""},"Patzner, Sina",83,"Langeneichstädt",{"$f":"H42+J42","v":0},{"$f":"COUNTIF(K42:AE42,\">=1\")+COUNTIF(K42:AE42,\"T\")","v":0},{"$f":"MIN(15,COUNTIF(K42:AE42,\">=1\"))","v":0},{"$f":"IF(I42>=15,(SUM(LARGE(K42:AE42,{1;2;3;4;5;6;7;8;9;10;11;12;13;14;15}))+AF42),SUM(K42:AF42))","v":0},null,null,null,null,null,null,null,null,null,null,null,null,null,null,null,null,null,null,null,null,null,null,{"$f":"COUNTIF(K42:AF42,\">=1\")-I42","v":0}]
["W",{"$f":"IF(ISBLANK(E43),\"\",LOOKUP(IF(2000+E43>$G$1,1900+E43,2000+E43),Tabelle2!A:A,Tabelle2!C:C))","v":40},{"$f":"IF(G43>=1,SUMPRODUCT(($A$6:$A$418=A43)*($B$6:$B$418=B43)*($G$6:$G$418>G43))+1,\"\")","v":""},"Robel, Sabrina",80,"LA Braunsbedra",{"$f":"H43+J43","v":0},{"$f":"COUNTIF(K43:AE43,\">=1\")+COUNTIF(K43:AE43,\"T\")","v":0},{"$f":"MIN(15,COUNTIF(K43:AE43,\">=1\"))","v":0},{"$f":"IF(I43>=15,(SUM(LARGE(K43:AE43,{1;2;3;4;5;6;7;8;9;10;11;12;13;14;15}))+AF43),SUM(K43:AF43))","v":0},null,null,null,null,null,null,null,null,null,null,null,null,null,null,null,null,null,null,null,null,null,null,{"$f":"COUNTIF(K43:AF43,\">=1\")-I43","v":0}]
["W",{"$f":"IF(ISBLANK(E44),\"\",LOOKUP(IF(2000+E44>$G$1,1900+E44,2000+E44),Tabelle2!A:A,Tabelle2!C:C))","v":40},{"$f":"IF(G44>=1,SUMPRODUCT(($A$6:$A$418=A44)*($B$6:$B$418=B44)*($G$6:$G$418>G44))+1,\"\")","v":""},"Welner, Diana",81,"Leuna",{"$f":"H44+J44","v":0},{"$f":"COUNTIF(K44:AE44,\">=1\")+COUNTIF(K44:AE44,\"T\")","v":0},{"$f":"MIN(15,COUNTIF(K44:AE44,\">=1\"))","v":0},{"$f":"IF(I44>=15,(SUM(LARGE(K44:AE44,{1;2;3;4;5;6;7;8;9;10;11;12;13;14;15}))+AF44),SUM(K44:AF44))","v":0},null,null,null,null,null,null,null,null,null,null,null,null,null,null,null,null,null,null,null,null,null,null,{"$f":"COUNTIF(K44:AF44,\">=1\")-I44","v":0}]
["W",{"$f":"IF(ISBLANK(E45),\"\",LOOKUP(IF(2000+E45>$G$1,1900+E45,2000+E45),Tabelle2!A:A,Tabelle2!C:C))","v":40},{"$f":"IF(G45>=1,SUMPRODUCT(($A$6:$A$418=A45)*($B$6:$B$418=B45)*($G$6:$G$418>G45))+1,\"\")","v":""},"Wolff, Nadine",82,"Querfurt",{"$f":"H45+J45","v":0},{"$f":"COUNTIF(K45:AE45,\">=1\")+COUNTIF(K45:AE45,\"T\")","v":0},{"$f":"MIN(15,COUNTIF(K45:AE45,\">=1\"))","v":0},{"$f":"IF(I45>=15,(SUM(LARGE(K45:AE45,{1;2;3;4;5;6;7;8;9;10;11;12;13;14;15}))+AF45),SUM(K45:AF45))","v":0},null,null,null,null,null,null,null,null,null,null,null,null,null,null,null,null,null,null,null,null,null,null,{"$f":"COUNTIF(K45:AF45,\">=1\")-I45","v":0}]
["W",{"$f":"IF(ISBLANK(E46),\"\",LOOKUP(IF(2000+E46>$G$1,1900+E46,2000+E46),Tabelle2!A:A,Tabelle2!C:C))","v":45},{"$f":"IF(G46>=1,SUMPRODUCT(($A$6:$A$418=A46)*($B$6:$B$418=B46)*($G$6:$G$418>G46))+1,\"\")","v":1},"Quenzel, Constanze",74,"TC Merseburg",{"$f":"H46+J46","v":26},{"$f":"COUNTIF(K46:AE46,\">=1\")+COUNTIF(K46:AE46,\"T\")","v":1},{"$f":"MIN(15,COUNTIF(K46:AE46,\">=1\"))","v":1},{"$f":"IF(I46>=15,(SUM(LARGE(K46:AE46,{1;2;3;4;5;6;7;8;9;10;11;12;13;14;15}))+AF46),SUM(K46:AF46))","v":25},25,null,null,null,null,null,null,null,null,null,null,null,null,null,null,null,null,null,null,null,null,null,{"$f":"COUNTIF(K46:AF46,\">=1\")-I46","v":0}]
["W",{"$f":"IF(ISBLANK(E47),\"\",LOOKUP(IF(2000+E47>$G$1,1900+E47,2000+E47),Tabelle2!A:A,Tabelle2!C:C))","v":45},{"$f":"IF(G47>=1,SUMPRODUCT(($A$6:$A$418=A47)*($B$6:$B$418=B47)*($G$6:$G$418>G47))+1,\"\")","v":""},"Findeisen, Ulrike",75,"Merseburg",{"$f":"H47+J47","v":0},{"$f":"COUNTIF(K47:AE47,\">=1\")+COUNTIF(K47:AE47,\"T\")","v":0},{"$f":"MIN(15,COUNTIF(K47:AE47,\">=1\"))","v":0},{"$f":"IF(I47>=15,(SUM(LARGE(K47:AE47,{1;2;3;4;5;6;7;8;9;10;11;12;13;14;15}))+AF47),SUM(K47:AF47))","v":0},null,null,null,null,null,null,null,null,null,null,null,null,null,null,null,null,null,null,null,null,null,null,{"$f":"COUNTIF(K47:AF47,\">=1\")-I47","v":0}]
["W",{"$f":"IF(ISBLANK(E48),\"\",LOOKUP(IF(2000+E48>$G$1,1900+E48,2000+E48),Tabelle2!A:A,Tabelle2!C:C))","v":45},{"$f":"IF(G48>=1,SUMPRODUCT(($A$6:$A$418=A48)*($B$6:$B$418=B48)*($G$6:$G$418>G48))+1,\"\")","v":""},"Herrmann, Kathleen",78,"SV 1885 Tt",{"$f":"H48+J48","v":0},{"$f":"COUNTIF(K48:AE48,\">=1\")+COUNTIF(K48:AE48,\"T\")","v":0},{"$f":"MIN(15,COUNTIF(K48:AE48,\">=1\"))","v":0},{"$f":"IF(I48>=15,(SUM(LARGE(K48:AE48,{1;2;3;4;5;6;7;8;9;10;11;12;13;14;15}))+AF48),SUM(K48:AF48))","v":0},null,null,null,null,null,null,null,null,null,null,null,null,null,null,null,null,null,null,null,null,null,null,{"$f":"COUNTIF(K48:AF48,\">=1\")-I48","v":0}]
["W",{"$f":"IF(ISBLANK(E49),\"\",LOOKUP(IF(2000+E49>$G$1,1900+E49,2000+E49),Tabelle2!A:A,Tabelle2!C:C))","v":45},{"$f":"IF(G49>=1,SUMPRODUCT(($A$6:$A$418=A49)*($B$6:$B$418=B49)*($G$6:$G$418>G49))+1,\"\")","v":""},"Kamprath, Manuela",77,"Langeneichstädt",{"$f":"H49+J49","v":0},{"$f":"COUNTIF(K49:AE49,\">=1\")+COUNTIF(K49:AE49,\"T\")","v":0},{"$f":"MIN(15,COUNTIF(K49:AE49,\">=1\"))","v":0},{"$f":"IF(I49>=15,(SUM(LARGE(K49:AE49,{1;2;3;4;5;6;7;8;9;10;11;12;13;14;15}))+AF49),SUM(K49:AF49))","v":0},null,null,null,null,null,null,null,null,null,null,null,null,null,null,null,null,null,null,null,null,null,null,{"$f":"COUNTIF(K49:AF49,\">=1\")-I49","v":0}]
["W",{"$f":"IF(ISBLANK(E50),\"\",LOOKUP(IF(2000+E50>$G$1,1900+E50,2000+E50),Tabelle2!A:A,Tabelle2!C:C))","v":45},{"$f":"IF(G50>=1,SUMPRODUCT(($A$6:$A$418=A50)*($B$6:$B$418=B50)*($G$6:$G$418>G50))+1,\"\")","v":""},"Schwenkle, Annett",74,"Milzau",{"$f":"H50+J50","v":0},{"$f":"COUNTIF(K50:AE50,\">=1\")+COUNTIF(K50:AE50,\"T\")","v":0},{"$f":"MIN(15,COUNTIF(K50:AE50,\">=1\"))","v":0},{"$f":"IF(I50>=15,(SUM(LARGE(K50:AE50,{1;2;3;4;5;6;7;8;9;10;11;12;13;14;15}))+AF50),SUM(K50:AF50))","v":0},null,null,null,null,null,null,null,null,null,null,null,null,null,null,null,null,null,null,null,null,null,null,{"$f":"COUNTIF(K50:AF50,\">=1\")-I50","v":0}]
["W",{"$f":"IF(ISBLANK(E51),\"\",LOOKUP(IF(2000+E51>$G$1,1900+E51,2000+E51),Tabelle2!A:A,Tabelle2!C:C))","v":45},{"$f":"IF(G51>=1,SUMPRODUCT(($A$6:$A$418=A51)*($B$6:$B$418=B51)*($G$6:$G$418>G51))+1,\"\")","v":""},"Turre, Annette",75,"Merseburg",{"$f":"H51+J51","v":0},{"$f":"COUNTIF(K51:AE51,\">=1\")+COUNTIF(K51:AE51,\"T\")","v":0},{"$f":"MIN(15,COUNTIF(K51:AE51,\">=1\"))","v":0},{"$f":"IF(I51>=15,(SUM(LARGE(K51:AE51,{1;2;3;4;5;6;7;8;9;10;11;12;13;14;15}))+AF51),SUM(K51:AF51))","v":0},null,null,null,null,null,null,null,null,null,null,null,null,null,null,null,null,null,null,null,null,null,null,{"$f":"COUNTIF(K51:AF51,\">=1\")-I51","v":0}]
["W",{"$f":"IF(ISBLANK(E52),\"\",LOOKUP(IF(2000+E52>$G$1,1900+E52,2000+E52),Tabelle2!A:A,Tabelle2!C:C))","v":45},{"$f":"IF(G52>=1,SUMPRODUCT(($A$6:$A$418=A52)*($B$6:$B$418=B52)*($G$6:$G$418>G52))+1,\"\")","v":""},"Witzel, Judith",74,"Chemie Leuna",{"$f":"H52+J52","v":0},{"$f":"COUNTIF(K52:AE52,\">=1\")+COUNTIF(K52:AE52,\"T\")","v":0},{"$f":"MIN(15,COUNTIF(K52:AE52,\">=1\"))","v":0},{"$f":"IF(I52>=15,(SUM(LARGE(K52:AE52,{1;2;3;4;5;6;7;8;9;10;11;12;13;14;15}))+AF52),SUM(K52:AF52))","v":0},null,null,null,null,null,null,null,null,null,null,null,null,null,null,null,null,null,null,null,null,null,null,{"$f":"COUNTIF(K52:AF52,\">=1\")-I52","v":0}]
["W",{"$f":"IF(ISBLANK(E53),\"\",LOOKUP(IF(2000+E53>$G$1,1900+E53,2000+E53),Tabelle2!A:A,Tabelle2!C:C))","v":45},{"$f":"IF(G53>=1,SUMPRODUCT(($A$6:$A$418=A53)*($B$6:$B$418=B53)*($G$6:$G$418>G53))+1,\"\")","v":""},"Witzsche, Bianka",77,"TSV Leuna Ski",{"$f":"H53+J53","v":0},{"$f":"COUNTIF(K53:AE53,\">=1\")+COUNTIF(K53:AE53,\"T\")","v":0},{"$f":"MIN(15,COUNTIF(K53:AE53,\">=1\"))","v":0},{"$f":"IF(I53>=15,(SUM(LARGE(K53:AE53,{1;2;3;4;5;6;7;8;9;10;11;12;13;14;15}))+AF53),SUM(K53:AF53))","v":0},null,null,null,null,null,null,null,null,null,null,null,null,null,null,null,null,null,null,null,null,null,null,{"$f":"COUNTIF(K53:AF53,\">=1\")-I53","v":0}]
["W",{"$f":"IF(ISBLANK(E54),\"\",LOOKUP(IF(2000+E54>$G$1,1900+E54,2000+E54),Tabelle2!A:A,Tabelle2!C:C))","v":50},{"$f":"IF(G54>=1,SUMPRODUCT(($A$6:$A$418=A54)*($B$6:$B$418=B54)*($G$6:$G$418>G54))+1,\"\")","v":1},"Hoppe, Birgit",69,"SS Lieskau",{"$f":"H54+J54","v":35},{"$f":"COUNTIF(K54:AE54,\">=1\")+COUNTIF(K54:AE54,\"T\")","v":2},{"$f":"MIN(15,COUNTIF(K54:AE54,\">=1\"))","v":2},{"$f":"IF(I54>=15,(SUM(LARGE(K54:AE54,{1;2;3;4;5;6;7;8;9;10;11;12;13;14;15}))+AF54),SUM(K54:AF54))","v":33},15,18,null,null,null,null,null,null,null,null,null,null,null,null,null,null,null,null,null,null,null,null,{"$f":"COUNTIF(K54:AF54,\">=1\")-I54","v":0}]
["W",{"$f":"IF(ISBLANK(E55),\"\",LOOKUP(IF(2000+E55>$G$1,1900+E55,2000+E55),Tabelle2!A:A,Tabelle2!C:C))","v":50},{"$f":"IF(G55>=1,SUMPRODUCT(($A$6:$A$418=A55)*($B$6:$B$418=B55)*($G$6:$G$418>G55))+1,\"\")","v":2},"Reißig, Ulrike",70,"DLRG Leuna-Merseburg",{"$f":"H55+J55","v":32},{"$f":"COUNTIF(K55:AE55,\">=1\")+COUNTIF(K55:AE55,\"T\")","v":2},{"$f":"MIN(15,COUNTIF(K55:AE55,\">=1\"))","v":2},{"$f":"IF(I55>=15,(SUM(LARGE(K55:AE55,{1;2;3;4;5;6;7;8;9;10;11;12;13;14;15}))+AF55),SUM(K55:AF55))","v":30},13,17,null,null,null,null,null,null,null,null,null,null,null,null,null,null,null,null,null,null,null,null,{"$f":"COUNTIF(K55:AF55,\">=1\")-I55","v":0}]
["W",{"$f":"IF(ISBLANK(E56),\"\",LOOKUP(IF(2000+E56>$G$1,1900+E56,2000+E56),Tabelle2!A:A,Tabelle2!C:C))","v":50},{"$f":"IF(G56>=1,SUMPRODUCT(($A$6:$A$418=A56)*($B$6:$B$418=B56)*($G$6:$G$418>G56))+1,\"\")","v":3},"Caspar, Annett",72,"SG Spergau",{"$f":"H56+J56","v":26},{"$f":"COUNTIF(K56:AE56,\">=1\")+COUNTIF(K56:AE56,\"T\")","v":1},{"$f":"MIN(15,COUNTIF(K56:AE56,\">=1\"))","v":1},{"$f":"IF(I56>=15,(SUM(LARGE(K56:AE56,{1;2;3;4;5;6;7;8;9;10;11;12;13;14;15}))+AF56),SUM(K56:AF56))","v":25},25,null,null,null,null,null,null,null,null,null,null,null,null,null,null,null,null,null,null,null,null,null,{"$f":"COUNTIF(K56:AF56,\">=1\")-I56","v":0}]
["W",{"$f":"IF(ISBLANK(E57),\"\",LOOKUP(IF(2000+E57>$G$1,1900+E57,2000+E57),Tabelle2!A:A,Tabelle2!C:C))","v":50},{"$f":"IF(G57>=1,SUMPRODUCT(($A$6:$A$418=A57)*($B$6:$B$418=B57)*($G$6:$G$418>G57))+1,\"\")","v":4},"Donath, Claudia",70,"DLRG Leuna-Merseburg",{"$f":"H57+J57","v":21},{"$f":"COUNTIF(K57:AE57,\">=1\")+COUNTIF(K57:AE57,\"T\")","v":1},{"$f":"MIN(15,COUNTIF(K57:AE57,\">=1\"))","v":1},{"$f":"IF(I57>=15,(SUM(LARGE(K57:AE57,{1;2;3;4;5;6;7;8;9;10;11;12;13;14;15}))+AF57),SUM(K57:AF57))","v":20},null,20,null,null,null,null,null,null,null,null,null,null,null,null,null,null,null,null,null,null,null,null,{"$f":"COUNTIF(K57:AF57,\">=1\")-I57","v":0}]
["W",{"$f":"IF(ISBLANK(E58),\"\",LOOKUP(IF(2000+E58>$G$1,1900+E58,2000+E58),Tabelle2!A:A,Tabelle2!C:C))","v":50},{"$f":"IF(G58>=1,SUMPRODUCT(($A$6:$A$418=A58)*($B$6:$B$418=B58)*($G$6:$G$418>G58))+1,\"\")","v":4},"Hammerl, Ines",73,"TSV Leuna",{"$f":"H58+J58","v":21},{"$f":"COUNTIF(K58:AE58,\">=1\")+COUNTIF(K58:AE58,\"T\")","v":1},{"$f":"MIN(15,COUNTIF(K58:AE58,\">=1\"))","v":1},{"$f":"IF(I58>=15,(SUM(LARGE(K58:AE58,{1;2;3;4;5;6;7;8;9;10;11;12;13;14;15}))+AF58),SUM(K58:AF58))","v":20},20,null,null,null,null,null,null,null,null,null,null,null,null,null,null,null,null,null,null,null,null,null,{"$f":"COUNTIF(K58:AF58,\">=1\")-I58","v":0}]
["W",{"$f":"IF(ISBLANK(E59),\"\",LOOKUP(IF(2000+E59>$G$1,1900+E59,2000+E59),Tabelle2!A:A,Tabelle2!C:C))","v":50},{"$f":"IF(G59>=1,SUMPRODUCT(($A$6:$A$418=A59)*($B$6:$B$418=B59)*($G$6:$G$418>G59))+1,\"\")","v":6},"Rost, Gabriele",69,"Teutschenthal",{"$f":"H59+J59","v":13},{"$f":"COUNTIF(K59:AE59,\">=1\")+COUNTIF(K59:AE59,\"T\")","v":1},{"$f":"MIN(15,COUNTIF(K59:AE59,\">=1\"))","v":1},{"$f":"IF(I59>=15,(SUM(LARGE(K59:AE59,{1;2;3;4;5;6;7;8;9;10;11;12;13;14;15}))+AF59),SUM(K59:AF59))","v":12},12,null,null,null,null,null,null,null,null,null,null,null,null,null,null,null,null,null,null,null,null,null,{"$f":"COUNTIF(K59:AF59,\">=1\")-I59","v":0}]
["W",{"$f":"IF(ISBLANK(E60),\"\",LOOKUP(IF(2000+E60>$G$1,1900+E60,2000+E60),Tabelle2!A:A,Tabelle2!C:C))","v":50},{"$f":"IF(G60>=1,SUMPRODUCT(($A$6:$A$418=A60)*($B$6:$B$418=B60)*($G$6:$G$418>G60))+1,\"\")","v":""},"Borggrefe, Katja",72,"SV 1885 Teutschenthal",{"$f":"H60+J60","v":0},{"$f":"COUNTIF(K60:AE60,\">=1\")+COUNTIF(K60:AE60,\"T\")","v":0},{"$f":"MIN(15,COUNTIF(K60:AE60,\">=1\"))","v":0},{"$f":"IF(I60>=15,(SUM(LARGE(K60:AE60,{1;2;3;4;5;6;7;8;9;10;11;12;13;14;15}))+AF60),SUM(K60:AF60))","v":0},null,null,null,null,null,null,null,null,null,null,null,null,null,null,null,null,null,null,null,null,null,null,{"$f":"COUNTIF(K60:AF60,\">=1\")-I60","v":0}]
["W",{"$f":"IF(ISBLANK(E61),\"\",LOOKUP(IF(2000+E61>$G$1,1900+E61,2000+E61),Tabelle2!A:A,Tabelle2!C:C))","v":50},{"$f":"IF(G61>=1,SUMPRODUCT(($A$6:$A$418=A61)*($B$6:$B$418=B61)*($G$6:$G$418>G61))+1,\"\")","v":""},"Korn, Felicitas",69,"Braunsbedra",{"$f":"H61+J61","v":0},{"$f":"COUNTIF(K61:AE61,\">=1\")+COUNTIF(K61:AE61,\"T\")","v":0},{"$f":"MIN(15,COUNTIF(K61:AE61,\">=1\"))","v":0},{"$f":"IF(I61>=15,(SUM(LARGE(K61:AE61,{1;2;3;4;5;6;7;8;9;10;11;12;13;14;15}))+AF61),SUM(K61:AF61))","v":0},null,null,null,null,null,null,null,null,null,null,null,null,null,null,null,null,null,null,null,null,null,null,{"$f":"COUNTIF(K61:AF61,\">=1\")-I61","v":0}]
["W",{"$f":"IF(ISBLANK(E62),\"\",LOOKUP(IF(2000+E62>$G$1,1900+E62,2000+E62),Tabelle2!A:A,Tabelle2!C:C))","v":50},{"$f":"IF(G62>=1,SUMPRODUCT(($A$6:$A$418=A62)*($B$6:$B$418=B62)*($G$6:$G$418>G62))+1,\"\")","v":""},"Nebe, Katja",72,"TSV Leuna",{"$f":"H62+J62","v":0},{"$f":"COUNTIF(K62:AE62,\">=1\")+COUNTIF(K62:AE62,\"T\")","v":0},{"$f":"MIN(15,COUNTIF(K62:AE62,\">=1\"))","v":0},{"$f":"IF(I62>=15,(SUM(LARGE(K62:AE62,{1;2;3;4;5;6;7;8;9;10;11;12;13;14;15}))+AF62),SUM(K62:AF62))","v":0},null,null,null,null,null,null,null,null,null,null,null,null,null,null,null,null,null,null,null,null,null,null,{"$f":"COUNTIF(K62:AF62,\">=1\")-I62","v":0}]
["W",{"$f":"IF(ISBLANK(E63),\"\",LOOKUP(IF(2000+E63>$G$1,1900+E63,2000+E63),Tabelle2!A:A,Tabelle2!C:C))","v":50},{"$f":"IF(G63>=1,SUMPRODUCT(($A$6:$A$418=A63)*($B$6:$B$418=B63)*($G$6:$G$418>G63))+1,\"\")","v":""},"Schneider, Susan",72,"Mücheln",{"$f":"H63+J63","v":0},{"$f":"COUNTIF(K63:AE63,\">=1\")+COUNTIF(K63:AE63,\"T\")","v":0},{"$f":"MIN(15,COUNTIF(K63:AE63,\">=1\"))","v":0},{"$f":"IF(I63>=15,(SUM(LARGE(K63:AE63,{1;2;3;4;5;6;7;8;9;10;11;12;13;14;15}))+AF63),SUM(K63:AF63))","v":0},null,null,null,null,null,null,null,null,null,null,null,null,null,null,null,null,null,null,null,null,null,null,{"$f":"COUNTIF(K63:AF63,\">=1\")-I63","v":0}]
["W",{"$f":"IF(ISBLANK(E64),\"\",LOOKUP(IF(2000+E64>$G$1,1900+E64,2000+E64),Tabelle2!A:A,Tabelle2!C:C))","v":50},{"$f":"IF(G64>=1,SUMPRODUCT(($A$6:$A$418=A64)*($B$6:$B$418=B64)*($G$6:$G$418>G64))+1,\"\")","v":""},"Thiele, Ina",70,"LG Merseburg",{"$f":"H64+J64","v":0},{"$f":"COUNTIF(K64:AE64,\">=1\")+COUNTIF(K64:AE64,\"T\")","v":0},{"$f":"MIN(15,COUNTIF(K64:AE64,\">=1\"))","v":0},{"$f":"IF(I64>=15,(SUM(LARGE(K64:AE64,{1;2;3;4;5;6;7;8;9;10;11;12;13;14;15}))+AF64),SUM(K64:AF64))","v":0},null,null,null,null,null,null,null,null,null,null,null,null,null,null,null,null,null,null,null,null,null,null,{"$f":"COUNTIF(K64:AF64,\">=1\")-I64","v":0}]
["W",{"$f":"IF(ISBLANK(E65),\"\",LOOKUP(IF(2000+E65>$G$1,1900+E65,2000+E65),Tabelle2!A:A,Tabelle2!C:C))","v":50},{"$f":"IF(G65>=1,SUMPRODUCT(($A$6:$A$418=A65)*($B$6:$B$418=B65)*($G$6:$G$418>G65))+1,\"\")","v":""},"Winzer, Gerlind",70,"TSV Leuna",{"$f":"H65+J65","v":0},{"$f":"COUNTIF(K65:AE65,\">=1\")+COUNTIF(K65:AE65,\"T\")","v":0},{"$f":"MIN(15,COUNTIF(K65:AE65,\">=1\"))","v":0},{"$f":"IF(I65>=15,(SUM(LARGE(K65:AE65,{1;2;3;4;5;6;7;8;9;10;11;12;13;14;15}))+AF65),SUM(K65:AF65))","v":0},null,null,null,null,null,null,null,null,null,null,null,null,null,null,null,null,null,null,null,null,null,null,{"$f":"COUNTIF(K65:AF65,\">=1\")-I65","v":0}]
["W",{"$f":"IF(ISBLANK(E66),\"\",LOOKUP(IF(2000+E66>$G$1,1900+E66,2000+E66),Tabelle2!A:A,Tabelle2!C:C))","v":55},{"$f":"IF(G66>=1,SUMPRODUCT(($A$6:$A$418=A66)*($B$6:$B$418=B66)*($G$6:$G$418>G66))+1,\"\")","v":1},"Barthel, Ramona",65,"SG Spergau",{"$f":"H66+J66","v":52},{"$f":"COUNTIF(K66:AE66,\">=1\")+COUNTIF(K66:AE66,\"T\")","v":2},{"$f":"MIN(15,COUNTIF(K66:AE66,\">=1\"))","v":2},{"$f":"IF(I66>=15,(SUM(LARGE(K66:AE66,{1;2;3;4;5;6;7;8;9;10;11;12;13;14;15}))+AF66),SUM(K66:AF66))","v":50},25,25,null,null,null,null,null,null,null,null,null,null,null,null,null,null,null,null,null,null,null,null,{"$f":"COUNTIF(K66:AF66,\">=1\")-I66","v":0}]
["W",{"$f":"IF(ISBLANK(E67),\"\",LOOKUP(IF(2000+E67>$G$1,1900+E67,2000+E67),Tabelle2!A:A,Tabelle2!C:C))","v":55},{"$f":"IF(G67>=1,SUMPRODUCT(($A$6:$A$418=A67)*($B$6:$B$418=B67)*($G$6:$G$418>G67))+1,\"\")","v":2},"Knoche, Conny",67,"Merseburg",{"$f":"H67+J67","v":47},{"$f":"COUNTIF(K67:AE67,\">=1\")+COUNTIF(K67:AE67,\"T\")","v":2},{"$f":"MIN(15,COUNTIF(K67:AE67,\">=1\"))","v":2},{"$f":"IF(I67>=15,(SUM(LARGE(K67:AE67,{1;2;3;4;5;6;7;8;9;10;11;12;13;14;15}))+AF67),SUM(K67:AF67))","v":45},22,23,null,null,null,null,null,null,null,null,null,null,null,null,null,null,null,null,null,null,null,null,{"$f":"COUNTIF(K67:AF67,\">=1\")-I67","v":0}]
["W",{"$f":"IF(ISBLANK(E68),\"\",LOOKUP(IF(2000+E68>$G$1,1900+E68,2000+E68),Tabelle2!A:A,Tabelle2!C:C))","v":55},{"$f":"IF(G68>=1,SUMPRODUCT(($A$6:$A$418=A68)*($B$6:$B$418=B68)*($G$6:$G$418>G68))+1,\"\")","v":3},"Thamm, Ines",67,"Bad Dürrenberg",{"$f":"H68+J68","v":44},{"$f":"COUNTIF(K68:AE68,\">=1\")+COUNTIF(K68:AE68,\"T\")","v":2},{"$f":"MIN(15,COUNTIF(K68:AE68,\">=1\"))","v":2},{"$f":"IF(I68>=15,(SUM(LARGE(K68:AE68,{1;2;3;4;5;6;7;8;9;10;11;12;13;14;15}))+AF68),SUM(K68:AF68))","v":42},20,22,null,null,null,null,null,null,null,null,null,null,null,null,null,null,null,null,null,null,null,null,{"$f":"COUNTIF(K68:AF68,\">=1\")-I68","v":0}]
["W",{"$f":"IF(ISBLANK(E69),\"\",LOOKUP(IF(2000+E69>$G$1,1900+E69,2000+E69),Tabelle2!A:A,Tabelle2!C:C))","v":55},{"$f":"IF(G69>=1,SUMPRODUCT(($A$6:$A$418=A69)*($B$6:$B$418=B69)*($G$6:$G$418>G69))+1,\"\")","v":4},"Morgenstern, Manuela",64,"Braunsbedra",{"$f":"H69+J69","v":38},{"$f":"COUNTIF(K69:AE69,\">=1\")+COUNTIF(K69:AE69,\"T\")","v":2},{"$f":"MIN(15,COUNTIF(K69:AE69,\">=1\"))","v":2},{"$f":"IF(I69>=15,(SUM(LARGE(K69:AE69,{1;2;3;4;5;6;7;8;9;10;11;12;13;14;15}))+AF69),SUM(K69:AF69))","v":36},18,18,null,null,null,null,null,null,null,null,null,null,null,null,null,null,null,null,null,null,null,null,{"$f":"COUNTIF(K69:AF69,\">=1\")-I69","v":0}]
["W",{"$f":"IF(ISBLANK(E70),\"\",LOOKUP(IF(2000+E70>$G$1,1900+E70,2000+E70),Tabelle2!A:A,Tabelle2!C:C))","v":55},{"$f":"IF(G70>=1,SUMPRODUCT(($A$6:$A$418=A70)*($B$6:$B$418=B70)*($G$6:$G$418>G70))+1,\"\")","v":5},"Stolp, Petra",64,"Merseburg",{"$f":"H70+J70","v":24},{"$f":"COUNTIF(K70:AE70,\">=1\")+COUNTIF(K70:AE70,\"T\")","v":1},{"$f":"MIN(15,COUNTIF(K70:AE70,\">=1\"))","v":1},{"$f":"IF(I70>=15,(SUM(LARGE(K70:AE70,{1;2;3;4;5;6;7;8;9;10;11;12;13;14;15}))+AF70),SUM(K70:AF70))","v":23},23,null,null,null,null,null,null,null,null,null,null,null,null,null,null,null,null,null,null,null,null,null,{"$f":"COUNTIF(K70:AF70,\">=1\")-I70","v":0}]
["W",{"$f":"IF(ISBLANK(E71),\"\",LOOKUP(IF(2000+E71>$G$1,1900+E71,2000+E71),Tabelle2!A:A,Tabelle2!C:C))","v":55},{"$f":"IF(G71>=1,SUMPRODUCT(($A$6:$A$418=A71)*($B$6:$B$418=B71)*($G$6:$G$418>G71))+1,\"\")","v":6},"Schaarschmidt, Rauni",67,"DLRG Leuna-Merseburg",{"$f":"H71+J71","v":21},{"$f":"COUNTIF(K71:AE71,\">=1\")+COUNTIF(K71:AE71,\"T\")","v":1},{"$f":"MIN(15,COUNTIF(K71:AE71,\">=1\"))","v":1},{"$f":"IF(I71>=15,(SUM(LARGE(K71:AE71,{1;2;3;4;5;6;7;8;9;10;11;12;13;14;15}))+AF71),SUM(K71:AF71))","v":20},null,20,null,null,null,null,null,null,null,null,null,null,null,null,null,null,null,null,null,null,null,null,{"$f":"COUNTIF(K71:AF71,\">=1\")-I71","v":0}]
["W",{"$f":"IF(ISBLANK(E72),\"\",LOOKUP(IF(2000+E72>$G$1,1900+E72,2000+E72),Tabelle2!A:A,Tabelle2!C:C))","v":55},{"$f":"IF(G72>=1,SUMPRODUCT(($A$6:$A$418=A72)*($B$6:$B$418=B72)*($G$6:$G$418>G72))+1,\"\")","v":""},"Auer, Heide",64,"Merseburg",{"$f":"H72+J72","v":0},{"$f":"COUNTIF(K72:AE72,\">=1\")+COUNTIF(K72:AE72,\"T\")","v":0},{"$f":"MIN(15,COUNTIF(K72:AE72,\">=1\"))","v":0},{"$f":"IF(I72>=15,(SUM(LARGE(K72:AE72,{1;2;3;4;5;6;7;8;9;10;11;12;13;14;15}))+AF72),SUM(K72:AF72))","v":0},null,null,null,null,null,null,null,null,null,null,null,null,null,null,null,null,null,null,null,null,null,null,{"$f":"COUNTIF(K72:AF72,\">=1\")-I72","v":0}]
["W",{"$f":"IF(ISBLANK(E73),\"\",LOOKUP(IF(2000+E73>$G$1,1900+E73,2000+E73),Tabelle2!A:A,Tabelle2!C:C))","v":55},{"$f":"IF(G73>=1,SUMPRODUCT(($A$6:$A$418=A73)*($B$6:$B$418=B73)*($G$6:$G$418>G73))+1,\"\")","v":""},"Bendig, Bärbel",66,"Bad Dürrenberg",{"$f":"H73+J73","v":0},{"$f":"COUNTIF(K73:AE73,\">=1\")+COUNTIF(K73:AE73,\"T\")","v":0},{"$f":"MIN(15,COUNTIF(K73:AE73,\">=1\"))","v":0},{"$f":"IF(I73>=15,(SUM(LARGE(K73:AE73,{1;2;3;4;5;6;7;8;9;10;11;12;13;14;15}))+AF73),SUM(K73:AF73))","v":0},null,null,null,null,null,null,null,null,null,null,null,null,null,null,null,null,null,null,null,null,null,null,{"$f":"COUNTIF(K73:AF73,\">=1\")-I73","v":0}]
["W",{"$f":"IF(ISBLANK(E74),\"\",LOOKUP(IF(2000+E74>$G$1,1900+E74,2000+E74),Tabelle2!A:A,Tabelle2!C:C))","v":55},{"$f":"IF(G74>=1,SUMPRODUCT(($A$6:$A$418=A74)*($B$6:$B$418=B74)*($G$6:$G$418>G74))+1,\"\")","v":""},"Bernstein, Steffi",66,"SG Spergau",{"$f":"H74+J74","v":0},{"$f":"COUNTIF(K74:AE74,\">=1\")+COUNTIF(K74:AE74,\"T\")","v":0},{"$f":"MIN(15,COUNTIF(K74:AE74,\">=1\"))","v":0},{"$f":"IF(I74>=15,(SUM(LARGE(K74:AE74,{1;2;3;4;5;6;7;8;9;10;11;12;13;14;15}))+AF74),SUM(K74:AF74))","v":0},null,null,null,null,null,null,null,null,null,null,null,null,null,null,null,null,null,null,null,null,null,null,{"$f":"COUNTIF(K74:AF74,\">=1\")-I74","v":0}]
["W",{"$f":"IF(ISBLANK(E75),\"\",LOOKUP(IF(2000+E75>$G$1,1900+E75,2000+E75),Tabelle2!A:A,Tabelle2!C:C))","v":55},{"$f":"IF(G75>=1,SUMPRODUCT(($A$6:$A$418=A75)*($B$6:$B$418=B75)*($G$6:$G$418>G75))+1,\"\")","v":""},"Hartert, Simone",67,"Frankleben",{"$f":"H75+J75","v":0},{"$f":"COUNTIF(K75:AE75,\">=1\")+COUNTIF(K75:AE75,\"T\")","v":0},{"$f":"MIN(15,COUNTIF(K75:AE75,\">=1\"))","v":0},{"$f":"IF(I75>=15,(SUM(LARGE(K75:AE75,{1;2;3;4;5;6;7;8;9;10;11;12;13;14;15}))+AF75),SUM(K75:AF75))","v":0},null,null,null,null,null,null,null,null,null,null,null,null,null,null,null,null,null,null,null,null,null,null,{"$f":"COUNTIF(K75:AF75,\">=1\")-I75","v":0}]
["W",{"$f":"IF(ISBLANK(E76),\"\",LOOKUP(IF(2000+E76>$G$1,1900+E76,2000+E76),Tabelle2!A:A,Tabelle2!C:C))","v":55},{"$f":"IF(G76>=1,SUMPRODUCT(($A$6:$A$418=A76)*($B$6:$B$418=B76)*($G$6:$G$418>G76))+1,\"\")","v":""},"Rosenbaum, Diane",67,"SV Braunsbedra",{"$f":"H76+J76","v":0},{"$f":"COUNTIF(K76:AE76,\">=1\")+COUNTIF(K76:AE76,\"T\")","v":0},{"$f":"MIN(15,COUNTIF(K76:AE76,\">=1\"))","v":0},{"$f":"IF(I76>=15,(SUM(LARGE(K76:AE76,{1;2;3;4;5;6;7;8;9;10;11;12;13;14;15}))+AF76),SUM(K76:AF76))","v":0},null,null,null,null,null,null,null,null,null,null,null,null,null,null,null,null,null,null,null,null,null,null,{"$f":"COUNTIF(K76:AF76,\">=1\")-I76","v":0}]
["W",{"$f":"IF(ISBLANK(E77),\"\",LOOKUP(IF(2000+E77>$G$1,1900+E77,2000+E77),Tabelle2!A:A,Tabelle2!C:C))","v":60},{"$f":"IF(G77>=1,SUMPRODUCT(($A$6:$A$418=A77)*($B$6:$B$418=B77)*($G$6:$G$418>G77))+1,\"\")","v":1},"Tauche, Barbara",62,"Merseburg",{"$f":"H77+J77","v":21},{"$f":"COUNTIF(K77:AE77,\">=1\")+COUNTIF(K77:AE77,\"T\")","v":1},{"$f":"MIN(15,COUNTIF(K77:AE77,\">=1\"))","v":1},{"$f":"IF(I77>=15,(SUM(LARGE(K77:AE77,{1;2;3;4;5;6;7;8;9;10;11;12;13;14;15}))+AF77),SUM(K77:AF77))","v":20},null,20,null,null,null,null,null,null,null,null,null,null,null,null,null,null,null,null,null,null,null,null,{"$f":"COUNTIF(K77:AF77,\">=1\")-I77","v":0}]
["W",{"$f":"IF(ISBLANK(E78),\"\",LOOKUP(IF(2000+E78>$G$1,1900+E78,2000+E78),Tabelle2!A:A,Tabelle2!C:C))","v":60},{"$f":"IF(G78>=1,SUMPRODUCT(($A$6:$A$418=A78)*($B$6:$B$418=B78)*($G$6:$G$418>G78))+1,\"\")","v":""},"Kaiser, Viola",59,"Bad Dürrenberg",{"$f":"H78+J78","v":0},{"$f":"COUNTIF(K78:AE78,\">=1\")+COUNTIF(K78:AE78,\"T\")","v":0},{"$f":"MIN(15,COUNTIF(K78:AE78,\">=1\"))","v":0},{"$f":"IF(I78>=15,(SUM(LARGE(K78:AE78,{1;2;3;4;5;6;7;8;9;10;11;12;13;14;15}))+AF78),SUM(K78:AF78))","v":0},null,null,null,null,null,null,null,null,null,null,null,null,null,null,null,null,null,null,null,null,null,null,{"$f":"COUNTIF(K78:AF78,\">=1\")-I78","v":0}]
["W",{"$f":"IF(ISBLANK(E79),\"\",LOOKUP(IF(2000+E79>$G$1,1900+E79,2000+E79),Tabelle2!A:A,Tabelle2!C:C))","v":60},{"$f":"IF(G79>=1,SUMPRODUCT(($A$6:$A$418=A79)*($B$6:$B$418=B79)*($G$6:$G$418>G79))+1,\"\")","v":""},"Kroh, Sielke",60,"SG Spergau",{"$f":"H79+J79","v":0},{"$f":"COUNTIF(K79:AE79,\">=1\")+COUNTIF(K79:AE79,\"T\")","v":0},{"$f":"MIN(15,COUNTIF(K79:AE79,\">=1\"))","v":0},{"$f":"IF(I79>=15,(SUM(LARGE(K79:AE79,{1;2;3;4;5;6;7;8;9;10;11;12;13;14;15}))+AF79),SUM(K79:AF79))","v":0},null,null,null,null,null,null,null,null,null,null,null,null,null,null,null,null,null,null,null,null,null,null,{"$f":"COUNTIF(K79:AF79,\">=1\")-I79","v":0}]
["W",{"$f":"IF(ISBLANK(E80),\"\",LOOKUP(IF(2000+E80>$G$1,1900+E80,2000+E80),Tabelle2!A:A,Tabelle2!C:C))","v":65},{"$f":"IF(G80>=1,SUMPRODUCT(($A$6:$A$418=A80)*($B$6:$B$418=B80)*($G$6:$G$418>G80))+1,\"\")","v":1},"Thamm, Henriette",54,"SG Spergau",{"$f":"H80+J80","v":47},{"$f":"COUNTIF(K80:AE80,\">=1\")+COUNTIF(K80:AE80,\"T\")","v":2},{"$f":"MIN(15,COUNTIF(K80:AE80,\">=1\"))","v":2},{"$f":"IF(I80>=15,(SUM(LARGE(K80:AE80,{1;2;3;4;5;6;7;8;9;10;11;12;13;14;15}))+AF80),SUM(K80:AF80))","v":45},25,20,null,null,null,null,null,null,null,null,null,null,null,null,null,null,null,null,null,null,null,null,{"$f":"COUNTIF(K80:AF80,\">=1\")-I80","v":0}]
["W",{"$f":"IF(ISBLANK(E81),\"\",LOOKUP(IF(2000+E81>$G$1,1900+E81,2000+E81),Tabelle2!A:A,Tabelle2!C:C))","v":65},{"$f":"IF(G81>=1,SUMPRODUCT(($A$6:$A$418=A81)*($B$6:$B$418=B81)*($G$6:$G$418>G81))+1,\"\")","v":2},"Grosch, Annegret",57,"TSV Leuna",{"$f":"H81+J81","v":35},{"$f":"COUNTIF(K81:AE81,\">=1\")+COUNTIF(K81:AE81,\"T\")","v":2},{"$f":"MIN(15,COUNTIF(K81:AE81,\">=1\"))","v":2},{"$f":"IF(I81>=15,(SUM(LARGE(K81:AE81,{1;2;3;4;5;6;7;8;9;10;11;12;13;14;15}))+AF81),SUM(K81:AF81))","v":33},15,18,null,null,null,null,null,null,null,null,null,null,null,null,null,null,null,null,null,null,null,null,{"$f":"COUNTIF(K81:AF81,\">=1\")-I81","v":0}]
["W",{"$f":"IF(ISBLANK(E82),\"\",LOOKUP(IF(2000+E82>$G$1,1900+E82,2000+E82),Tabelle2!A:A,Tabelle2!C:C))","v":65},{"$f":"IF(G82>=1,SUMPRODUCT(($A$6:$A$418=A82)*($B$6:$B$418=B82)*($G$6:$G$418>G82))+1,\"\")","v":3},"Gröer, Monika",57,"VS Merseburg",{"$f":"H82+J82","v":32},{"$f":"COUNTIF(K82:AE82,\">=1\")+COUNTIF(K82:AE82,\"T\")","v":2},{"$f":"MIN(15,COUNTIF(K82:AE82,\">=1\"))","v":2},{"$f":"IF(I82>=15,(SUM(LARGE(K82:AE82,{1;2;3;4;5;6;7;8;9;10;11;12;13;14;15}))+AF82),SUM(K82:AF82))","v":30},13,17,null,null,null,null,null,null,null,null,null,null,null,null,null,null,null,null,null,null,null,null,{"$f":"COUNTIF(K82:AF82,\">=1\")-I82","v":0}]
["W",{"$f":"IF(ISBLANK(E83),\"\",LOOKUP(IF(2000+E83>$G$1,1900+E83,2000+E83),Tabelle2!A:A,Tabelle2!C:C))","v":65},{"$f":"IF(G83>=1,SUMPRODUCT(($A$6:$A$418=A83)*($B$6:$B$418=B83)*($G$6:$G$418>G83))+1,\"\")","v":4},"Großmann, Renate",57,"Merseburg",{"$f":"H83+J83","v":26},{"$f":"COUNTIF(K83:AE83,\">=1\")+COUNTIF(K83:AE83,\"T\")","v":1},{"$f":"MIN(15,COUNTIF(K83:AE83,\">=1\"))","v":1},{"$f":"IF(I83>=15,(SUM(LARGE(K83:AE83,{1;2;3;4;5;6;7;8;9;10;11;12;13;14;15}))+AF83),SUM(K83:AF83))","v":25},null,25,null,null,null,null,null,null,null,null,null,null,null,null,null,null,null,null,null,null,null,null,{"$f":"COUNTIF(K83:AF83,\">=1\")-I83","v":0}]
["W",{"$f":"IF(ISBLANK(E84),\"\",LOOKUP(IF(2000+E84>$G$1,1900+E84,2000+E84),Tabelle2!A:A,Tabelle2!C:C))","v":70},{"$f":"IF(G84>=1,SUMPRODUCT(($A$6:$A$418=A84)*($B$6:$B$418=B84)*($G$6:$G$418>G84))+1,\"\")","v":1},"Buschendorf, Monika",52,"SG Spergau",{"$f":"H84+J84","v":42},{"$f":"COUNTIF(K84:AE84,\">=1\")+COUNTIF(K84:AE84,\"T\")","v":2},{"$f":"MIN(15,COUNTIF(K84:AE84,\">=1\"))","v":2},{"$f":"IF(I84>=15,(SUM(LARGE(K84:AE84,{1;2;3;4;5;6;7;8;9;10;11;12;13;14;15}))+AF84),SUM(K84:AF84))","v":40},20,20,null,null,null,null,null,null,null,null,null,null,null,null,null,null,null,null,null,null,null,null,{"$f":"COUNTIF(K84:AF84,\">=1\")-I84","v":0}]
["W",{"$f":"IF(ISBLANK(E85),\"\",LOOKUP(IF(2000+E85>$G$1,1900+E85,2000+E85),Tabelle2!A:A,Tabelle2!C:C))","v":70},{"$f":"IF(G85>=1,SUMPRODUCT(($A$6:$A$418=A85)*($B$6:$B$418=B85)*($G$6:$G$418>G85))+1,\"\")","v":2},"Berghold, Sibylle",49,"Bad Dürrenberg",{"$f":"H85+J85","v":34},{"$f":"COUNTIF(K85:AE85,\">=1\")+COUNTIF(K85:AE85,\"T\")","v":2},{"$f":"MIN(15,COUNTIF(K85:AE85,\">=1\"))","v":2},{"$f":"IF(I85>=15,(SUM(LARGE(K85:AE85,{1;2;3;4;5;6;7;8;9;10;11;12;13;14;15}))+AF85),SUM(K85:AF85))","v":32},15,17,null,null,null,null,null,null,null,null,null,null,null,null,null,null,null,null,null,null,null,null,{"$f":"COUNTIF(K85:AF85,\">=1\")-I85","v":0}]
["W",{"$f":"IF(ISBLANK(E86),\"\",LOOKUP(IF(2000+E86>$G$1,1900+E86,2000+E86),Tabelle2!A:A,Tabelle2!C:C))","v":70},{"$f":"IF(G86>=1,SUMPRODUCT(($A$6:$A$418=A86)*($B$6:$B$418=B86)*($G$6:$G$418>G86))+1,\"\")","v":3},"Pfeifer, Ulrike",53,"SG Spergau",{"$f":"H86+J86","v":19},{"$f":"COUNTIF(K86:AE86,\">=1\")+COUNTIF(K86:AE86,\"T\")","v":1},{"$f":"MIN(15,COUNTIF(K86:AE86,\">=1\"))","v":1},{"$f":"IF(I86>=15,(SUM(LARGE(K86:AE86,{1;2;3;4;5;6;7;8;9;10;11;12;13;14;15}))+AF86),SUM(K86:AF86))","v":18},null,18,null,null,null,null,null,null,null,null,null,null,null,null,null,null,null,null,null,null,null,null,{"$f":"COUNTIF(K86:AF86,\">=1\")-I86","v":0}]
["W",{"$f":"IF(ISBLANK(E87),\"\",LOOKUP(IF(2000+E87>$G$1,1900+E87,2000+E87),Tabelle2!A:A,Tabelle2!C:C))","v":70},{"$f":"IF(G87>=1,SUMPRODUCT(($A$6:$A$418=A87)*($B$6:$B$418=B87)*($G$6:$G$418>G87))+1,\"\")","v":3},"Siegmund, karin",53,"Merseburg",{"$f":"H87+J87","v":19},{"$f":"COUNTIF(K87:AE87,\">=1\")+COUNTIF(K87:AE87,\"T\")","v":1},{"$f":"MIN(15,COUNTIF(K87:AE87,\">=1\"))","v":1},{"$f":"IF(I87>=15,(SUM(LARGE(K87:AE87,{1;2;3;4;5;6;7;8;9;10;11;12;13;14;15}))+AF87),SUM(K87:AF87))","v":18},18,null,null,null,null,null,null,null,null,null,null,null,null,null,null,null,null,null,null,null,null,null,{"$f":"COUNTIF(K87:AF87,\">=1\")-I87","v":0}]
["W",{"$f":"IF(ISBLANK(E88),\"\",LOOKUP(IF(2000+E88>$G$1,1900+E88,2000+E88),Tabelle2!A:A,Tabelle2!C:C))","v":70},{"$f":"IF(G88>=1,SUMPRODUCT(($A$6:$A$418=A88)*($B$6:$B$418=B88)*($G$6:$G$418>G88))+1,\"\")","v":""},"Loch, Angelika",50,"Merseburg",{"$f":"H88+J88","v":0},{"$f":"COUNTIF(K88:AE88,\">=1\")+COUNTIF(K88:AE88,\"T\")","v":0},{"$f":"MIN(15,COUNTIF(K88:AE88,\">=1\"))","v":0},{"$f":"IF(I88>=15,(SUM(LARGE(K88:AE88,{1;2;3;4;5;6;7;8;9;10;11;12;13;14;15}))+AF88),SUM(K88:AF88))","v":0},null,null,null,null,null,null,null,null,null,null,null,null,null,null,null,null,null,null,null,null,null,null,{"$f":"COUNTIF(K88:AF88,\">=1\")-I88","v":0}]
["M",{"$f":"IF(ISBLANK(E89),\"\",LOOKUP(IF(2000+E89>$G$1,1900+E89,2000+E89),Tabelle2!A:A,Tabelle2!C:C))","v":"U12"},{"$f":"IF(G89>=1,SUMPRODUCT(($A$6:$A$418=A89)*($B$6:$B$418=B89)*($G$6:$G$418>G89))+1,\"\")","v":1},"Hahn, Hagen Constantin",13,"TSV Leuna Ski",{"$f":"H89+J89","v":26},{"$f":"COUNTIF(K89:AE89,\">=1\")+COUNTIF(K89:AE89,\"T\")","v":1},{"$f":"MIN(15,COUNTIF(K89:AE89,\">=1\"))","v":1},{"$f":"IF(I89>=15,(SUM(LARGE(K89:AE89,{1;2;3;4;5;6;7;8;9;10;11;12;13;14;15}))+AF89),SUM(K89:AF89))","v":25},null,25,null,null,null,null,null,null,null,null,null,null,null,null,null,null,null,null,null,null,null,null,{"$f":"COUNTIF(K89:AF89,\">=1\")-I89","v":0}]
["M",{"$f":"IF(ISBLANK(E90),\"\",LOOKUP(IF(2000+E90>$G$1,1900+E90,2000+E90),Tabelle2!A:A,Tabelle2!C:C))","v":"U14"},{"$f":"IF(G90>=1,SUMPRODUCT(($A$6:$A$418=A90)*($B$6:$B$418=B90)*($G$6:$G$418>G90))+1,\"\")","v":1},"Wagner, Friedrich",11,"TSV Leuna",{"$f":"H90+J90","v":26},{"$f":"COUNTIF(K90:AE90,\">=1\")+COUNTIF(K90:AE90,\"T\")","v":1},{"$f":"MIN(15,COUNTIF(K90:AE90,\">=1\"))","v":1},{"$f":"IF(I90>=15,(SUM(LARGE(K90:AE90,{1;2;3;4;5;6;7;8;9;10;11;12;13;14;15}))+AF90),SUM(K90:AF90))","v":25},null,25,null,null,null,null,null,null,null,null,null,null,null,null,null,null,null,null,null,null,null,null,{"$f":"COUNTIF(K90:AF90,\">=1\")-I90","v":0}]
["M",{"$f":"IF(ISBLANK(E91),\"\",LOOKUP(IF(2000+E91>$G$1,1900+E91,2000+E91),Tabelle2!A:A,Tabelle2!C:C))","v":"U14"},{"$f":"IF(G91>=1,SUMPRODUCT(($A$6:$A$418=A91)*($B$6:$B$418=B91)*($G$6:$G$418>G91))+1,\"\")","v":""},"Block, Emma",10,"SV Braunsbedra",{"$f":"H91+J91","v":0},{"$f":"COUNTIF(K91:AE91,\">=1\")+COUNTIF(K91:AE91,\"T\")","v":0},{"$f":"MIN(15,COUNTIF(K91:AE91,\">=1\"))","v":0},{"$f":"IF(I91>=15,(SUM(LARGE(K91:AE91,{1;2;3;4;5;6;7;8;9;10;11;12;13;14;15}))+AF91),SUM(K91:AF91))","v":0},null,null,null,null,null,null,null,null,null,null,null,null,null,null,null,null,null,null,null,null,null,null,{"$f":"COUNTIF(K91:AF91,\">=1\")-I91","v":0}]
["M",{"$f":"IF(ISBLANK(E92),\"\",LOOKUP(IF(2000+E92>$G$1,1900+E92,2000+E92),Tabelle2!A:A,Tabelle2!C:C))","v":"U14"},{"$f":"IF(G92>=1,SUMPRODUCT(($A$6:$A$418=A92)*($B$6:$B$418=B92)*($G$6:$G$418>G92))+1,\"\")","v":""},"Helbing, Jakob",10,"TSV Leuna Ski",{"$f":"H92+J92","v":0},{"$f":"COUNTIF(K92:AE92,\">=1\")+COUNTIF(K92:AE92,\"T\")","v":0},{"$f":"MIN(15,COUNTIF(K92:AE92,\">=1\"))","v":0},{"$f":"IF(I92>=15,(SUM(LARGE(K92:AE92,{1;2;3;4;5;6;7;8;9;10;11;12;13;14;15}))+AF92),SUM(K92:AF92))","v":0},null,null,null,null,null,null,null,null,null,null,null,null,null,null,null,null,null,null,null,null,null,null,{"$f":"COUNTIF(K92:AF92,\">=1\")-I92","v":0}]
["M",{"$f":"IF(ISBLANK(E93),\"\",LOOKUP(IF(2000+E93>$G$1,1900+E93,2000+E93),Tabelle2!A:A,Tabelle2!C:C))","v":"U14"},{"$f":"IF(G93>=1,SUMPRODUCT(($A$6:$A$418=A93)*($B$6:$B$418=B93)*($G$6:$G$418>G93))+1,\"\")","v":""},"Herrmann, Marten",10,"SV 1885 TT",{"$f":"H93+J93","v":0},{"$f":"COUNTIF(K93:AE93,\">=1\")+COUNTIF(K93:AE93,\"T\")","v":0},{"$f":"MIN(15,COUNTIF(K93:AE93,\">=1\"))","v":0},{"$f":"IF(I93>=15,(SUM(LARGE(K93:AE93,{1;2;3;4;5;6;7;8;9;10;11;12;13;14;15}))+AF93),SUM(K93:AF93))","v":0},null,null,null,null,null,null,null,null,null,null,null,null,null,null,null,null,null,null,null,null,null,null,{"$f":"COUNTIF(K93:AF93,\">=1\")-I93","v":0}]
["M",{"$f":"IF(ISBLANK(E94),\"\",LOOKUP(IF(2000+E94>$G$1,1900+E94,2000+E94),Tabelle2!A:A,Tabelle2!C:C))","v":"U14"},{"$f":"IF(G94>=1,SUMPRODUCT(($A$6:$A$418=A94)*($B$6:$B$418=B94)*($G$6:$G$418>G94))+1,\"\")","v":""},"Klingner, Ferdinand",10,"WL-Team Teutschenthal",{"$f":"H94+J94","v":0},{"$f":"COUNTIF(K94:AE94,\">=1\")+COUNTIF(K94:AE94,\"T\")","v":0},{"$f":"MIN(15,COUNTIF(K94:AE94,\">=1\"))","v":0},{"$f":"IF(I94>=15,(SUM(LARGE(K94:AE94,{1;2;3;4;5;6;7;8;9;10;11;12;13;14;15}))+AF94),SUM(K94:AF94))","v":0},null,null,null,null,null,null,null,null,null,null,null,null,null,null,null,null,null,null,null,null,null,null,{"$f":"COUNTIF(K94:AF94,\">=1\")-I94","v":0}]
["M",{"$f":"IF(ISBLANK(E95),\"\",LOOKUP(IF(2000+E95>$G$1,1900+E95,2000+E95),Tabelle2!A:A,Tabelle2!C:C))","v":"U14"},{"$f":"IF(G95>=1,SUMPRODUCT(($A$6:$A$418=A95)*($B$6:$B$418=B95)*($G$6:$G$418>G95))+1,\"\")","v":""},"Ostermann, Jacob",10,"TSV Leuna",{"$f":"H95+J95","v":0},{"$f":"COUNTIF(K95:AE95,\">=1\")+COUNTIF(K95:AE95,\"T\")","v":0},{"$f":"MIN(15,COUNTIF(K95:AE95,\">=1\"))","v":0},{"$f":"IF(I95>=15,(SUM(LARGE(K95:AE95,{1;2;3;4;5;6;7;8;9;10;11;12;13;14;15}))+AF95),SUM(K95:AF95))","v":0},null,null,null,null,null,null,null,null,null,null,null,null,null,null,null,null,null,null,null,null,null,null,{"$f":"COUNTIF(K95:AF95,\">=1\")-I95","v":0}]
["M",{"$f":"IF(ISBLANK(E96),\"\",LOOKUP(IF(2000+E96>$G$1,1900+E96,2000+E96),Tabelle2!A:A,Tabelle2!C:C))","v":"U16"},{"$f":"IF(G96>=1,SUMPRODUCT(($A$6:$A$418=A96)*($B$6:$B$418=B96)*($G$6:$G$418>G96))+1,\"\")","v":1},"Hofmann, Noah",8,"SV Braunsbedra",{"$f":"H96+J96","v":26},{"$f":"COUNTIF(K96:AE96,\">=1\")+COUNTIF(K96:AE96,\"T\")","v":1},{"$f":"MIN(15,COUNTIF(K96:AE96,\">=1\"))","v":1},{"$f":"IF(I96>=15,(SUM(LARGE(K96:AE96,{1;2;3;4;5;6;7;8;9;10;11;12;13;14;15}))+AF96),SUM(K96:AF96))","v":25},null,25,null,null,null,null,null,null,null,null,null,null,null,null,null,null,null,null,null,null,null,null,{"$f":"COUNTIF(K96:AF96,\">=1\")-I96","v":0}]
["M",{"$f":"IF(ISBLANK(E97),\"\",LOOKUP(IF(2000+E97>$G$1,1900+E97,2000+E97),Tabelle2!A:A,Tabelle2!C:C))","v":"U16"},{"$f":"IF(G97>=1,SUMPRODUCT(($A$6:$A$418=A97)*($B$6:$B$418=B97)*($G$6:$G$418>G97))+1,\"\")","v":1},"Weist, Carlo",9,"TSV Leuna",{"$f":"H97+J97","v":26},{"$f":"COUNTIF(K97:AE97,\">=1\")+COUNTIF(K97:AE97,\"T\")","v":1},{"$f":"MIN(15,COUNTIF(K97:AE97,\">=1\"))","v":1},{"$f":"IF(I97>=15,(SUM(LARGE(K97:AE97,{1;2;3;4;5;6;7;8;9;10;11;12;13;14;15}))+AF97),SUM(K97:AF97))","v":25},25,null,null,null,null,null,null,null,null,null,null,null,null,null,null,null,null,null,null,null,null,null,{"$f":"COUNTIF(K97:AF97,\">=1\")-I97","v":0}]
["M",{"$f":"IF(ISBLANK(E98),\"\",LOOKUP(IF(2000+E98>$G$1,1900+E98,2000+E98),Tabelle2!A:A,Tabelle2!C:C))","v":"U16"},{"$f":"IF(G98>=1,SUMPRODUCT(($A$6:$A$418=A98)*($B$6:$B$418=B98)*($G$6:$G$418>G98))+1,\"\")","v":3},"Kriester, Forian-M.",9,"TSV Leuna",{"$f":"H98+J98","v":1},{"$f":"COUNTIF(K98:AE98,\">=1\")+COUNTIF(K98:AE98,\"T\")","v":1},{"$f":"MIN(15,COUNTIF(K98:AE98,\">=1\"))","v":0},{"$f":"IF(I98>=15,(SUM(LARGE(K98:AE98,{1;2;3;4;5;6;7;8;9;10;11;12;13;14;15}))+AF98),SUM(K98:AF98))","v":0},"T",null,null,null,null,null,null,null,null,null,null,null,null,null,null,null,null,null,null,null,null,null,{"$f":"COUNTIF(K98:AF98,\">=1\")-I98","v":0}]
["M",{"$f":"IF(ISBLANK(E99),\"\",LOOKUP(IF(2000+E99>$G$1,1900+E99,2000+E99),Tabelle2!A:A,Tabelle2!C:C))","v":"U16"},{"$f":"IF(G99>=1,SUMPRODUCT(($A$6:$A$418=A99)*($B$6:$B$418=B99)*($G$6:$G$418>G99))+1,\"\")","v":""},"Mennicke, Janni",9,"TZSV Leuna",{"$f":"H99+J99","v":0},{"$f":"COUNTIF(K99:AE99,\">=1\")+COUNTIF(K99:AE99,\"T\")","v":0},{"$f":"MIN(15,COUNTIF(K99:AE99,\">=1\"))","v":0},{"$f":"IF(I99>=15,(SUM(LARGE(K99:AE99,{1;2;3;4;5;6;7;8;9;10;11;12;13;14;15}))+AF99),SUM(K99:AF99))","v":0},null,null,null,null,null,null,null,null,null,null,null,null,null,null,null,null,null,null,null,null,null,null,{"$f":"COUNTIF(K99:AF99,\">=1\")-I99","v":0}]
["M",{"$f":"IF(ISBLANK(E100),\"\",LOOKUP(IF(2000+E100>$G$1,1900+E100,2000+E100),Tabelle2!A:A,Tabelle2!C:C))","v":"U16"},{"$f":"IF(G100>=1,SUMPRODUCT(($A$6:$A$418=A100)*($B$6:$B$418=B100)*($G$6:$G$418>G100))+1,\"\")","v":""},"Patzner, Pepe",9,"Langeneichstädt",{"$f":"H100+J100","v":0},{"$f":"COUNTIF(K100:AE100,\">=1\")+COUNTIF(K100:AE100,\"T\")","v":0},{"$f":"MIN(15,COUNTIF(K100:AE100,\">=1\"))","v":0},{"$f":"IF(I100>=15,(SUM(LARGE(K100:AE100,{1;2;3;4;5;6;7;8;9;10;11;12;13;14;15}))+AF100),SUM(K100:AF100))","v":0},null,null,null,null,null,null,null,null,null,null,null,null,null,null,null,null,null,null,null,null,null,null,{"$f":"COUNTIF(K100:AF100,\">=1\")-I100","v":0}]
["M",{"$f":"IF(ISBLANK(E101),\"\",LOOKUP(IF(2000+E101>$G$1,1900+E101,2000+E101),Tabelle2!A:A,Tabelle2!C:C))","v":"U16"},{"$f":"IF(G101>=1,SUMPRODUCT(($A$6:$A$418=A101)*($B$6:$B$418=B101)*($G$6:$G$418>G101))+1,\"\")","v":""},"Pubach, Ostap",9,"TSV Leuna Ski",{"$f":"H101+J101","v":0},{"$f":"COUNTIF(K101:AE101,\">=1\")+COUNTIF(K101:AE101,\"T\")","v":0},{"$f":"MIN(15,COUNTIF(K101:AE101,\">=1\"))","v":0},{"$f":"IF(I101>=15,(SUM(LARGE(K101:AE101,{1;2;3;4;5;6;7;8;9;10;11;12;13;14;15}))+AF101),SUM(K101:AF101))","v":0},null,null,null,null,null,null,null,null,null,null,null,null,null,null,null,null,null,null,null,null,null,null,{"$f":"COUNTIF(K101:AF101,\">=1\")-I101","v":0}]
["M",{"$f":"IF(ISBLANK(E102),\"\",LOOKUP(IF(2000+E102>$G$1,1900+E102,2000+E102),Tabelle2!A:A,Tabelle2!C:C))","v":"U16"},{"$f":"IF(G102>=1,SUMPRODUCT(($A$6:$A$418=A102)*($B$6:$B$418=B102)*($G$6:$G$418>G102))+1,\"\")","v":""},"Vorrath, Etienne",9,"TSV Leuna Ski",{"$f":"H102+J102","v":0},{"$f":"COUNTIF(K102:AE102,\">=1\")+COUNTIF(K102:AE102,\"T\")","v":0},{"$f":"MIN(15,COUNTIF(K102:AE102,\">=1\"))","v":0},{"$f":"IF(I102>=15,(SUM(LARGE(K102:AE102,{1;2;3;4;5;6;7;8;9;10;11;12;13;14;15}))+AF102),SUM(K102:AF102))","v":0},null,null,null,null,null,null,null,null,null,null,null,null,null,null,null,null,null,null,null,null,null,null,{"$f":"COUNTIF(K102:AF102,\">=1\")-I102","v":0}]
["M",{"$f":"IF(ISBLANK(E103),\"\",LOOKUP(IF(2000+E103>$G$1,1900+E103,2000+E103),Tabelle2!A:A,Tabelle2!C:C))","v":"U18"},{"$f":"IF(G103>=1,SUMPRODUCT(($A$6:$A$418=A103)*($B$6:$B$418=B103)*($G$6:$G$418>G103))+1,\"\")","v":1},"Berndt, Tizian",7,"SV Braunsbedra",{"$f":"H103+J103","v":47},{"$f":"COUNTIF(K103:AE103,\">=1\")+COUNTIF(K103:AE103,\"T\")","v":2},{"$f":"MIN(15,COUNTIF(K103:AE103,\">=1\"))","v":2},{"$f":"IF(I103>=15,(SUM(LARGE(K103:AE103,{1;2;3;4;5;6;7;8;9;10;11;12;13;14;15}))+AF103),SUM(K103:AF103))","v":45},20,25,null,null,null,null,null,null,null,null,null,null,null,null,null,null,null,null,null,null,null,null,{"$f":"COUNTIF(K103:AF103,\">=1\")-I103","v":0}]
["M",{"$f":"IF(ISBLANK(E104),\"\",LOOKUP(IF(2000+E104>$G$1,1900+E104,2000+E104),Tabelle2!A:A,Tabelle2!C:C))","v":"U18"},{"$f":"IF(G104>=1,SUMPRODUCT(($A$6:$A$418=A104)*($B$6:$B$418=B104)*($G$6:$G$418>G104))+1,\"\")","v":2},"Starke, Mika",6,"TSV Leuna Ski",{"$f":"H104+J104","v":45},{"$f":"COUNTIF(K104:AE104,\">=1\")+COUNTIF(K104:AE104,\"T\")","v":2},{"$f":"MIN(15,COUNTIF(K104:AE104,\">=1\"))","v":2},{"$f":"IF(I104>=15,(SUM(LARGE(K104:AE104,{1;2;3;4;5;6;7;8;9;10;11;12;13;14;15}))+AF104),SUM(K104:AF104))","v":43},18,25,null,null,null,null,null,null,null,null,null,null,null,null,null,null,null,null,null,null,null,null,{"$f":"COUNTIF(K104:AF104,\">=1\")-I104","v":0}]
["M",{"$f":"IF(ISBLANK(E105),\"\",LOOKUP(IF(2000+E105>$G$1,1900+E105,2000+E105),Tabelle2!A:A,Tabelle2!C:C))","v":"U18"},{"$f":"IF(G105>=1,SUMPRODUCT(($A$6:$A$418=A105)*($B$6:$B$418=B105)*($G$6:$G$418>G105))+1,\"\")","v":3},"Kohlmann, Niklas",7,"SV Großkayna",{"$f":"H105+J105","v":24},{"$f":"COUNTIF(K105:AE105,\">=1\")+COUNTIF(K105:AE105,\"T\")","v":1},{"$f":"MIN(15,COUNTIF(K105:AE105,\">=1\"))","v":1},{"$f":"IF(I105>=15,(SUM(LARGE(K105:AE105,{1;2;3;4;5;6;7;8;9;10;11;12;13;14;15}))+AF105),SUM(K105:AF105))","v":23},null,23,null,null,null,null,null,null,null,null,null,null,null,null,null,null,null,null,null,null,null,null,{"$f":"COUNTIF(K105:AF105,\">=1\")-I105","v":0}]
["M",{"$f":"IF(ISBLANK(E106),\"\",LOOKUP(IF(2000+E106>$G$1,1900+E106,2000+E106),Tabelle2!A:A,Tabelle2!C:C))","v":"U18"},{"$f":"IF(G106>=1,SUMPRODUCT(($A$6:$A$418=A106)*($B$6:$B$418=B106)*($G$6:$G$418>G106))+1,\"\")","v":""},"Anders, Jannik",7,"VS Lieskau",{"$f":"H106+J106","v":0},{"$f":"COUNTIF(K106:AE106,\">=1\")+COUNTIF(K106:AE106,\"T\")","v":0},{"$f":"MIN(15,COUNTIF(K106:AE106,\">=1\"))","v":0},{"$f":"IF(I106>=15,(SUM(LARGE(K106:AE106,{1;2;3;4;5;6;7;8;9;10;11;12;13;14;15}))+AF106),SUM(K106:AF106))","v":0},null,null,null,null,null,null,null,null,null,null,null,null,null,null,null,null,null,null,null,null,null,null,{"$f":"COUNTIF(K106:AF106,\">=1\")-I106","v":0}]
["M",{"$f":"IF(ISBLANK(E107),\"\",LOOKUP(IF(2000+E107>$G$1,1900+E107,2000+E107),Tabelle2!A:A,Tabelle2!C:C))","v":"U18"},{"$f":"IF(G107>=1,SUMPRODUCT(($A$6:$A$418=A107)*($B$6:$B$418=B107)*($G$6:$G$418>G107))+1,\"\")","v":""},"Anders, Michel",7,"VS Lieskau",{"$f":"H107+J107","v":0},{"$f":"COUNTIF(K107:AE107,\">=1\")+COUNTIF(K107:AE107,\"T\")","v":0},{"$f":"MIN(15,COUNTIF(K107:AE107,\">=1\"))","v":0},{"$f":"IF(I107>=15,(SUM(LARGE(K107:AE107,{1;2;3;4;5;6;7;8;9;10;11;12;13;14;15}))+AF107),SUM(K107:AF107))","v":0},null,null,null,null,null,null,null,null,null,null,null,null,null,null,null,null,null,null,null,null,null,null,{"$f":"COUNTIF(K107:AF107,\">=1\")-I107","v":0}]
["M",{"$f":"IF(ISBLANK(E108),\"\",LOOKUP(IF(2000+E108>$G$1,1900+E108,2000+E108),Tabelle2!A:A,Tabelle2!C:C))","v":"U18"},{"$f":"IF(G108>=1,SUMPRODUCT(($A$6:$A$418=A108)*($B$6:$B$418=B108)*($G$6:$G$418>G108))+1,\"\")","v":""},"Assmann, Hauke",6,"Lodersleben",{"$f":"H108+J108","v":0},{"$f":"COUNTIF(K108:AE108,\">=1\")+COUNTIF(K108:AE108,\"T\")","v":0},{"$f":"MIN(15,COUNTIF(K108:AE108,\">=1\"))","v":0},{"$f":"IF(I108>=15,(SUM(LARGE(K108:AE108,{1;2;3;4;5;6;7;8;9;10;11;12;13;14;15}))+AF108),SUM(K108:AF108))","v":0},null,null,null,null,null,null,null,null,null,null,null,null,null,null,null,null,null,null,null,null,null,null,{"$f":"COUNTIF(K108:AF108,\">=1\")-I108","v":0}]
["M",{"$f":"IF(ISBLANK(E109),\"\",LOOKUP(IF(2000+E109>$G$1,1900+E109,2000+E109),Tabelle2!A:A,Tabelle2!C:C))","v":"U18"},{"$f":"IF(G109>=1,SUMPRODUCT(($A$6:$A$418=A109)*($B$6:$B$418=B109)*($G$6:$G$418>G109))+1,\"\")","v":""},"Girnuweit, Max",6,"TSV Leuna Ski",{"$f":"H109+J109","v":0},{"$f":"COUNTIF(K109:AE109,\">=1\")+COUNTIF(K109:AE109,\"T\")","v":0},{"$f":"MIN(15,COUNTIF(K109:AE109,\">=1\"))","v":0},{"$f":"IF(I109>=15,(SUM(LARGE(K109:AE109,{1;2;3;4;5;6;7;8;9;10;11;12;13;14;15}))+AF109),SUM(K109:AF109))","v":0},null,null,null,null,null,null,null,null,null,null,null,null,null,null,null,null,null,null,null,null,null,null,{"$f":"COUNTIF(K109:AF109,\">=1\")-I109","v":0}]
["M",{"$f":"IF(ISBLANK(E110),\"\",LOOKUP(IF(2000+E110>$G$1,1900+E110,2000+E110),Tabelle2!A:A,Tabelle2!C:C))","v":"U18"},{"$f":"IF(G110>=1,SUMPRODUCT(($A$6:$A$418=A110)*($B$6:$B$418=B110)*($G$6:$G$418>G110))+1,\"\")","v":""},"Jagdmann, Niels",6,"SV 1885 TT",{"$f":"H110+J110","v":0},{"$f":"COUNTIF(K110:AE110,\">=1\")+COUNTIF(K110:AE110,\"T\")","v":0},{"$f":"MIN(15,COUNTIF(K110:AE110,\">=1\"))","v":0},{"$f":"IF(I110>=15,(SUM(LARGE(K110:AE110,{1;2;3;4;5;6;7;8;9;10;11;12;13;14;15}))+AF110),SUM(K110:AF110))","v":0},null,null,null,null,null,null,null,null,null,null,null,null,null,null,null,null,null,null,null,null,null,null,{"$f":"COUNTIF(K110:AF110,\">=1\")-I110","v":0}]
["M",{"$f":"IF(ISBLANK(E111),\"\",LOOKUP(IF(2000+E111>$G$1,1900+E111,2000+E111),Tabelle2!A:A,Tabelle2!C:C))","v":"U18"},{"$f":"IF(G111>=1,SUMPRODUCT(($A$6:$A$418=A111)*($B$6:$B$418=B111)*($G$6:$G$418>G111))+1,\"\")","v":""},"Lang, Maynard",7,"JSG Mücheln",{"$f":"H111+J111","v":0},{"$f":"COUNTIF(K111:AE111,\">=1\")+COUNTIF(K111:AE111,\"T\")","v":0},{"$f":"MIN(15,COUNTIF(K111:AE111,\">=1\"))","v":0},{"$f":"IF(I111>=15,(SUM(LARGE(K111:AE111,{1;2;3;4;5;6;7;8;9;10;11;12;13;14;15}))+AF111),SUM(K111:AF111))","v":0},null,null,null,null,null,null,null,null,null,null,null,null,null,null,null,null,null,null,null,null,null,null,{"$f":"COUNTIF(K111:AF111,\">=1\")-I111","v":0}]
["M",{"$f":"IF(ISBLANK(E112),\"\",LOOKUP(IF(2000+E112>$G$1,1900+E112,2000+E112),Tabelle2!A:A,Tabelle2!C:C))","v":"U18"},{"$f":"IF(G112>=1,SUMPRODUCT(($A$6:$A$418=A112)*($B$6:$B$418=B112)*($G$6:$G$418>G112))+1,\"\")","v":""},"Rösner, Tkim",6,"LSG Lieskau",{"$f":"H112+J112","v":0},{"$f":"COUNTIF(K112:AE112,\">=1\")+COUNTIF(K112:AE112,\"T\")","v":0},{"$f":"MIN(15,COUNTIF(K112:AE112,\">=1\"))","v":0},{"$f":"IF(I112>=15,(SUM(LARGE(K112:AE112,{1;2;3;4;5;6;7;8;9;10;11;12;13;14;15}))+AF112),SUM(K112:AF112))","v":0},null,null,null,null,null,null,null,null,null,null,null,null,null,null,null,null,null,null,null,null,null,null,{"$f":"COUNTIF(K112:AF112,\">=1\")-I112","v":0}]
["M",{"$f":"IF(ISBLANK(E113),\"\",LOOKUP(IF(2000+E113>$G$1,1900+E113,2000+E113),Tabelle2!A:A,Tabelle2!C:C))","v":"U20"},{"$f":"IF(G113>=1,SUMPRODUCT(($A$6:$A$418=A113)*($B$6:$B$418=B113)*($G$6:$G$418>G113))+1,\"\")","v":1},"Hammerl, Theodor",4,"TSV Leuna",{"$f":"H113+J113","v":45},{"$f":"COUNTIF(K113:AE113,\">=1\")+COUNTIF(K113:AE113,\"T\")","v":2},{"$f":"MIN(15,COUNTIF(K113:AE113,\">=1\"))","v":2},{"$f":"IF(I113>=15,(SUM(LARGE(K113:AE113,{1;2;3;4;5;6;7;8;9;10;11;12;13;14;15}))+AF113),SUM(K113:AF113))","v":43},20,23,null,null,null,null,null,null,null,null,null,null,null,null,null,null,null,null,null,null,null,null,{"$f":"COUNTIF(K113:AF113,\">=1\")-I113","v":0}]
["M",{"$f":"IF(ISBLANK(E114),\"\",LOOKUP(IF(2000+E114>$G$1,1900+E114,2000+E114),Tabelle2!A:A,Tabelle2!C:C))","v":"U20"},{"$f":"IF(G114>=1,SUMPRODUCT(($A$6:$A$418=A114)*($B$6:$B$418=B114)*($G$6:$G$418>G114))+1,\"\")","v":2},"Liebscher, Sebastian",5,"SV Braunsbedra",{"$f":"H114+J114","v":26},{"$f":"COUNTIF(K114:AE114,\">=1\")+COUNTIF(K114:AE114,\"T\")","v":1},{"$f":"MIN(15,COUNTIF(K114:AE114,\">=1\"))","v":1},{"$f":"IF(I114>=15,(SUM(LARGE(K114:AE114,{1;2;3;4;5;6;7;8;9;10;11;12;13;14;15}))+AF114),SUM(K114:AF114))","v":25},null,25,null,null,null,null,null,null,null,null,null,null,null,null,null,null,null,null,null,null,null,null,{"$f":"COUNTIF(K114:AF114,\">=1\")-I114","v":0}]
["M",{"$f":"IF(ISBLANK(E115),\"\",LOOKUP(IF(2000+E115>$G$1,1900+E115,2000+E115),Tabelle2!A:A,Tabelle2!C:C))","v":"U20"},{"$f":"IF(G115>=1,SUMPRODUCT(($A$6:$A$418=A115)*($B$6:$B$418=B115)*($G$6:$G$418>G115))+1,\"\")","v":3},"Weist, Matteo",5,"TSV Leuna",{"$f":"H115+J115","v":21},{"$f":"COUNTIF(K115:AE115,\">=1\")+COUNTIF(K115:AE115,\"T\")","v":1},{"$f":"MIN(15,COUNTIF(K115:AE115,\">=1\"))","v":1},{"$f":"IF(I115>=15,(SUM(LARGE(K115:AE115,{1;2;3;4;5;6;7;8;9;10;11;12;13;14;15}))+AF115),SUM(K115:AF115))","v":20},20,null,null,null,null,null,null,null,null,null,null,null,null,null,null,null,null,null,null,null,null,null,{"$f":"COUNTIF(K115:AF115,\">=1\")-I115","v":0}]
["M",{"$f":"IF(ISBLANK(E116),\"\",LOOKUP(IF(2000+E116>$G$1,1900+E116,2000+E116),Tabelle2!A:A,Tabelle2!C:C))","v":"U20"},{"$f":"IF(G116>=1,SUMPRODUCT(($A$6:$A$418=A116)*($B$6:$B$418=B116)*($G$6:$G$418>G116))+1,\"\")","v":""},"Trautmann, Wotan",5,"SV Lodersleben",{"$f":"H116+J116","v":0},{"$f":"COUNTIF(K116:AE116,\">=1\")+COUNTIF(K116:AE116,\"T\")","v":0},{"$f":"MIN(15,COUNTIF(K116:AE116,\">=1\"))","v":0},{"$f":"IF(I116>=15,(SUM(LARGE(K116:AE116,{1;2;3;4;5;6;7;8;9;10;11;12;13;14;15}))+AF116),SUM(K116:AF116))","v":0},null,null,null,null,null,null,null,null,null,null,null,null,null,null,null,null,null,null,null,null,null,null,{"$f":"COUNTIF(K116:AF116,\">=1\")-I116","v":0}]
["M",{"$f":"IF(ISBLANK(E117),\"\",LOOKUP(IF(2000+E117>$G$1,1900+E117,2000+E117),Tabelle2!A:A,Tabelle2!C:C))","v":20},{"$f":"IF(G117>=1,SUMPRODUCT(($A$6:$A$418=A117)*($B$6:$B$418=B117)*($G$6:$G$418>G117))+1,\"\")","v":1},"Hänze, Julius",2,"SV Braunsbedra",{"$f":"H117+J117","v":21},{"$f":"COUNTIF(K117:AE117,\">=1\")+COUNTIF(K117:AE117,\"T\")","v":1},{"$f":"MIN(15,COUNTIF(K117:AE117,\">=1\"))","v":1},{"$f":"IF(I117>=15,(SUM(LARGE(K117:AE117,{1;2;3;4;5;6;7;8;9;10;11;12;13;14;15}))+AF117),SUM(K117:AF117))","v":20},null,20,null,null,null,null,null,null,null,null,null,null,null,null,null,null,null,null,null,null,null,null,{"$f":"COUNTIF(K117:AF117,\">=1\")-I117","v":0}]
["M",{"$f":"IF(ISBLANK(E118),\"\",LOOKUP(IF(2000+E118>$G$1,1900+E118,2000+E118),Tabelle2!A:A,Tabelle2!C:C))","v":20},{"$f":"IF(G118>=1,SUMPRODUCT(($A$6:$A$418=A118)*($B$6:$B$418=B118)*($G$6:$G$418>G118))+1,\"\")","v":""},"Rosmeisl, Tim",98,"SV Braunsbedra",{"$f":"H118+J118","v":0},{"$f":"COUNTIF(K118:AE118,\">=1\")+COUNTIF(K118:AE118,\"T\")","v":0},{"$f":"MIN(15,COUNTIF(K118:AE118,\">=1\"))","v":0},{"$f":"IF(I118>=15,(SUM(LARGE(K118:AE118,{1;2;3;4;5;6;7;8;9;10;11;12;13;14;15}))+AF118),SUM(K118:AF118))","v":0},null,null,null,null,null,null,null,null,null,null,null,null,null,null,null,null,null,null,null,null,null,null,{"$f":"COUNTIF(K118:AF118,\">=1\")-I118","v":0}]
["M",{"$f":"IF(ISBLANK(E119),\"\",LOOKUP(IF(2000+E119>$G$1,1900+E119,2000+E119),Tabelle2!A:A,Tabelle2!C:C))","v":20},{"$f":"IF(G119>=1,SUMPRODUCT(($A$6:$A$418=A119)*($B$6:$B$418=B119)*($G$6:$G$418>G119))+1,\"\")","v":""},"Schönlein, Tim",99,"Wettin",{"$f":"H119+J119","v":0},{"$f":"COUNTIF(K119:AE119,\">=1\")+COUNTIF(K119:AE119,\"T\")","v":0},{"$f":"MIN(15,COUNTIF(K119:AE119,\">=1\"))","v":0},{"$f":"IF(I119>=15,(SUM(LARGE(K119:AE119,{1;2;3;4;5;6;7;8;9;10;11;12;13;14;15}))+AF119),SUM(K119:AF119))","v":0},null,null,null,null,null,null,null,null,null,null,null,null,null,null,null,null,null,null,null,null,null,null,{"$f":"COUNTIF(K119:AF119,\">=1\")-I119","v":0}]
["M",{"$f":"IF(ISBLANK(E120),\"\",LOOKUP(IF(2000+E120>$G$1,1900+E120,2000+E120),Tabelle2!A:A,Tabelle2!C:C))","v":20},{"$f":"IF(G120>=1,SUMPRODUCT(($A$6:$A$418=A120)*($B$6:$B$418=B120)*($G$6:$G$418>G120))+1,\"\")","v":""},"Sikorski, Cedric",3,"TSV Leuna",{"$f":"H120+J120","v":0},{"$f":"COUNTIF(K120:AE120,\">=1\")+COUNTIF(K120:AE120,\"T\")","v":0},{"$f":"MIN(15,COUNTIF(K120:AE120,\">=1\"))","v":0},{"$f":"IF(I120>=15,(SUM(LARGE(K120:AE120,{1;2;3;4;5;6;7;8;9;10;11;12;13;14;15}))+AF120),SUM(K120:AF120))","v":0},null,null,null,null,null,null,null,null,null,null,null,null,null,null,null,null,null,null,null,null,null,null,{"$f":"COUNTIF(K120:AF120,\">=1\")-I120","v":0}]
["M",{"$f":"IF(ISBLANK(E121),\"\",LOOKUP(IF(2000+E121>$G$1,1900+E121,2000+E121),Tabelle2!A:A,Tabelle2!C:C))","v":30},{"$f":"IF(G121>=1,SUMPRODUCT(($A$6:$A$418=A121)*($B$6:$B$418=B121)*($G$6:$G$418>G121))+1,\"\")","v":1},"Bernstein, Christian",89,"SG Spergau",{"$f":"H121+J121","v":52},{"$f":"COUNTIF(K121:AE121,\">=1\")+COUNTIF(K121:AE121,\"T\")","v":2},{"$f":"MIN(15,COUNTIF(K121:AE121,\">=1\"))","v":2},{"$f":"IF(I121>=15,(SUM(LARGE(K121:AE121,{1;2;3;4;5;6;7;8;9;10;11;12;13;14;15}))+AF121),SUM(K121:AF121))","v":50},25,25,null,null,null,null,null,null,null,null,null,null,null,null,null,null,null,null,null,null,null,null,{"$f":"COUNTIF(K121:AF121,\">=1\")-I121","v":0}]
["M",{"$f":"IF(ISBLANK(E122),\"\",LOOKUP(IF(2000+E122>$G$1,1900+E122,2000+E122),Tabelle2!A:A,Tabelle2!C:C))","v":30},{"$f":"IF(G122>=1,SUMPRODUCT(($A$6:$A$418=A122)*($B$6:$B$418=B122)*($G$6:$G$418>G122))+1,\"\")","v":2},"Rudolph, Marco",89,"Merseburg",{"$f":"H122+J122","v":48},{"$f":"COUNTIF(K122:AE122,\">=1\")+COUNTIF(K122:AE122,\"T\")","v":2},{"$f":"MIN(15,COUNTIF(K122:AE122,\">=1\"))","v":2},{"$f":"IF(I122>=15,(SUM(LARGE(K122:AE122,{1;2;3;4;5;6;7;8;9;10;11;12;13;14;15}))+AF122),SUM(K122:AF122))","v":46},23,23,null,null,null,null,null,null,null,null,null,null,null,null,null,null,null,null,null,null,null,null,{"$f":"COUNTIF(K122:AF122,\">=1\")-I122","v":0}]
["M",{"$f":"IF(ISBLANK(E123),\"\",LOOKUP(IF(2000+E123>$G$1,1900+E123,2000+E123),Tabelle2!A:A,Tabelle2!C:C))","v":30},{"$f":"IF(G123>=1,SUMPRODUCT(($A$6:$A$418=A123)*($B$6:$B$418=B123)*($G$6:$G$418>G123))+1,\"\")","v":""},"Duszynski, Nico",90,"SV Frankleben",{"$f":"H123+J123","v":0},{"$f":"COUNTIF(K123:AE123,\">=1\")+COUNTIF(K123:AE123,\"T\")","v":0},{"$f":"MIN(15,COUNTIF(K123:AE123,\">=1\"))","v":0},{"$f":"IF(I123>=15,(SUM(LARGE(K123:AE123,{1;2;3;4;5;6;7;8;9;10;11;12;13;14;15}))+AF123),SUM(K123:AF123))","v":0},null,null,null,null,null,null,null,null,null,null,null,null,null,null,null,null,null,null,null,null,null,null,{"$f":"COUNTIF(K123:AF123,\">=1\")-I123","v":0}]
["M",{"$f":"IF(ISBLANK(E124),\"\",LOOKUP(IF(2000+E124>$G$1,1900+E124,2000+E124),Tabelle2!A:A,Tabelle2!C:C))","v":30},{"$f":"IF(G124>=1,SUMPRODUCT(($A$6:$A$418=A124)*($B$6:$B$418=B124)*($G$6:$G$418>G124))+1,\"\")","v":""},"Kuckelt, Nick",89,"Zöschen",{"$f":"H124+J124","v":0},{"$f":"COUNTIF(K124:AE124,\">=1\")+COUNTIF(K124:AE124,\"T\")","v":0},{"$f":"MIN(15,COUNTIF(K124:AE124,\">=1\"))","v":0},{"$f":"IF(I124>=15,(SUM(LARGE(K124:AE124,{1;2;3;4;5;6;7;8;9;10;11;12;13;14;15}))+AF124),SUM(K124:AF124))","v":0},null,null,null,null,null,null,null,null,null,null,null,null,null,null,null,null,null,null,null,null,null,null,{"$f":"COUNTIF(K124:AF124,\">=1\")-I124","v":0}]
["M",{"$f":"IF(ISBLANK(E125),\"\",LOOKUP(IF(2000+E125>$G$1,1900+E125,2000+E125),Tabelle2!A:A,Tabelle2!C:C))","v":30},{"$f":"IF(G125>=1,SUMPRODUCT(($A$6:$A$418=A125)*($B$6:$B$418=B125)*($G$6:$G$418>G125))+1,\"\")","v":""},"Menke, Carlo",90,"Bad Dürrenberg",{"$f":"H125+J125","v":0},{"$f":"COUNTIF(K125:AE125,\">=1\")+COUNTIF(K125:AE125,\"T\")","v":0},{"$f":"MIN(15,COUNTIF(K125:AE125,\">=1\"))","v":0},{"$f":"IF(I125>=15,(SUM(LARGE(K125:AE125,{1;2;3;4;5;6;7;8;9;10;11;12;13;14;15}))+AF125),SUM(K125:AF125))","v":0},null,null,null,null,null,null,null,null,null,null,null,null,null,null,null,null,null,null,null,null,null,null,{"$f":"COUNTIF(K125:AF125,\">=1\")-I125","v":0}]
["M",{"$f":"IF(ISBLANK(E126),\"\",LOOKUP(IF(2000+E126>$G$1,1900+E126,2000+E126),Tabelle2!A:A,Tabelle2!C:C))","v":30},{"$f":"IF(G126>=1,SUMPRODUCT(($A$6:$A$418=A126)*($B$6:$B$418=B126)*($G$6:$G$418>G126))+1,\"\")","v":""},"Moses, Tobias",92,"Mücheln",{"$f":"H126+J126","v":0},{"$f":"COUNTIF(K126:AE126,\">=1\")+COUNTIF(K126:AE126,\"T\")","v":0},{"$f":"MIN(15,COUNTIF(K126:AE126,\">=1\"))","v":0},{"$f":"IF(I126>=15,(SUM(LARGE(K126:AE126,{1;2;3;4;5;6;7;8;9;10;11;12;13;14;15}))+AF126),SUM(K126:AF126))","v":0},null,null,null,null,null,null,null,null,null,null,null,null,null,null,null,null,null,null,null,null,null,null,{"$f":"COUNTIF(K126:AF126,\">=1\")-I126","v":0}]
["M",{"$f":"IF(ISBLANK(E127),\"\",LOOKUP(IF(2000+E127>$G$1,1900+E127,2000+E127),Tabelle2!A:A,Tabelle2!C:C))","v":30},{"$f":"IF(G127>=1,SUMPRODUCT(($A$6:$A$418=A127)*($B$6:$B$418=B127)*($G$6:$G$418>G127))+1,\"\")","v":""},"Sterz, Konrad",92,"SV Saaletal Wettin",{"$f":"H127+J127","v":0},{"$f":"COUNTIF(K127:AE127,\">=1\")+COUNTIF(K127:AE127,\"T\")","v":0},{"$f":"MIN(15,COUNTIF(K127:AE127,\">=1\"))","v":0},{"$f":"IF(I127>=15,(SUM(LARGE(K127:AE127,{1;2;3;4;5;6;7;8;9;10;11;12;13;14;15}))+AF127),SUM(K127:AF127))","v":0},null,null,null,null,null,null,null,null,null,null,null,null,null,null,null,null,null,null,null,null,null,null,{"$f":"COUNTIF(K127:AF127,\">=1\")-I127","v":0}]
["M",{"$f":"IF(ISBLANK(E128),\"\",LOOKUP(IF(2000+E128>$G$1,1900+E128,2000+E128),Tabelle2!A:A,Tabelle2!C:C))","v":30},{"$f":"IF(G128>=1,SUMPRODUCT(($A$6:$A$418=A128)*($B$6:$B$418=B128)*($G$6:$G$418>G128))+1,\"\")","v":""},"Striese, Mathias",90,"TSV Leuna Ski",{"$f":"H128+J128","v":0},{"$f":"COUNTIF(K128:AE128,\">=1\")+COUNTIF(K128:AE128,\"T\")","v":0},{"$f":"MIN(15,COUNTIF(K128:AE128,\">=1\"))","v":0},{"$f":"IF(I128>=15,(SUM(LARGE(K128:AE128,{1;2;3;4;5;6;7;8;9;10;11;12;13;14;15}))+AF128),SUM(K128:AF128))","v":0},null,null,null,null,null,null,null,null,null,null,null,null,null,null,null,null,null,null,null,null,null,null,{"$f":"COUNTIF(K128:AF128,\">=1\")-I128","v":0}]
["M",{"$f":"IF(ISBLANK(E129),\"\",LOOKUP(IF(2000+E129>$G$1,1900+E129,2000+E129),Tabelle2!A:A,Tabelle2!C:C))","v":35},{"$f":"IF(G129>=1,SUMPRODUCT(($A$6:$A$418=A129)*($B$6:$B$418=B129)*($G$6:$G$418>G129))+1,\"\")","v":1},"Jurczok, Marco",87,"TC Merseburg",{"$f":"H129+J129","v":26},{"$f":"COUNTIF(K129:AE129,\">=1\")+COUNTIF(K129:AE129,\"T\")","v":1},{"$f":"MIN(15,COUNTIF(K129:AE129,\">=1\"))","v":1},{"$f":"IF(I129>=15,(SUM(LARGE(K129:AE129,{1;2;3;4;5;6;7;8;9;10;11;12;13;14;15}))+AF129),SUM(K129:AF129))","v":25},25,null,null,null,null,null,null,null,null,null,null,null,null,null,null,null,null,null,null,null,null,null,{"$f":"COUNTIF(K129:AF129,\">=1\")-I129","v":0}]
["M",{"$f":"IF(ISBLANK(E130),\"\",LOOKUP(IF(2000+E130>$G$1,1900+E130,2000+E130),Tabelle2!A:A,Tabelle2!C:C))","v":35},{"$f":"IF(G130>=1,SUMPRODUCT(($A$6:$A$418=A130)*($B$6:$B$418=B130)*($G$6:$G$418>G130))+1,\"\")","v":1},"Ruzicka, Christian",88,"Sportring Mücheln",{"$f":"H130+J130","v":26},{"$f":"COUNTIF(K130:AE130,\">=1\")+COUNTIF(K130:AE130,\"T\")","v":1},{"$f":"MIN(15,COUNTIF(K130:AE130,\">=1\"))","v":1},{"$f":"IF(I130>=15,(SUM(LARGE(K130:AE130,{1;2;3;4;5;6;7;8;9;10;11;12;13;14;15}))+AF130),SUM(K130:AF130))","v":25},null,25,null,null,null,null,null,null,null,null,null,null,null,null,null,null,null,null,null,null,null,null,{"$f":"COUNTIF(K130:AF130,\">=1\")-I130","v":0}]
["M",{"$f":"IF(ISBLANK(E131),\"\",LOOKUP(IF(2000+E131>$G$1,1900+E131,2000+E131),Tabelle2!A:A,Tabelle2!C:C))","v":35},{"$f":"IF(G131>=1,SUMPRODUCT(($A$6:$A$418=A131)*($B$6:$B$418=B131)*($G$6:$G$418>G131))+1,\"\")","v":3},"Stampnik, Jens",84,"Merseburg",{"$f":"H131+J131","v":21},{"$f":"COUNTIF(K131:AE131,\">=1\")+COUNTIF(K131:AE131,\"T\")","v":1},{"$f":"MIN(15,COUNTIF(K131:AE131,\">=1\"))","v":1},{"$f":"IF(I131>=15,(SUM(LARGE(K131:AE131,{1;2;3;4;5;6;7;8;9;10;11;12;13;14;15}))+AF131),SUM(K131:AF131))","v":20},null,20,null,null,null,null,null,null,null,null,null,null,null,null,null,null,null,null,null,null,null,null,{"$f":"COUNTIF(K131:AF131,\">=1\")-I131","v":0}]
["M",{"$f":"IF(ISBLANK(E132),\"\",LOOKUP(IF(2000+E132>$G$1,1900+E132,2000+E132),Tabelle2!A:A,Tabelle2!C:C))","v":35},{"$f":"IF(G132>=1,SUMPRODUCT(($A$6:$A$418=A132)*($B$6:$B$418=B132)*($G$6:$G$418>G132))+1,\"\")","v":4},"Schöppe, Max",87,"SV Braunsbedra",{"$f":"H132+J132","v":19},{"$f":"COUNTIF(K132:AE132,\">=1\")+COUNTIF(K132:AE132,\"T\")","v":1},{"$f":"MIN(15,COUNTIF(K132:AE132,\">=1\"))","v":1},{"$f":"IF(I132>=15,(SUM(LARGE(K132:AE132,{1;2;3;4;5;6;7;8;9;10;11;12;13;14;15}))+AF132),SUM(K132:AF132))","v":18},null,18,null,null,null,null,null,null,null,null,null,null,null,null,null,null,null,null,null,null,null,null,{"$f":"COUNTIF(K132:AF132,\">=1\")-I132","v":0}]
["M",{"$f":"IF(ISBLANK(E133),\"\",LOOKUP(IF(2000+E133>$G$1,1900+E133,2000+E133),Tabelle2!A:A,Tabelle2!C:C))","v":35},{"$f":"IF(G133>=1,SUMPRODUCT(($A$6:$A$418=A133)*($B$6:$B$418=B133)*($G$6:$G$418>G133))+1,\"\")","v":""},"Bautz, Stafan",88,"Reipisch",{"$f":"H133+J133","v":0},{"$f":"COUNTIF(K133:AE133,\">=1\")+COUNTIF(K133:AE133,\"T\")","v":0},{"$f":"MIN(15,COUNTIF(K133:AE133,\">=1\"))","v":0},{"$f":"IF(I133>=15,(SUM(LARGE(K133:AE133,{1;2;3;4;5;6;7;8;9;10;11;12;13;14;15}))+AF133),SUM(K133:AF133))","v":0},null,null,null,null,null,null,null,null,null,null,null,null,null,null,null,null,null,null,null,null,null,null,{"$f":"COUNTIF(K133:AF133,\">=1\")-I133","v":0}]
["M",{"$f":"IF(ISBLANK(E134),\"\",LOOKUP(IF(2000+E134>$G$1,1900+E134,2000+E134),Tabelle2!A:A,Tabelle2!C:C))","v":35},{"$f":"IF(G134>=1,SUMPRODUCT(($A$6:$A$418=A134)*($B$6:$B$418=B134)*($G$6:$G$418>G134))+1,\"\")","v":""},"Beck, Juan",86,"SV Blau-Weiß Günthersdorf",{"$f":"H134+J134","v":0},{"$f":"COUNTIF(K134:AE134,\">=1\")+COUNTIF(K134:AE134,\"T\")","v":0},{"$f":"MIN(15,COUNTIF(K134:AE134,\">=1\"))","v":0},{"$f":"IF(I134>=15,(SUM(LARGE(K134:AE134,{1;2;3;4;5;6;7;8;9;10;11;12;13;14;15}))+AF134),SUM(K134:AF134))","v":0},null,null,null,null,null,null,null,null,null,null,null,null,null,null,null,null,null,null,null,null,null,null,{"$f":"COUNTIF(K134:AF134,\">=1\")-I134","v":0}]
["M",{"$f":"IF(ISBLANK(E135),\"\",LOOKUP(IF(2000+E135>$G$1,1900+E135,2000+E135),Tabelle2!A:A,Tabelle2!C:C))","v":35},{"$f":"IF(G135>=1,SUMPRODUCT(($A$6:$A$418=A135)*($B$6:$B$418=B135)*($G$6:$G$418>G135))+1,\"\")","v":""},"Bodis, Ferec",85,"Mücheln",{"$f":"H135+J135","v":0},{"$f":"COUNTIF(K135:AE135,\">=1\")+COUNTIF(K135:AE135,\"T\")","v":0},{"$f":"MIN(15,COUNTIF(K135:AE135,\">=1\"))","v":0},{"$f":"IF(I135>=15,(SUM(LARGE(K135:AE135,{1;2;3;4;5;6;7;8;9;10;11;12;13;14;15}))+AF135),SUM(K135:AF135))","v":0},null,null,null,null,null,null,null,null,null,null,null,null,null,null,null,null,null,null,null,null,null,null,{"$f":"COUNTIF(K135:AF135,\">=1\")-I135","v":0}]
["M",{"$f":"IF(ISBLANK(E136),\"\",LOOKUP(IF(2000+E136>$G$1,1900+E136,2000+E136),Tabelle2!A:A,Tabelle2!C:C))","v":35},{"$f":"IF(G136>=1,SUMPRODUCT(($A$6:$A$418=A136)*($B$6:$B$418=B136)*($G$6:$G$418>G136))+1,\"\")","v":""},"Halgasch, Tobias",88,"L-A. Braunsbedra",{"$f":"H136+J136","v":0},{"$f":"COUNTIF(K136:AE136,\">=1\")+COUNTIF(K136:AE136,\"T\")","v":0},{"$f":"MIN(15,COUNTIF(K136:AE136,\">=1\"))","v":0},{"$f":"IF(I136>=15,(SUM(LARGE(K136:AE136,{1;2;3;4;5;6;7;8;9;10;11;12;13;14;15}))+AF136),SUM(K136:AF136))","v":0},null,null,null,null,null,null,null,null,null,null,null,null,null,null,null,null,null,null,null,null,null,null,{"$f":"COUNTIF(K136:AF136,\">=1\")-I136","v":0}]
["M",{"$f":"IF(ISBLANK(E137),\"\",LOOKUP(IF(2000+E137>$G$1,1900+E137,2000+E137),Tabelle2!A:A,Tabelle2!C:C))","v":35},{"$f":"IF(G137>=1,SUMPRODUCT(($A$6:$A$418=A137)*($B$6:$B$418=B137)*($G$6:$G$418>G137))+1,\"\")","v":""},"Helbig, Steven",87,"Mücheln",{"$f":"H137+J137","v":0},{"$f":"COUNTIF(K137:AE137,\">=1\")+COUNTIF(K137:AE137,\"T\")","v":0},{"$f":"MIN(15,COUNTIF(K137:AE137,\">=1\"))","v":0},{"$f":"IF(I137>=15,(SUM(LARGE(K137:AE137,{1;2;3;4;5;6;7;8;9;10;11;12;13;14;15}))+AF137),SUM(K137:AF137))","v":0},null,null,null,null,null,null,null,null,null,null,null,null,null,null,null,null,null,null,null,null,null,null,{"$f":"COUNTIF(K137:AF137,\">=1\")-I137","v":0}]
["M",{"$f":"IF(ISBLANK(E138),\"\",LOOKUP(IF(2000+E138>$G$1,1900+E138,2000+E138),Tabelle2!A:A,Tabelle2!C:C))","v":35},{"$f":"IF(G138>=1,SUMPRODUCT(($A$6:$A$418=A138)*($B$6:$B$418=B138)*($G$6:$G$418>G138))+1,\"\")","v":""},"Hoffmann, Gerhard",87,"SV Braunsbedra",{"$f":"H138+J138","v":0},{"$f":"COUNTIF(K138:AE138,\">=1\")+COUNTIF(K138:AE138,\"T\")","v":0},{"$f":"MIN(15,COUNTIF(K138:AE138,\">=1\"))","v":0},{"$f":"IF(I138>=15,(SUM(LARGE(K138:AE138,{1;2;3;4;5;6;7;8;9;10;11;12;13;14;15}))+AF138),SUM(K138:AF138))","v":0},null,null,null,null,null,null,null,null,null,null,null,null,null,null,null,null,null,null,null,null,null,null,{"$f":"COUNTIF(K138:AF138,\">=1\")-I138","v":0}]
["M",{"$f":"IF(ISBLANK(E139),\"\",LOOKUP(IF(2000+E139>$G$1,1900+E139,2000+E139),Tabelle2!A:A,Tabelle2!C:C))","v":35},{"$f":"IF(G139>=1,SUMPRODUCT(($A$6:$A$418=A139)*($B$6:$B$418=B139)*($G$6:$G$418>G139))+1,\"\")","v":""},"Kuckelt, Nico",87,"SV Zöschen 1912",{"$f":"H139+J139","v":0},{"$f":"COUNTIF(K139:AE139,\">=1\")+COUNTIF(K139:AE139,\"T\")","v":0},{"$f":"MIN(15,COUNTIF(K139:AE139,\">=1\"))","v":0},{"$f":"IF(I139>=15,(SUM(LARGE(K139:AE139,{1;2;3;4;5;6;7;8;9;10;11;12;13;14;15}))+AF139),SUM(K139:AF139))","v":0},null,null,null,null,null,null,null,null,null,null,null,null,null,null,null,null,null,null,null,null,null,null,{"$f":"COUNTIF(K139:AF139,\">=1\")-I139","v":0}]
["M",{"$f":"IF(ISBLANK(E140),\"\",LOOKUP(IF(2000+E140>$G$1,1900+E140,2000+E140),Tabelle2!A:A,Tabelle2!C:C))","v":35},{"$f":"IF(G140>=1,SUMPRODUCT(($A$6:$A$418=A140)*($B$6:$B$418=B140)*($G$6:$G$418>G140))+1,\"\")","v":""},"Richter, Anton",84,"TC Merseburg",{"$f":"H140+J140","v":0},{"$f":"COUNTIF(K140:AE140,\">=1\")+COUNTIF(K140:AE140,\"T\")","v":0},{"$f":"MIN(15,COUNTIF(K140:AE140,\">=1\"))","v":0},{"$f":"IF(I140>=15,(SUM(LARGE(K140:AE140,{1;2;3;4;5;6;7;8;9;10;11;12;13;14;15}))+AF140),SUM(K140:AF140))","v":0},null,null,null,null,null,null,null,null,null,null,null,null,null,null,null,null,null,null,null,null,null,null,{"$f":"COUNTIF(K140:AF140,\">=1\")-I140","v":0}]
["M",{"$f":"IF(ISBLANK(E141),\"\",LOOKUP(IF(2000+E141>$G$1,1900+E141,2000+E141),Tabelle2!A:A,Tabelle2!C:C))","v":35},{"$f":"IF(G141>=1,SUMPRODUCT(($A$6:$A$418=A141)*($B$6:$B$418=B141)*($G$6:$G$418>G141))+1,\"\")","v":""},"Ruschka, Christian",88,"Mücheln",{"$f":"H141+J141","v":0},{"$f":"COUNTIF(K141:AE141,\">=1\")+COUNTIF(K141:AE141,\"T\")","v":0},{"$f":"MIN(15,COUNTIF(K141:AE141,\">=1\"))","v":0},{"$f":"IF(I141>=15,(SUM(LARGE(K141:AE141,{1;2;3;4;5;6;7;8;9;10;11;12;13;14;15}))+AF141),SUM(K141:AF141))","v":0},null,null,null,null,null,null,null,null,null,null,null,null,null,null,null,null,null,null,null,null,null,null,{"$f":"COUNTIF(K141:AF141,\">=1\")-I141","v":0}]
["M",{"$f":"IF(ISBLANK(E142),\"\",LOOKUP(IF(2000+E142>$G$1,1900+E142,2000+E142),Tabelle2!A:A,Tabelle2!C:C))","v":35},{"$f":"IF(G142>=1,SUMPRODUCT(($A$6:$A$418=A142)*($B$6:$B$418=B142)*($G$6:$G$418>G142))+1,\"\")","v":""},"Schreyer, Jörg",88,"Chemie Leuna",{"$f":"H142+J142","v":0},{"$f":"COUNTIF(K142:AE142,\">=1\")+COUNTIF(K142:AE142,\"T\")","v":0},{"$f":"MIN(15,COUNTIF(K142:AE142,\">=1\"))","v":0},{"$f":"IF(I142>=15,(SUM(LARGE(K142:AE142,{1;2;3;4;5;6;7;8;9;10;11;12;13;14;15}))+AF142),SUM(K142:AF142))","v":0},null,null,null,null,null,null,null,null,null,null,null,null,null,null,null,null,null,null,null,null,null,null,{"$f":"COUNTIF(K142:AF142,\">=1\")-I142","v":0}]
["M",{"$f":"IF(ISBLANK(E143),\"\",LOOKUP(IF(2000+E143>$G$1,1900+E143,2000+E143),Tabelle2!A:A,Tabelle2!C:C))","v":35},{"$f":"IF(G143>=1,SUMPRODUCT(($A$6:$A$418=A143)*($B$6:$B$418=B143)*($G$6:$G$418>G143))+1,\"\")","v":""},"Striese, Tobi",84,"TSV Leuna Ski",{"$f":"H143+J143","v":0},{"$f":"COUNTIF(K143:AE143,\">=1\")+COUNTIF(K143:AE143,\"T\")","v":0},{"$f":"MIN(15,COUNTIF(K143:AE143,\">=1\"))","v":0},{"$f":"IF(I143>=15,(SUM(LARGE(K143:AE143,{1;2;3;4;5;6;7;8;9;10;11;12;13;14;15}))+AF143),SUM(K143:AF143))","v":0},null,null,null,null,null,null,null,null,null,null,null,null,null,null,null,null,null,null,null,null,null,null,{"$f":"COUNTIF(K143:AF143,\">=1\")-I143","v":0}]
["M",{"$f":"IF(ISBLANK(E144),\"\",LOOKUP(IF(2000+E144>$G$1,1900+E144,2000+E144),Tabelle2!A:A,Tabelle2!C:C))","v":35},{"$f":"IF(G144>=1,SUMPRODUCT(($A$6:$A$418=A144)*($B$6:$B$418=B144)*($G$6:$G$418>G144))+1,\"\")","v":""},"Werner, Lars",86,"Braunsbedra",{"$f":"H144+J144","v":0},{"$f":"COUNTIF(K144:AE144,\">=1\")+COUNTIF(K144:AE144,\"T\")","v":0},{"$f":"MIN(15,COUNTIF(K144:AE144,\">=1\"))","v":0},{"$f":"IF(I144>=15,(SUM(LARGE(K144:AE144,{1;2;3;4;5;6;7;8;9;10;11;12;13;14;15}))+AF144),SUM(K144:AF144))","v":0},null,null,null,null,null,null,null,null,null,null,null,null,null,null,null,null,null,null,null,null,null,null,{"$f":"COUNTIF(K144:AF144,\">=1\")-I144","v":0}]
["M",{"$f":"IF(ISBLANK(E145),\"\",LOOKUP(IF(2000+E145>$G$1,1900+E145,2000+E145),Tabelle2!A:A,Tabelle2!C:C))","v":40},{"$f":"IF(G145>=1,SUMPRODUCT(($A$6:$A$418=A145)*($B$6:$B$418=B145)*($G$6:$G$418>G145))+1,\"\")","v":1},"Brandt, Ronny",82,"SV Braunsbedra",{"$f":"H145+J145","v":26},{"$f":"COUNTIF(K145:AE145,\">=1\")+COUNTIF(K145:AE145,\"T\")","v":1},{"$f":"MIN(15,COUNTIF(K145:AE145,\">=1\"))","v":1},{"$f":"IF(I145>=15,(SUM(LARGE(K145:AE145,{1;2;3;4;5;6;7;8;9;10;11;12;13;14;15}))+AF145),SUM(K145:AF145))","v":25},null,25,null,null,null,null,null,null,null,null,null,null,null,null,null,null,null,null,null,null,null,null,{"$f":"COUNTIF(K145:AF145,\">=1\")-I145","v":0}]
["M",{"$f":"IF(ISBLANK(E146),\"\",LOOKUP(IF(2000+E146>$G$1,1900+E146,2000+E146),Tabelle2!A:A,Tabelle2!C:C))","v":40},{"$f":"IF(G146>=1,SUMPRODUCT(($A$6:$A$418=A146)*($B$6:$B$418=B146)*($G$6:$G$418>G146))+1,\"\")","v":2},"Bölke, Gunnar",82,"Merseburg",{"$f":"H146+J146","v":24},{"$f":"COUNTIF(K146:AE146,\">=1\")+COUNTIF(K146:AE146,\"T\")","v":1},{"$f":"MIN(15,COUNTIF(K146:AE146,\">=1\"))","v":1},{"$f":"IF(I146>=15,(SUM(LARGE(K146:AE146,{1;2;3;4;5;6;7;8;9;10;11;12;13;14;15}))+AF146),SUM(K146:AF146))","v":23},null,23,null,null,null,null,null,null,null,null,null,null,null,null,null,null,null,null,null,null,null,null,{"$f":"COUNTIF(K146:AF146,\">=1\")-I146","v":0}]
["M",{"$f":"IF(ISBLANK(E147),\"\",LOOKUP(IF(2000+E147>$G$1,1900+E147,2000+E147),Tabelle2!A:A,Tabelle2!C:C))","v":40},{"$f":"IF(G147>=1,SUMPRODUCT(($A$6:$A$418=A147)*($B$6:$B$418=B147)*($G$6:$G$418>G147))+1,\"\")","v":3},"Weps, Michael ",83,"SV 1916 Beuna",{"$f":"H147+J147","v":21},{"$f":"COUNTIF(K147:AE147,\">=1\")+COUNTIF(K147:AE147,\"T\")","v":1},{"$f":"MIN(15,COUNTIF(K147:AE147,\">=1\"))","v":1},{"$f":"IF(I147>=15,(SUM(LARGE(K147:AE147,{1;2;3;4;5;6;7;8;9;10;11;12;13;14;15}))+AF147),SUM(K147:AF147))","v":20},null,20,null,null,null,null,null,null,null,null,null,null,null,null,null,null,null,null,null,null,null,null,{"$f":"COUNTIF(K147:AF147,\">=1\")-I147","v":0}]
["M",{"$f":"IF(ISBLANK(E148),\"\",LOOKUP(IF(2000+E148>$G$1,1900+E148,2000+E148),Tabelle2!A:A,Tabelle2!C:C))","v":40},{"$f":"IF(G148>=1,SUMPRODUCT(($A$6:$A$418=A148)*($B$6:$B$418=B148)*($G$6:$G$418>G148))+1,\"\")","v":""},"Haring, Tino",80,"Kinderträume Merseburg",{"$f":"H148+J148","v":0},{"$f":"COUNTIF(K148:AE148,\">=1\")+COUNTIF(K148:AE148,\"T\")","v":0},{"$f":"MIN(15,COUNTIF(K148:AE148,\">=1\"))","v":0},{"$f":"IF(I148>=15,(SUM(LARGE(K148:AE148,{1;2;3;4;5;6;7;8;9;10;11;12;13;14;15}))+AF148),SUM(K148:AF148))","v":0},null,null,null,null,null,null,null,null,null,null,null,null,null,null,null,null,null,null,null,null,null,null,{"$f":"COUNTIF(K148:AF148,\">=1\")-I148","v":0}]
["M",{"$f":"IF(ISBLANK(E149),\"\",LOOKUP(IF(2000+E149>$G$1,1900+E149,2000+E149),Tabelle2!A:A,Tabelle2!C:C))","v":40},{"$f":"IF(G149>=1,SUMPRODUCT(($A$6:$A$418=A149)*($B$6:$B$418=B149)*($G$6:$G$418>G149))+1,\"\")","v":""},"Homann, Marcel",81,"SV 1885 TT",{"$f":"H149+J149","v":0},{"$f":"COUNTIF(K149:AE149,\">=1\")+COUNTIF(K149:AE149,\"T\")","v":0},{"$f":"MIN(15,COUNTIF(K149:AE149,\">=1\"))","v":0},{"$f":"IF(I149>=15,(SUM(LARGE(K149:AE149,{1;2;3;4;5;6;7;8;9;10;11;12;13;14;15}))+AF149),SUM(K149:AF149))","v":0},null,null,null,null,null,null,null,null,null,null,null,null,null,null,null,null,null,null,null,null,null,null,{"$f":"COUNTIF(K149:AF149,\">=1\")-I149","v":0}]
["M",{"$f":"IF(ISBLANK(E150),\"\",LOOKUP(IF(2000+E150>$G$1,1900+E150,2000+E150),Tabelle2!A:A,Tabelle2!C:C))","v":40},{"$f":"IF(G150>=1,SUMPRODUCT(($A$6:$A$418=A150)*($B$6:$B$418=B150)*($G$6:$G$418>G150))+1,\"\")","v":""},"Jagdmann, Sascha",80,"SV 1885 TT",{"$f":"H150+J150","v":0},{"$f":"COUNTIF(K150:AE150,\">=1\")+COUNTIF(K150:AE150,\"T\")","v":0},{"$f":"MIN(15,COUNTIF(K150:AE150,\">=1\"))","v":0},{"$f":"IF(I150>=15,(SUM(LARGE(K150:AE150,{1;2;3;4;5;6;7;8;9;10;11;12;13;14;15}))+AF150),SUM(K150:AF150))","v":0},null,null,null,null,null,null,null,null,null,null,null,null,null,null,null,null,null,null,null,null,null,null,{"$f":"COUNTIF(K150:AF150,\">=1\")-I150","v":0}]
["M",{"$f":"IF(ISBLANK(E151),\"\",LOOKUP(IF(2000+E151>$G$1,1900+E151,2000+E151),Tabelle2!A:A,Tabelle2!C:C))","v":40},{"$f":"IF(G151>=1,SUMPRODUCT(($A$6:$A$418=A151)*($B$6:$B$418=B151)*($G$6:$G$418>G151))+1,\"\")","v":""},"Kober, Steve",82,"Horbach Merseburg",{"$f":"H151+J151","v":0},{"$f":"COUNTIF(K151:AE151,\">=1\")+COUNTIF(K151:AE151,\"T\")","v":0},{"$f":"MIN(15,COUNTIF(K151:AE151,\">=1\"))","v":0},{"$f":"IF(I151>=15,(SUM(LARGE(K151:AE151,{1;2;3;4;5;6;7;8;9;10;11;12;13;14;15}))+AF151),SUM(K151:AF151))","v":0},null,null,null,null,null,null,null,null,null,null,null,null,null,null,null,null,null,null,null,null,null,null,{"$f":"COUNTIF(K151:AF151,\">=1\")-I151","v":0}]
["M",{"$f":"IF(ISBLANK(E152),\"\",LOOKUP(IF(2000+E152>$G$1,1900+E152,2000+E152),Tabelle2!A:A,Tabelle2!C:C))","v":40},{"$f":"IF(G152>=1,SUMPRODUCT(($A$6:$A$418=A152)*($B$6:$B$418=B152)*($G$6:$G$418>G152))+1,\"\")","v":""},"Ledig, Michael",82,"SV 1885 Teutschenthal",{"$f":"H152+J152","v":0},{"$f":"COUNTIF(K152:AE152,\">=1\")+COUNTIF(K152:AE152,\"T\")","v":0},{"$f":"MIN(15,COUNTIF(K152:AE152,\">=1\"))","v":0},{"$f":"IF(I152>=15,(SUM(LARGE(K152:AE152,{1;2;3;4;5;6;7;8;9;10;11;12;13;14;15}))+AF152),SUM(K152:AF152))","v":0},null,null,null,null,null,null,null,null,null,null,null,null,null,null,null,null,null,null,null,null,null,null,{"$f":"COUNTIF(K152:AF152,\">=1\")-I152","v":0}]
["M",{"$f":"IF(ISBLANK(E153),\"\",LOOKUP(IF(2000+E153>$G$1,1900+E153,2000+E153),Tabelle2!A:A,Tabelle2!C:C))","v":40},{"$f":"IF(G153>=1,SUMPRODUCT(($A$6:$A$418=A153)*($B$6:$B$418=B153)*($G$6:$G$418>G153))+1,\"\")","v":""},"Patzner, Marco",80,"Langeneichstädt",{"$f":"H153+J153","v":0},{"$f":"COUNTIF(K153:AE153,\">=1\")+COUNTIF(K153:AE153,\"T\")","v":0},{"$f":"MIN(15,COUNTIF(K153:AE153,\">=1\"))","v":0},{"$f":"IF(I153>=15,(SUM(LARGE(K153:AE153,{1;2;3;4;5;6;7;8;9;10;11;12;13;14;15}))+AF153),SUM(K153:AF153))","v":0},null,null,null,null,null,null,null,null,null,null,null,null,null,null,null,null,null,null,null,null,null,null,{"$f":"COUNTIF(K153:AF153,\">=1\")-I153","v":0}]
["M",{"$f":"IF(ISBLANK(E154),\"\",LOOKUP(IF(2000+E154>$G$1,1900+E154,2000+E154),Tabelle2!A:A,Tabelle2!C:C))","v":40},{"$f":"IF(G154>=1,SUMPRODUCT(($A$6:$A$418=A154)*($B$6:$B$418=B154)*($G$6:$G$418>G154))+1,\"\")","v":""},"Schmeißer, Christian",79,"SV Braunsbedra",{"$f":"H154+J154","v":0},{"$f":"COUNTIF(K154:AE154,\">=1\")+COUNTIF(K154:AE154,\"T\")","v":0},{"$f":"MIN(15,COUNTIF(K154:AE154,\">=1\"))","v":0},{"$f":"IF(I154>=15,(SUM(LARGE(K154:AE154,{1;2;3;4;5;6;7;8;9;10;11;12;13;14;15}))+AF154),SUM(K154:AF154))","v":0},null,null,null,null,null,null,null,null,null,null,null,null,null,null,null,null,null,null,null,null,null,null,{"$f":"COUNTIF(K154:AF154,\">=1\")-I154","v":0}]
["M",{"$f":"IF(ISBLANK(E155),\"\",LOOKUP(IF(2000+E155>$G$1,1900+E155,2000+E155),Tabelle2!A:A,Tabelle2!C:C))","v":40},{"$f":"IF(G155>=1,SUMPRODUCT(($A$6:$A$418=A155)*($B$6:$B$418=B155)*($G$6:$G$418>G155))+1,\"\")","v":""},"Tommy, Paul",80,"VS Lieskau",{"$f":"H155+J155","v":0},{"$f":"COUNTIF(K155:AE155,\">=1\")+COUNTIF(K155:AE155,\"T\")","v":0},{"$f":"MIN(15,COUNTIF(K155:AE155,\">=1\"))","v":0},{"$f":"IF(I155>=15,(SUM(LARGE(K155:AE155,{1;2;3;4;5;6;7;8;9;10;11;12;13;14;15}))+AF155),SUM(K155:AF155))","v":0},null,null,null,null,null,null,null,null,null,null,null,null,null,null,null,null,null,null,null,null,null,null,{"$f":"COUNTIF(K155:AF155,\">=1\")-I155","v":0}]
["M",{"$f":"IF(ISBLANK(E156),\"\",LOOKUP(IF(2000+E156>$G$1,1900+E156,2000+E156),Tabelle2!A:A,Tabelle2!C:C))","v":45},{"$f":"IF(G156>=1,SUMPRODUCT(($A$6:$A$418=A156)*($B$6:$B$418=B156)*($G$6:$G$418>G156))+1,\"\")","v":1},"Liebscher, Marcel",78,"SV Braunsbedra",{"$f":"H156+J156","v":50},{"$f":"COUNTIF(K156:AE156,\">=1\")+COUNTIF(K156:AE156,\"T\")","v":2},{"$f":"MIN(15,COUNTIF(K156:AE156,\">=1\"))","v":2},{"$f":"IF(I156>=15,(SUM(LARGE(K156:AE156,{1;2;3;4;5;6;7;8;9;10;11;12;13;14;15}))+AF156),SUM(K156:AF156))","v":48},25,23,null,null,null,null,null,null,null,null,null,null,null,null,null,null,null,null,null,null,null,null,{"$f":"COUNTIF(K156:AF156,\">=1\")-I156","v":0}]
["M",{"$f":"IF(ISBLANK(E157),\"\",LOOKUP(IF(2000+E157>$G$1,1900+E157,2000+E157),Tabelle2!A:A,Tabelle2!C:C))","v":45},{"$f":"IF(G157>=1,SUMPRODUCT(($A$6:$A$418=A157)*($B$6:$B$418=B157)*($G$6:$G$418>G157))+1,\"\")","v":2},"Weichert, Maik",76,"SV Braunsbedra",{"$f":"H157+J157","v":47},{"$f":"COUNTIF(K157:AE157,\">=1\")+COUNTIF(K157:AE157,\"T\")","v":2},{"$f":"MIN(15,COUNTIF(K157:AE157,\">=1\"))","v":2},{"$f":"IF(I157>=15,(SUM(LARGE(K157:AE157,{1;2;3;4;5;6;7;8;9;10;11;12;13;14;15}))+AF157),SUM(K157:AF157))","v":45},23,22,null,null,null,null,null,null,null,null,null,null,null,null,null,null,null,null,null,null,null,null,{"$f":"COUNTIF(K157:AF157,\">=1\")-I157","v":0}]
["M",{"$f":"IF(ISBLANK(E158),\"\",LOOKUP(IF(2000+E158>$G$1,1900+E158,2000+E158),Tabelle2!A:A,Tabelle2!C:C))","v":45},{"$f":"IF(G158>=1,SUMPRODUCT(($A$6:$A$418=A158)*($B$6:$B$418=B158)*($G$6:$G$418>G158))+1,\"\")","v":3},"Popp, Martin",78,"SG Spergau",{"$f":"H158+J158","v":37},{"$f":"COUNTIF(K158:AE158,\">=1\")+COUNTIF(K158:AE158,\"T\")","v":2},{"$f":"MIN(15,COUNTIF(K158:AE158,\">=1\"))","v":2},{"$f":"IF(I158>=15,(SUM(LARGE(K158:AE158,{1;2;3;4;5;6;7;8;9;10;11;12;13;14;15}))+AF158),SUM(K158:AF158))","v":35},15,20,null,null,null,null,null,null,null,null,null,null,null,null,null,null,null,null,null,null,null,null,{"$f":"COUNTIF(K158:AF158,\">=1\")-I158","v":0}]
["M",{"$f":"IF(ISBLANK(E159),\"\",LOOKUP(IF(2000+E159>$G$1,1900+E159,2000+E159),Tabelle2!A:A,Tabelle2!C:C))","v":45},{"$f":"IF(G159>=1,SUMPRODUCT(($A$6:$A$418=A159)*($B$6:$B$418=B159)*($G$6:$G$418>G159))+1,\"\")","v":4},"Donath, Sven",74,"DLRG Leuna-Merseburg",{"$f":"H159+J159","v":26},{"$f":"COUNTIF(K159:AE159,\">=1\")+COUNTIF(K159:AE159,\"T\")","v":1},{"$f":"MIN(15,COUNTIF(K159:AE159,\">=1\"))","v":1},{"$f":"IF(I159>=15,(SUM(LARGE(K159:AE159,{1;2;3;4;5;6;7;8;9;10;11;12;13;14;15}))+AF159),SUM(K159:AF159))","v":25},null,25,null,null,null,null,null,null,null,null,null,null,null,null,null,null,null,null,null,null,null,null,{"$f":"COUNTIF(K159:AF159,\">=1\")-I159","v":0}]
["M",{"$f":"IF(ISBLANK(E160),\"\",LOOKUP(IF(2000+E160>$G$1,1900+E160,2000+E160),Tabelle2!A:A,Tabelle2!C:C))","v":45},{"$f":"IF(G160>=1,SUMPRODUCT(($A$6:$A$418=A160)*($B$6:$B$418=B160)*($G$6:$G$418>G160))+1,\"\")","v":""},"Aschekowski, Nico",76,"Milzau",{"$f":"H160+J160","v":0},{"$f":"COUNTIF(K160:AE160,\">=1\")+COUNTIF(K160:AE160,\"T\")","v":0},{"$f":"MIN(15,COUNTIF(K160:AE160,\">=1\"))","v":0},{"$f":"IF(I160>=15,(SUM(LARGE(K160:AE160,{1;2;3;4;5;6;7;8;9;10;11;12;13;14;15}))+AF160),SUM(K160:AF160))","v":0},null,null,null,null,null,null,null,null,null,null,null,null,null,null,null,null,null,null,null,null,null,null,{"$f":"COUNTIF(K160:AF160,\">=1\")-I160","v":0}]
["M",{"$f":"IF(ISBLANK(E161),\"\",LOOKUP(IF(2000+E161>$G$1,1900+E161,2000+E161),Tabelle2!A:A,Tabelle2!C:C))","v":45},{"$f":"IF(G161>=1,SUMPRODUCT(($A$6:$A$418=A161)*($B$6:$B$418=B161)*($G$6:$G$418>G161))+1,\"\")","v":""},"Dittrich, Dirk",77,"SV Braunsbedra",{"$f":"H161+J161","v":0},{"$f":"COUNTIF(K161:AE161,\">=1\")+COUNTIF(K161:AE161,\"T\")","v":0},{"$f":"MIN(15,COUNTIF(K161:AE161,\">=1\"))","v":0},{"$f":"IF(I161>=15,(SUM(LARGE(K161:AE161,{1;2;3;4;5;6;7;8;9;10;11;12;13;14;15}))+AF161),SUM(K161:AF161))","v":0},null,null,null,null,null,null,null,null,null,null,null,null,null,null,null,null,null,null,null,null,null,null,{"$f":"COUNTIF(K161:AF161,\">=1\")-I161","v":0}]
["M",{"$f":"IF(ISBLANK(E162),\"\",LOOKUP(IF(2000+E162>$G$1,1900+E162,2000+E162),Tabelle2!A:A,Tabelle2!C:C))","v":45},{"$f":"IF(G162>=1,SUMPRODUCT(($A$6:$A$418=A162)*($B$6:$B$418=B162)*($G$6:$G$418>G162))+1,\"\")","v":""},"Engel, Christian",78,"Gröst",{"$f":"H162+J162","v":0},{"$f":"COUNTIF(K162:AE162,\">=1\")+COUNTIF(K162:AE162,\"T\")","v":0},{"$f":"MIN(15,COUNTIF(K162:AE162,\">=1\"))","v":0},{"$f":"IF(I162>=15,(SUM(LARGE(K162:AE162,{1;2;3;4;5;6;7;8;9;10;11;12;13;14;15}))+AF162),SUM(K162:AF162))","v":0},null,null,null,null,null,null,null,null,null,null,null,null,null,null,null,null,null,null,null,null,null,null,{"$f":"COUNTIF(K162:AF162,\">=1\")-I162","v":0}]
["M",{"$f":"IF(ISBLANK(E163),\"\",LOOKUP(IF(2000+E163>$G$1,1900+E163,2000+E163),Tabelle2!A:A,Tabelle2!C:C))","v":45},{"$f":"IF(G163>=1,SUMPRODUCT(($A$6:$A$418=A163)*($B$6:$B$418=B163)*($G$6:$G$418>G163))+1,\"\")","v":""},"Hartung, Michael",76,"TC Merseburg",{"$f":"H163+J163","v":0},{"$f":"COUNTIF(K163:AE163,\">=1\")+COUNTIF(K163:AE163,\"T\")","v":0},{"$f":"MIN(15,COUNTIF(K163:AE163,\">=1\"))","v":0},{"$f":"IF(I163>=15,(SUM(LARGE(K163:AE163,{1;2;3;4;5;6;7;8;9;10;11;12;13;14;15}))+AF163),SUM(K163:AF163))","v":0},null,null,null,null,null,null,null,null,null,null,null,null,null,null,null,null,null,null,null,null,null,null,{"$f":"COUNTIF(K163:AF163,\">=1\")-I163","v":0}]
["M",{"$f":"IF(ISBLANK(E164),\"\",LOOKUP(IF(2000+E164>$G$1,1900+E164,2000+E164),Tabelle2!A:A,Tabelle2!C:C))","v":45},{"$f":"IF(G164>=1,SUMPRODUCT(($A$6:$A$418=A164)*($B$6:$B$418=B164)*($G$6:$G$418>G164))+1,\"\")","v":""},"Herrmann, Tomas",76,"SV 1885 TT",{"$f":"H164+J164","v":0},{"$f":"COUNTIF(K164:AE164,\">=1\")+COUNTIF(K164:AE164,\"T\")","v":0},{"$f":"MIN(15,COUNTIF(K164:AE164,\">=1\"))","v":0},{"$f":"IF(I164>=15,(SUM(LARGE(K164:AE164,{1;2;3;4;5;6;7;8;9;10;11;12;13;14;15}))+AF164),SUM(K164:AF164))","v":0},null,null,null,null,null,null,null,null,null,null,null,null,null,null,null,null,null,null,null,null,null,null,{"$f":"COUNTIF(K164:AF164,\">=1\")-I164","v":0}]
["M",{"$f":"IF(ISBLANK(E165),\"\",LOOKUP(IF(2000+E165>$G$1,1900+E165,2000+E165),Tabelle2!A:A,Tabelle2!C:C))","v":45},{"$f":"IF(G165>=1,SUMPRODUCT(($A$6:$A$418=A165)*($B$6:$B$418=B165)*($G$6:$G$418>G165))+1,\"\")","v":""},"Ulrich, Günther",75,"Merseburg",{"$f":"H165+J165","v":0},{"$f":"COUNTIF(K165:AE165,\">=1\")+COUNTIF(K165:AE165,\"T\")","v":0},{"$f":"MIN(15,COUNTIF(K165:AE165,\">=1\"))","v":0},{"$f":"IF(I165>=15,(SUM(LARGE(K165:AE165,{1;2;3;4;5;6;7;8;9;10;11;12;13;14;15}))+AF165),SUM(K165:AF165))","v":0},null,null,null,null,null,null,null,null,null,null,null,null,null,null,null,null,null,null,null,null,null,null,{"$f":"COUNTIF(K165:AF165,\">=1\")-I165","v":0}]
["M",{"$f":"IF(ISBLANK(E166),\"\",LOOKUP(IF(2000+E166>$G$1,1900+E166,2000+E166),Tabelle2!A:A,Tabelle2!C:C))","v":45},{"$f":"IF(G166>=1,SUMPRODUCT(($A$6:$A$418=A166)*($B$6:$B$418=B166)*($G$6:$G$418>G166))+1,\"\")","v":""},"Vieweg, Steve",78,"VS Lieskau",{"$f":"H166+J166","v":0},{"$f":"COUNTIF(K166:AE166,\">=1\")+COUNTIF(K166:AE166,\"T\")","v":0},{"$f":"MIN(15,COUNTIF(K166:AE166,\">=1\"))","v":0},{"$f":"IF(I166>=15,(SUM(LARGE(K166:AE166,{1;2;3;4;5;6;7;8;9;10;11;12;13;14;15}))+AF166),SUM(K166:AF166))","v":0},null,null,null,null,null,null,null,null,null,null,null,null,null,null,null,null,null,null,null,null,null,null,{"$f":"COUNTIF(K166:AF166,\">=1\")-I166","v":0}]
["M",{"$f":"IF(ISBLANK(E167),\"\",LOOKUP(IF(2000+E167>$G$1,1900+E167,2000+E167),Tabelle2!A:A,Tabelle2!C:C))","v":50},{"$f":"IF(G167>=1,SUMPRODUCT(($A$6:$A$418=A167)*($B$6:$B$418=B167)*($G$6:$G$418>G167))+1,\"\")","v":1},"Kaltenborn, Matthias",72,"SV Braunsbedra",{"$f":"H167+J167","v":40},{"$f":"COUNTIF(K167:AE167,\">=1\")+COUNTIF(K167:AE167,\"T\")","v":2},{"$f":"MIN(15,COUNTIF(K167:AE167,\">=1\"))","v":2},{"$f":"IF(I167>=15,(SUM(LARGE(K167:AE167,{1;2;3;4;5;6;7;8;9;10;11;12;13;14;15}))+AF167),SUM(K167:AF167))","v":38},20,18,null,null,null,null,null,null,null,null,null,null,null,null,null,null,null,null,null,null,null,null,{"$f":"COUNTIF(K167:AF167,\">=1\")-I167","v":0}]
["M",{"$f":"IF(ISBLANK(E168),\"\",LOOKUP(IF(2000+E168>$G$1,1900+E168,2000+E168),Tabelle2!A:A,Tabelle2!C:C))","v":50},{"$f":"IF(G168>=1,SUMPRODUCT(($A$6:$A$418=A168)*($B$6:$B$418=B168)*($G$6:$G$418>G168))+1,\"\")","v":1},"Starke, Jörg",69,"WSV Saline Bad Dürrenberg",{"$f":"H168+J168","v":40},{"$f":"COUNTIF(K168:AE168,\">=1\")+COUNTIF(K168:AE168,\"T\")","v":2},{"$f":"MIN(15,COUNTIF(K168:AE168,\">=1\"))","v":2},{"$f":"IF(I168>=15,(SUM(LARGE(K168:AE168,{1;2;3;4;5;6;7;8;9;10;11;12;13;14;15}))+AF168),SUM(K168:AF168))","v":38},15,23,null,null,null,null,null,null,null,null,null,null,null,null,null,null,null,null,null,null,null,null,{"$f":"COUNTIF(K168:AF168,\">=1\")-I168","v":0}]
["M",{"$f":"IF(ISBLANK(E169),\"\",LOOKUP(IF(2000+E169>$G$1,1900+E169,2000+E169),Tabelle2!A:A,Tabelle2!C:C))","v":50},{"$f":"IF(G169>=1,SUMPRODUCT(($A$6:$A$418=A169)*($B$6:$B$418=B169)*($G$6:$G$418>G169))+1,\"\")","v":3},"Feißel, Burkhard",71,"TSV Leuna",{"$f":"H169+J169","v":30},{"$f":"COUNTIF(K169:AE169,\">=1\")+COUNTIF(K169:AE169,\"T\")","v":2},{"$f":"MIN(15,COUNTIF(K169:AE169,\">=1\"))","v":2},{"$f":"IF(I169>=15,(SUM(LARGE(K169:AE169,{1;2;3;4;5;6;7;8;9;10;11;12;13;14;15}))+AF169),SUM(K169:AF169))","v":28},13,15,null,null,null,null,null,null,null,null,null,null,null,null,null,null,null,null,null,null,null,null,{"$f":"COUNTIF(K169:AF169,\">=1\")-I169","v":0}]
["M",{"$f":"IF(ISBLANK(E170),\"\",LOOKUP(IF(2000+E170>$G$1,1900+E170,2000+E170),Tabelle2!A:A,Tabelle2!C:C))","v":50},{"$f":"IF(G170>=1,SUMPRODUCT(($A$6:$A$418=A170)*($B$6:$B$418=B170)*($G$6:$G$418>G170))+1,\"\")","v":4},"Reißig, Sven Dr.",70,"Bad Dürrenberg",{"$f":"H170+J170","v":26},{"$f":"COUNTIF(K170:AE170,\">=1\")+COUNTIF(K170:AE170,\"T\")","v":1},{"$f":"MIN(15,COUNTIF(K170:AE170,\">=1\"))","v":1},{"$f":"IF(I170>=15,(SUM(LARGE(K170:AE170,{1;2;3;4;5;6;7;8;9;10;11;12;13;14;15}))+AF170),SUM(K170:AF170))","v":25},null,25,null,null,null,null,null,null,null,null,null,null,null,null,null,null,null,null,null,null,null,null,{"$f":"COUNTIF(K170:AF170,\">=1\")-I170","v":0}]
["M",{"$f":"IF(ISBLANK(E171),\"\",LOOKUP(IF(2000+E171>$G$1,1900+E171,2000+E171),Tabelle2!A:A,Tabelle2!C:C))","v":50},{"$f":"IF(G171>=1,SUMPRODUCT(($A$6:$A$418=A171)*($B$6:$B$418=B171)*($G$6:$G$418>G171))+1,\"\")","v":5},"Thorenz, Heiko",70,"TSV Merseburg",{"$f":"H171+J171","v":21},{"$f":"COUNTIF(K171:AE171,\">=1\")+COUNTIF(K171:AE171,\"T\")","v":1},{"$f":"MIN(15,COUNTIF(K171:AE171,\">=1\"))","v":1},{"$f":"IF(I171>=15,(SUM(LARGE(K171:AE171,{1;2;3;4;5;6;7;8;9;10;11;12;13;14;15}))+AF171),SUM(K171:AF171))","v":20},null,20,null,null,null,null,null,null,null,null,null,null,null,null,null,null,null,null,null,null,null,null,{"$f":"COUNTIF(K171:AF171,\">=1\")-I171","v":0}]
["M",{"$f":"IF(ISBLANK(E172),\"\",LOOKUP(IF(2000+E172>$G$1,1900+E172,2000+E172),Tabelle2!A:A,Tabelle2!C:C))","v":50},{"$f":"IF(G172>=1,SUMPRODUCT(($A$6:$A$418=A172)*($B$6:$B$418=B172)*($G$6:$G$418>G172))+1,\"\")","v":6},"Händel, Sascha",73,"TSV Leuna",{"$f":"H172+J172","v":19},{"$f":"COUNTIF(K172:AE172,\">=1\")+COUNTIF(K172:AE172,\"T\")","v":1},{"$f":"MIN(15,COUNTIF(K172:AE172,\">=1\"))","v":1},{"$f":"IF(I172>=15,(SUM(LARGE(K172:AE172,{1;2;3;4;5;6;7;8;9;10;11;12;13;14;15}))+AF172),SUM(K172:AF172))","v":18},18,null,null,null,null,null,null,null,null,null,null,null,null,null,null,null,null,null,null,null,null,null,{"$f":"COUNTIF(K172:AF172,\">=1\")-I172","v":0}]
["M",{"$f":"IF(ISBLANK(E173),\"\",LOOKUP(IF(2000+E173>$G$1,1900+E173,2000+E173),Tabelle2!A:A,Tabelle2!C:C))","v":50},{"$f":"IF(G173>=1,SUMPRODUCT(($A$6:$A$418=A173)*($B$6:$B$418=B173)*($G$6:$G$418>G173))+1,\"\")","v":7},"Kohl-Bosdorff, Steffen",71,"TSV Leuna Ski",{"$f":"H173+J173","v":18},{"$f":"COUNTIF(K173:AE173,\">=1\")+COUNTIF(K173:AE173,\"T\")","v":1},{"$f":"MIN(15,COUNTIF(K173:AE173,\">=1\"))","v":1},{"$f":"IF(I173>=15,(SUM(LARGE(K173:AE173,{1;2;3;4;5;6;7;8;9;10;11;12;13;14;15}))+AF173),SUM(K173:AF173))","v":17},null,17,null,null,null,null,null,null,null,null,null,null,null,null,null,null,null,null,null,null,null,null,{"$f":"COUNTIF(K173:AF173,\">=1\")-I173","v":0}]
["M",{"$f":"IF(ISBLANK(E174),\"\",LOOKUP(IF(2000+E174>$G$1,1900+E174,2000+E174),Tabelle2!A:A,Tabelle2!C:C))","v":50},{"$f":"IF(G174>=1,SUMPRODUCT(($A$6:$A$418=A174)*($B$6:$B$418=B174)*($G$6:$G$418>G174))+1,\"\")","v":8},"Carey, Dermot",73,"SV Braunsbedra",{"$f":"H174+J174","v":17},{"$f":"COUNTIF(K174:AE174,\">=1\")+COUNTIF(K174:AE174,\"T\")","v":1},{"$f":"MIN(15,COUNTIF(K174:AE174,\">=1\"))","v":1},{"$f":"IF(I174>=15,(SUM(LARGE(K174:AE174,{1;2;3;4;5;6;7;8;9;10;11;12;13;14;15}))+AF174),SUM(K174:AF174))","v":16},null,16,null,null,null,null,null,null,null,null,null,null,null,null,null,null,null,null,null,null,null,null,{"$f":"COUNTIF(K174:AF174,\">=1\")-I174","v":0}]
["M",{"$f":"IF(ISBLANK(E175),\"\",LOOKUP(IF(2000+E175>$G$1,1900+E175,2000+E175),Tabelle2!A:A,Tabelle2!C:C))","v":50},{"$f":"IF(G175>=1,SUMPRODUCT(($A$6:$A$418=A175)*($B$6:$B$418=B175)*($G$6:$G$418>G175))+1,\"\")","v":9},"Knaust, Hansi",70,"DLRG Leuna-Merseburg",{"$f":"H175+J175","v":13},{"$f":"COUNTIF(K175:AE175,\">=1\")+COUNTIF(K175:AE175,\"T\")","v":1},{"$f":"MIN(15,COUNTIF(K175:AE175,\">=1\"))","v":1},{"$f":"IF(I175>=15,(SUM(LARGE(K175:AE175,{1;2;3;4;5;6;7;8;9;10;11;12;13;14;15}))+AF175),SUM(K175:AF175))","v":12},12,null,null,null,null,null,null,null,null,null,null,null,null,null,null,null,null,null,null,null,null,null,{"$f":"COUNTIF(K175:AF175,\">=1\")-I175","v":0}]
["M",{"$f":"IF(ISBLANK(E176),\"\",LOOKUP(IF(2000+E176>$G$1,1900+E176,2000+E176),Tabelle2!A:A,Tabelle2!C:C))","v":50},{"$f":"IF(G176>=1,SUMPRODUCT(($A$6:$A$418=A176)*($B$6:$B$418=B176)*($G$6:$G$418>G176))+1,\"\")","v":""},"Assmann, Jens",71,"Lodersleben",{"$f":"H176+J176","v":0},{"$f":"COUNTIF(K176:AE176,\">=1\")+COUNTIF(K176:AE176,\"T\")","v":0},{"$f":"MIN(15,COUNTIF(K176:AE176,\">=1\"))","v":0},{"$f":"IF(I176>=15,(SUM(LARGE(K176:AE176,{1;2;3;4;5;6;7;8;9;10;11;12;13;14;15}))+AF176),SUM(K176:AF176))","v":0},null,null,null,null,null,null,null,null,null,null,null,null,null,null,null,null,null,null,null,null,null,null,{"$f":"COUNTIF(K176:AF176,\">=1\")-I176","v":0}]
["M",{"$f":"IF(ISBLANK(E177),\"\",LOOKUP(IF(2000+E177>$G$1,1900+E177,2000+E177),Tabelle2!A:A,Tabelle2!C:C))","v":50},{"$f":"IF(G177>=1,SUMPRODUCT(($A$6:$A$418=A177)*($B$6:$B$418=B177)*($G$6:$G$418>G177))+1,\"\")","v":""},"Bilke, Michael",71,"SV Braunsbedra",{"$f":"H177+J177","v":0},{"$f":"COUNTIF(K177:AE177,\">=1\")+COUNTIF(K177:AE177,\"T\")","v":0},{"$f":"MIN(15,COUNTIF(K177:AE177,\">=1\"))","v":0},{"$f":"IF(I177>=15,(SUM(LARGE(K177:AE177,{1;2;3;4;5;6;7;8;9;10;11;12;13;14;15}))+AF177),SUM(K177:AF177))","v":0},null,null,null,null,null,null,null,null,null,null,null,null,null,null,null,null,null,null,null,null,null,null,{"$f":"COUNTIF(K177:AF177,\">=1\")-I177","v":0}]
["M",{"$f":"IF(ISBLANK(E178),\"\",LOOKUP(IF(2000+E178>$G$1,1900+E178,2000+E178),Tabelle2!A:A,Tabelle2!C:C))","v":50},{"$f":"IF(G178>=1,SUMPRODUCT(($A$6:$A$418=A178)*($B$6:$B$418=B178)*($G$6:$G$418>G178))+1,\"\")","v":""},"Borggrefe, Fabian",72,"SG Spergau",{"$f":"H178+J178","v":0},{"$f":"COUNTIF(K178:AE178,\">=1\")+COUNTIF(K178:AE178,\"T\")","v":0},{"$f":"MIN(15,COUNTIF(K178:AE178,\">=1\"))","v":0},{"$f":"IF(I178>=15,(SUM(LARGE(K178:AE178,{1;2;3;4;5;6;7;8;9;10;11;12;13;14;15}))+AF178),SUM(K178:AF178))","v":0},null,null,null,null,null,null,null,null,null,null,null,null,null,null,null,null,null,null,null,null,null,null,{"$f":"COUNTIF(K178:AF178,\">=1\")-I178","v":0}]
["M",{"$f":"IF(ISBLANK(E179),\"\",LOOKUP(IF(2000+E179>$G$1,1900+E179,2000+E179),Tabelle2!A:A,Tabelle2!C:C))","v":50},{"$f":"IF(G179>=1,SUMPRODUCT(($A$6:$A$418=A179)*($B$6:$B$418=B179)*($G$6:$G$418>G179))+1,\"\")","v":""},"Böschel, Henning",73,"Bad Lauchstädt",{"$f":"H179+J179","v":0},{"$f":"COUNTIF(K179:AE179,\">=1\")+COUNTIF(K179:AE179,\"T\")","v":0},{"$f":"MIN(15,COUNTIF(K179:AE179,\">=1\"))","v":0},{"$f":"IF(I179>=15,(SUM(LARGE(K179:AE179,{1;2;3;4;5;6;7;8;9;10;11;12;13;14;15}))+AF179),SUM(K179:AF179))","v":0},null,null,null,null,null,null,null,null,null,null,null,null,null,null,null,null,null,null,null,null,null,null,{"$f":"COUNTIF(K179:AF179,\">=1\")-I179","v":0}]
["M",{"$f":"IF(ISBLANK(E180),\"\",LOOKUP(IF(2000+E180>$G$1,1900+E180,2000+E180),Tabelle2!A:A,Tabelle2!C:C))","v":50},{"$f":"IF(G180>=1,SUMPRODUCT(($A$6:$A$418=A180)*($B$6:$B$418=B180)*($G$6:$G$418>G180))+1,\"\")","v":""},"Brohmer, Frank",73,"Braunsbedra",{"$f":"H180+J180","v":0},{"$f":"COUNTIF(K180:AE180,\">=1\")+COUNTIF(K180:AE180,\"T\")","v":0},{"$f":"MIN(15,COUNTIF(K180:AE180,\">=1\"))","v":0},{"$f":"IF(I180>=15,(SUM(LARGE(K180:AE180,{1;2;3;4;5;6;7;8;9;10;11;12;13;14;15}))+AF180),SUM(K180:AF180))","v":0},null,null,null,null,null,null,null,null,null,null,null,null,null,null,null,null,null,null,null,null,null,null,{"$f":"COUNTIF(K180:AF180,\">=1\")-I180","v":0}]
["M",{"$f":"IF(ISBLANK(E181),\"\",LOOKUP(IF(2000+E181>$G$1,1900+E181,2000+E181),Tabelle2!A:A,Tabelle2!C:C))","v":50},{"$f":"IF(G181>=1,SUMPRODUCT(($A$6:$A$418=A181)*($B$6:$B$418=B181)*($G$6:$G$418>G181))+1,\"\")","v":""},"Helbing, Uwe",69,"TSV Leuna Ski",{"$f":"H181+J181","v":0},{"$f":"COUNTIF(K181:AE181,\">=1\")+COUNTIF(K181:AE181,\"T\")","v":0},{"$f":"MIN(15,COUNTIF(K181:AE181,\">=1\"))","v":0},{"$f":"IF(I181>=15,(SUM(LARGE(K181:AE181,{1;2;3;4;5;6;7;8;9;10;11;12;13;14;15}))+AF181),SUM(K181:AF181))","v":0},null,null,null,null,null,null,null,null,null,null,null,null,null,null,null,null,null,null,null,null,null,null,{"$f":"COUNTIF(K181:AF181,\">=1\")-I181","v":0}]
["M",{"$f":"IF(ISBLANK(E182),\"\",LOOKUP(IF(2000+E182>$G$1,1900+E182,2000+E182),Tabelle2!A:A,Tabelle2!C:C))","v":50},{"$f":"IF(G182>=1,SUMPRODUCT(($A$6:$A$418=A182)*($B$6:$B$418=B182)*($G$6:$G$418>G182))+1,\"\")","v":""},"Kuhne, Jürgen",71,"TC Merseburg",{"$f":"H182+J182","v":0},{"$f":"COUNTIF(K182:AE182,\">=1\")+COUNTIF(K182:AE182,\"T\")","v":0},{"$f":"MIN(15,COUNTIF(K182:AE182,\">=1\"))","v":0},{"$f":"IF(I182>=15,(SUM(LARGE(K182:AE182,{1;2;3;4;5;6;7;8;9;10;11;12;13;14;15}))+AF182),SUM(K182:AF182))","v":0},null,null,null,null,null,null,null,null,null,null,null,null,null,null,null,null,null,null,null,null,null,null,{"$f":"COUNTIF(K182:AF182,\">=1\")-I182","v":0}]
["M",{"$f":"IF(ISBLANK(E183),\"\",LOOKUP(IF(2000+E183>$G$1,1900+E183,2000+E183),Tabelle2!A:A,Tabelle2!C:C))","v":50},{"$f":"IF(G183>=1,SUMPRODUCT(($A$6:$A$418=A183)*($B$6:$B$418=B183)*($G$6:$G$418>G183))+1,\"\")","v":""},"Nelke, Sven",69,"SG Spergau",{"$f":"H183+J183","v":0},{"$f":"COUNTIF(K183:AE183,\">=1\")+COUNTIF(K183:AE183,\"T\")","v":0},{"$f":"MIN(15,COUNTIF(K183:AE183,\">=1\"))","v":0},{"$f":"IF(I183>=15,(SUM(LARGE(K183:AE183,{1;2;3;4;5;6;7;8;9;10;11;12;13;14;15}))+AF183),SUM(K183:AF183))","v":0},null,null,null,null,null,null,null,null,null,null,null,null,null,null,null,null,null,null,null,null,null,null,{"$f":"COUNTIF(K183:AF183,\">=1\")-I183","v":0}]
["M",{"$f":"IF(ISBLANK(E184),\"\",LOOKUP(IF(2000+E184>$G$1,1900+E184,2000+E184),Tabelle2!A:A,Tabelle2!C:C))","v":50},{"$f":"IF(G184>=1,SUMPRODUCT(($A$6:$A$418=A184)*($B$6:$B$418=B184)*($G$6:$G$418>G184))+1,\"\")","v":""},"Pasewaldt, Steven",72,"SV Friesen Frankleben",{"$f":"H184+J184","v":0},{"$f":"COUNTIF(K184:AE184,\">=1\")+COUNTIF(K184:AE184,\"T\")","v":0},{"$f":"MIN(15,COUNTIF(K184:AE184,\">=1\"))","v":0},{"$f":"IF(I184>=15,(SUM(LARGE(K184:AE184,{1;2;3;4;5;6;7;8;9;10;11;12;13;14;15}))+AF184),SUM(K184:AF184))","v":0},null,null,null,null,null,null,null,null,null,null,null,null,null,null,null,null,null,null,null,null,null,null,{"$f":"COUNTIF(K184:AF184,\">=1\")-I184","v":0}]
["M",{"$f":"IF(ISBLANK(E185),\"\",LOOKUP(IF(2000+E185>$G$1,1900+E185,2000+E185),Tabelle2!A:A,Tabelle2!C:C))","v":50},{"$f":"IF(G185>=1,SUMPRODUCT(($A$6:$A$418=A185)*($B$6:$B$418=B185)*($G$6:$G$418>G185))+1,\"\")","v":""},"Rabenalt, Dirk",70,"SV Lodersleben",{"$f":"H185+J185","v":0},{"$f":"COUNTIF(K185:AE185,\">=1\")+COUNTIF(K185:AE185,\"T\")","v":0},{"$f":"MIN(15,COUNTIF(K185:AE185,\">=1\"))","v":0},{"$f":"IF(I185>=15,(SUM(LARGE(K185:AE185,{1;2;3;4;5;6;7;8;9;10;11;12;13;14;15}))+AF185),SUM(K185:AF185))","v":0},null,null,null,null,null,null,null,null,null,null,null,null,null,null,null,null,null,null,null,null,null,null,{"$f":"COUNTIF(K185:AF185,\">=1\")-I185","v":0}]
["M",{"$f":"IF(ISBLANK(E186),\"\",LOOKUP(IF(2000+E186>$G$1,1900+E186,2000+E186),Tabelle2!A:A,Tabelle2!C:C))","v":50},{"$f":"IF(G186>=1,SUMPRODUCT(($A$6:$A$418=A186)*($B$6:$B$418=B186)*($G$6:$G$418>G186))+1,\"\")","v":""},"Weber,Dirk",71,"Barnstädt",{"$f":"H186+J186","v":0},{"$f":"COUNTIF(K186:AE186,\">=1\")+COUNTIF(K186:AE186,\"T\")","v":0},{"$f":"MIN(15,COUNTIF(K186:AE186,\">=1\"))","v":0},{"$f":"IF(I186>=15,(SUM(LARGE(K186:AE186,{1;2;3;4;5;6;7;8;9;10;11;12;13;14;15}))+AF186),SUM(K186:AF186))","v":0},null,null,null,null,null,null,null,null,null,null,null,null,null,null,null,null,null,null,null,null,null,null,{"$f":"COUNTIF(K186:AF186,\">=1\")-I186","v":0}]
["M",{"$f":"IF(ISBLANK(E187),\"\",LOOKUP(IF(2000+E187>$G$1,1900+E187,2000+E187),Tabelle2!A:A,Tabelle2!C:C))","v":50},{"$f":"IF(G187>=1,SUMPRODUCT(($A$6:$A$418=A187)*($B$6:$B$418=B187)*($G$6:$G$418>G187))+1,\"\")","v":""},"Werner, Nico",71,"Krumpa",{"$f":"H187+J187","v":0},{"$f":"COUNTIF(K187:AE187,\">=1\")+COUNTIF(K187:AE187,\"T\")","v":0},{"$f":"MIN(15,COUNTIF(K187:AE187,\">=1\"))","v":0},{"$f":"IF(I187>=15,(SUM(LARGE(K187:AE187,{1;2;3;4;5;6;7;8;9;10;11;12;13;14;15}))+AF187),SUM(K187:AF187))","v":0},null,null,null,null,null,null,null,null,null,null,null,null,null,null,null,null,null,null,null,null,null,null,{"$f":"COUNTIF(K187:AF187,\">=1\")-I187","v":0}]
["M",{"$f":"IF(ISBLANK(E188),\"\",LOOKUP(IF(2000+E188>$G$1,1900+E188,2000+E188),Tabelle2!A:A,Tabelle2!C:C))","v":55},{"$f":"IF(G188>=1,SUMPRODUCT(($A$6:$A$418=A188)*($B$6:$B$418=B188)*($G$6:$G$418>G188))+1,\"\")","v":1},"Heckert, Gerald",66,"TC Merseburg",{"$f":"H188+J188","v":47},{"$f":"COUNTIF(K188:AE188,\">=1\")+COUNTIF(K188:AE188,\"T\")","v":2},{"$f":"MIN(15,COUNTIF(K188:AE188,\">=1\"))","v":2},{"$f":"IF(I188>=15,(SUM(LARGE(K188:AE188,{1;2;3;4;5;6;7;8;9;10;11;12;13;14;15}))+AF188),SUM(K188:AF188))","v":45},20,25,null,null,null,null,null,null,null,null,null,null,null,null,null,null,null,null,null,null,null,null,{"$f":"COUNTIF(K188:AF188,\">=1\")-I188","v":0}]
["M",{"$f":"IF(ISBLANK(E189),\"\",LOOKUP(IF(2000+E189>$G$1,1900+E189,2000+E189),Tabelle2!A:A,Tabelle2!C:C))","v":55},{"$f":"IF(G189>=1,SUMPRODUCT(($A$6:$A$418=A189)*($B$6:$B$418=B189)*($G$6:$G$418>G189))+1,\"\")","v":1},"Rosenbaum, Sven",66,"SV Braunsbedra",{"$f":"H189+J189","v":47},{"$f":"COUNTIF(K189:AE189,\">=1\")+COUNTIF(K189:AE189,\"T\")","v":2},{"$f":"MIN(15,COUNTIF(K189:AE189,\">=1\"))","v":2},{"$f":"IF(I189>=15,(SUM(LARGE(K189:AE189,{1;2;3;4;5;6;7;8;9;10;11;12;13;14;15}))+AF189),SUM(K189:AF189))","v":45},25,20,null,null,null,null,null,null,null,null,null,null,null,null,null,null,null,null,null,null,null,null,{"$f":"COUNTIF(K189:AF189,\">=1\")-I189","v":0}]
["M",{"$f":"IF(ISBLANK(E190),\"\",LOOKUP(IF(2000+E190>$G$1,1900+E190,2000+E190),Tabelle2!A:A,Tabelle2!C:C))","v":55},{"$f":"IF(G190>=1,SUMPRODUCT(($A$6:$A$418=A190)*($B$6:$B$418=B190)*($G$6:$G$418>G190))+1,\"\")","v":3},"Haake, Jürgen",64,"Merseburg",{"$f":"H190+J190","v":46},{"$f":"COUNTIF(K190:AE190,\">=1\")+COUNTIF(K190:AE190,\"T\")","v":2},{"$f":"MIN(15,COUNTIF(K190:AE190,\">=1\"))","v":2},{"$f":"IF(I190>=15,(SUM(LARGE(K190:AE190,{1;2;3;4;5;6;7;8;9;10;11;12;13;14;15}))+AF190),SUM(K190:AF190))","v":44},23,21,null,null,null,null,null,null,null,null,null,null,null,null,null,null,null,null,null,null,null,null,{"$f":"COUNTIF(K190:AF190,\">=1\")-I190","v":0}]
["M",{"$f":"IF(ISBLANK(E191),\"\",LOOKUP(IF(2000+E191>$G$1,1900+E191,2000+E191),Tabelle2!A:A,Tabelle2!C:C))","v":55},{"$f":"IF(G191>=1,SUMPRODUCT(($A$6:$A$418=A191)*($B$6:$B$418=B191)*($G$6:$G$418>G191))+1,\"\")","v":4},"Bergner, Jürgen",65,"SV Braunsbedra",{"$f":"H191+J191","v":44},{"$f":"COUNTIF(K191:AE191,\">=1\")+COUNTIF(K191:AE191,\"T\")","v":2},{"$f":"MIN(15,COUNTIF(K191:AE191,\">=1\"))","v":2},{"$f":"IF(I191>=15,(SUM(LARGE(K191:AE191,{1;2;3;4;5;6;7;8;9;10;11;12;13;14;15}))+AF191),SUM(K191:AF191))","v":42},22,20,null,null,null,null,null,null,null,null,null,null,null,null,null,null,null,null,null,null,null,null,{"$f":"COUNTIF(K191:AF191,\">=1\")-I191","v":0}]
["M",{"$f":"IF(ISBLANK(E192),\"\",LOOKUP(IF(2000+E192>$G$1,1900+E192,2000+E192),Tabelle2!A:A,Tabelle2!C:C))","v":55},{"$f":"IF(G192>=1,SUMPRODUCT(($A$6:$A$418=A192)*($B$6:$B$418=B192)*($G$6:$G$418>G192))+1,\"\")","v":5},"Rüdiger, Steffen",64,"Merseburg",{"$f":"H192+J192","v":42},{"$f":"COUNTIF(K192:AE192,\">=1\")+COUNTIF(K192:AE192,\"T\")","v":2},{"$f":"MIN(15,COUNTIF(K192:AE192,\">=1\"))","v":2},{"$f":"IF(I192>=15,(SUM(LARGE(K192:AE192,{1;2;3;4;5;6;7;8;9;10;11;12;13;14;15}))+AF192),SUM(K192:AF192))","v":40},17,23,null,null,null,null,null,null,null,null,null,null,null,null,null,null,null,null,null,null,null,null,{"$f":"COUNTIF(K192:AF192,\">=1\")-I192","v":0}]
["M",{"$f":"IF(ISBLANK(E193),\"\",LOOKUP(IF(2000+E193>$G$1,1900+E193,2000+E193),Tabelle2!A:A,Tabelle2!C:C))","v":55},{"$f":"IF(G193>=1,SUMPRODUCT(($A$6:$A$418=A193)*($B$6:$B$418=B193)*($G$6:$G$418>G193))+1,\"\")","v":6},"Hirschelmann, Jens",67,"Merseburg",{"$f":"H193+J193","v":23},{"$f":"COUNTIF(K193:AE193,\">=1\")+COUNTIF(K193:AE193,\"T\")","v":1},{"$f":"MIN(15,COUNTIF(K193:AE193,\">=1\"))","v":1},{"$f":"IF(I193>=15,(SUM(LARGE(K193:AE193,{1;2;3;4;5;6;7;8;9;10;11;12;13;14;15}))+AF193),SUM(K193:AF193))","v":22},null,22,null,null,null,null,null,null,null,null,null,null,null,null,null,null,null,null,null,null,null,null,{"$f":"COUNTIF(K193:AF193,\">=1\")-I193","v":0}]
["M",{"$f":"IF(ISBLANK(E194),\"\",LOOKUP(IF(2000+E194>$G$1,1900+E194,2000+E194),Tabelle2!A:A,Tabelle2!C:C))","v":55},{"$f":"IF(G194>=1,SUMPRODUCT(($A$6:$A$418=A194)*($B$6:$B$418=B194)*($G$6:$G$418>G194))+1,\"\")","v":7},"Krüger, Frank",64,"Eintracht Gröbers",{"$f":"H194+J194","v":19},{"$f":"COUNTIF(K194:AE194,\">=1\")+COUNTIF(K194:AE194,\"T\")","v":1},{"$f":"MIN(15,COUNTIF(K194:AE194,\">=1\"))","v":1},{"$f":"IF(I194>=15,(SUM(LARGE(K194:AE194,{1;2;3;4;5;6;7;8;9;10;11;12;13;14;15}))+AF194),SUM(K194:AF194))","v":18},18,null,null,null,null,null,null,null,null,null,null,null,null,null,null,null,null,null,null,null,null,null,{"$f":"COUNTIF(K194:AF194,\">=1\")-I194","v":0}]
["M",{"$f":"IF(ISBLANK(E195),\"\",LOOKUP(IF(2000+E195>$G$1,1900+E195,2000+E195),Tabelle2!A:A,Tabelle2!C:C))","v":55},{"$f":"IF(G195>=1,SUMPRODUCT(($A$6:$A$418=A195)*($B$6:$B$418=B195)*($G$6:$G$418>G195))+1,\"\")","v":8},"Schreyer, Wolfram",64,"SG Spergau",{"$f":"H195+J195","v":17},{"$f":"COUNTIF(K195:AE195,\">=1\")+COUNTIF(K195:AE195,\"T\")","v":1},{"$f":"MIN(15,COUNTIF(K195:AE195,\">=1\"))","v":1},{"$f":"IF(I195>=15,(SUM(LARGE(K195:AE195,{1;2;3;4;5;6;7;8;9;10;11;12;13;14;15}))+AF195),SUM(K195:AF195))","v":16},16,null,null,null,null,null,null,null,null,null,null,null,null,null,null,null,null,null,null,null,null,null,{"$f":"COUNTIF(K195:AF195,\">=1\")-I195","v":0}]
["M",{"$f":"IF(ISBLANK(E196),\"\",LOOKUP(IF(2000+E196>$G$1,1900+E196,2000+E196),Tabelle2!A:A,Tabelle2!C:C))","v":55},{"$f":"IF(G196>=1,SUMPRODUCT(($A$6:$A$418=A196)*($B$6:$B$418=B196)*($G$6:$G$418>G196))+1,\"\")","v":9},"Doonth, Heiko",67,"Merseburg",{"$f":"H196+J196","v":16},{"$f":"COUNTIF(K196:AE196,\">=1\")+COUNTIF(K196:AE196,\"T\")","v":1},{"$f":"MIN(15,COUNTIF(K196:AE196,\">=1\"))","v":1},{"$f":"IF(I196>=15,(SUM(LARGE(K196:AE196,{1;2;3;4;5;6;7;8;9;10;11;12;13;14;15}))+AF196),SUM(K196:AF196))","v":15},15,null,null,null,null,null,null,null,null,null,null,null,null,null,null,null,null,null,null,null,null,null,{"$f":"COUNTIF(K196:AF196,\">=1\")-I196","v":0}]
["M",{"$f":"IF(ISBLANK(E197),\"\",LOOKUP(IF(2000+E197>$G$1,1900+E197,2000+E197),Tabelle2!A:A,Tabelle2!C:C))","v":55},{"$f":"IF(G197>=1,SUMPRODUCT(($A$6:$A$418=A197)*($B$6:$B$418=B197)*($G$6:$G$418>G197))+1,\"\")","v":10},"Haink, Uwe",66,"SV Braunsbedra",{"$f":"H197+J197","v":14},{"$f":"COUNTIF(K197:AE197,\">=1\")+COUNTIF(K197:AE197,\"T\")","v":1},{"$f":"MIN(15,COUNTIF(K197:AE197,\">=1\"))","v":1},{"$f":"IF(I197>=15,(SUM(LARGE(K197:AE197,{1;2;3;4;5;6;7;8;9;10;11;12;13;14;15}))+AF197),SUM(K197:AF197))","v":13},13,null,null,null,null,null,null,null,null,null,null,null,null,null,null,null,null,null,null,null,null,null,{"$f":"COUNTIF(K197:AF197,\">=1\")-I197","v":0}]
["M",{"$f":"IF(ISBLANK(E198),\"\",LOOKUP(IF(2000+E198>$G$1,1900+E198,2000+E198),Tabelle2!A:A,Tabelle2!C:C))","v":55},{"$f":"IF(G198>=1,SUMPRODUCT(($A$6:$A$418=A198)*($B$6:$B$418=B198)*($G$6:$G$418>G198))+1,\"\")","v":""},"Hartert, Ralph",67,"Frankleben",{"$f":"H198+J198","v":0},{"$f":"COUNTIF(K198:AE198,\">=1\")+COUNTIF(K198:AE198,\"T\")","v":0},{"$f":"MIN(15,COUNTIF(K198:AE198,\">=1\"))","v":0},{"$f":"IF(I198>=15,(SUM(LARGE(K198:AE198,{1;2;3;4;5;6;7;8;9;10;11;12;13;14;15}))+AF198),SUM(K198:AF198))","v":0},null,null,null,null,null,null,null,null,null,null,null,null,null,null,null,null,null,null,null,null,null,null,{"$f":"COUNTIF(K198:AF198,\">=1\")-I198","v":0}]
["M",{"$f":"IF(ISBLANK(E199),\"\",LOOKUP(IF(2000+E199>$G$1,1900+E199,2000+E199),Tabelle2!A:A,Tabelle2!C:C))","v":55},{"$f":"IF(G199>=1,SUMPRODUCT(($A$6:$A$418=A199)*($B$6:$B$418=B199)*($G$6:$G$418>G199))+1,\"\")","v":""},"Leonhardt, Jens",65,"Braunsbedra",{"$f":"H199+J199","v":0},{"$f":"COUNTIF(K199:AE199,\">=1\")+COUNTIF(K199:AE199,\"T\")","v":0},{"$f":"MIN(15,COUNTIF(K199:AE199,\">=1\"))","v":0},{"$f":"IF(I199>=15,(SUM(LARGE(K199:AE199,{1;2;3;4;5;6;7;8;9;10;11;12;13;14;15}))+AF199),SUM(K199:AF199))","v":0},null,null,null,null,null,null,null,null,null,null,null,null,null,null,null,null,null,null,null,null,null,null,{"$f":"COUNTIF(K199:AF199,\">=1\")-I199","v":0}]
["M",{"$f":"IF(ISBLANK(E200),\"\",LOOKUP(IF(2000+E200>$G$1,1900+E200,2000+E200),Tabelle2!A:A,Tabelle2!C:C))","v":55},{"$f":"IF(G200>=1,SUMPRODUCT(($A$6:$A$418=A200)*($B$6:$B$418=B200)*($G$6:$G$418>G200))+1,\"\")","v":""},"Mohr, Matthias",68,"LSG Lieskau",{"$f":"H200+J200","v":0},{"$f":"COUNTIF(K200:AE200,\">=1\")+COUNTIF(K200:AE200,\"T\")","v":0},{"$f":"MIN(15,COUNTIF(K200:AE200,\">=1\"))","v":0},{"$f":"IF(I200>=15,(SUM(LARGE(K200:AE200,{1;2;3;4;5;6;7;8;9;10;11;12;13;14;15}))+AF200),SUM(K200:AF200))","v":0},null,null,null,null,null,null,null,null,null,null,null,null,null,null,null,null,null,null,null,null,null,null,{"$f":"COUNTIF(K200:AF200,\">=1\")-I200","v":0}]
["M",{"$f":"IF(ISBLANK(E201),\"\",LOOKUP(IF(2000+E201>$G$1,1900+E201,2000+E201),Tabelle2!A:A,Tabelle2!C:C))","v":55},{"$f":"IF(G201>=1,SUMPRODUCT(($A$6:$A$418=A201)*($B$6:$B$418=B201)*($G$6:$G$418>G201))+1,\"\")","v":""},"Witzel, Ingo",67,"TSV Leuna",{"$f":"H201+J201","v":0},{"$f":"COUNTIF(K201:AE201,\">=1\")+COUNTIF(K201:AE201,\"T\")","v":0},{"$f":"MIN(15,COUNTIF(K201:AE201,\">=1\"))","v":0},{"$f":"IF(I201>=15,(SUM(LARGE(K201:AE201,{1;2;3;4;5;6;7;8;9;10;11;12;13;14;15}))+AF201),SUM(K201:AF201))","v":0},null,null,null,null,null,null,null,null,null,null,null,null,null,null,null,null,null,null,null,null,null,null,{"$f":"COUNTIF(K201:AF201,\">=1\")-I201","v":0}]
["M",{"$f":"IF(ISBLANK(E202),\"\",LOOKUP(IF(2000+E202>$G$1,1900+E202,2000+E202),Tabelle2!A:A,Tabelle2!C:C))","v":60},{"$f":"IF(G202>=1,SUMPRODUCT(($A$6:$A$418=A202)*($B$6:$B$418=B202)*($G$6:$G$418>G202))+1,\"\")","v":1},"Matalla, Gerd",61,"SV Braunsbedra",{"$f":"H202+J202","v":52},{"$f":"COUNTIF(K202:AE202,\">=1\")+COUNTIF(K202:AE202,\"T\")","v":2},{"$f":"MIN(15,COUNTIF(K202:AE202,\">=1\"))","v":2},{"$f":"IF(I202>=15,(SUM(LARGE(K202:AE202,{1;2;3;4;5;6;7;8;9;10;11;12;13;14;15}))+AF202),SUM(K202:AF202))","v":50},25,25,null,null,null,null,null,null,null,null,null,null,null,null,null,null,null,null,null,null,null,null,{"$f":"COUNTIF(K202:AF202,\">=1\")-I202","v":0}]
["M",{"$f":"IF(ISBLANK(E203),\"\",LOOKUP(IF(2000+E203>$G$1,1900+E203,2000+E203),Tabelle2!A:A,Tabelle2!C:C))","v":60},{"$f":"IF(G203>=1,SUMPRODUCT(($A$6:$A$418=A203)*($B$6:$B$418=B203)*($G$6:$G$418>G203))+1,\"\")","v":2},"Prause, Wolfgang",63,"Merseburg",{"$f":"H203+J203","v":48},{"$f":"COUNTIF(K203:AE203,\">=1\")+COUNTIF(K203:AE203,\"T\")","v":2},{"$f":"MIN(15,COUNTIF(K203:AE203,\">=1\"))","v":2},{"$f":"IF(I203>=15,(SUM(LARGE(K203:AE203,{1;2;3;4;5;6;7;8;9;10;11;12;13;14;15}))+AF203),SUM(K203:AF203))","v":46},23,23,null,null,null,null,null,null,null,null,null,null,null,null,null,null,null,null,null,null,null,null,{"$f":"COUNTIF(K203:AF203,\">=1\")-I203","v":0}]
["M",{"$f":"IF(ISBLANK(E204),\"\",LOOKUP(IF(2000+E204>$G$1,1900+E204,2000+E204),Tabelle2!A:A,Tabelle2!C:C))","v":60},{"$f":"IF(G204>=1,SUMPRODUCT(($A$6:$A$418=A204)*($B$6:$B$418=B204)*($G$6:$G$418>G204))+1,\"\")","v":3},"Steffan, Torsten",63,"SV 1916 Beuna",{"$f":"H204+J204","v":42},{"$f":"COUNTIF(K204:AE204,\">=1\")+COUNTIF(K204:AE204,\"T\")","v":2},{"$f":"MIN(15,COUNTIF(K204:AE204,\">=1\"))","v":2},{"$f":"IF(I204>=15,(SUM(LARGE(K204:AE204,{1;2;3;4;5;6;7;8;9;10;11;12;13;14;15}))+AF204),SUM(K204:AF204))","v":40},20,20,null,null,null,null,null,null,null,null,null,null,null,null,null,null,null,null,null,null,null,null,{"$f":"COUNTIF(K204:AF204,\">=1\")-I204","v":0}]
["M",{"$f":"IF(ISBLANK(E205),\"\",LOOKUP(IF(2000+E205>$G$1,1900+E205,2000+E205),Tabelle2!A:A,Tabelle2!C:C))","v":60},{"$f":"IF(G205>=1,SUMPRODUCT(($A$6:$A$418=A205)*($B$6:$B$418=B205)*($G$6:$G$418>G205))+1,\"\")","v":""},"Brömme, Petro",63,"SG Spergau",{"$f":"H205+J205","v":0},{"$f":"COUNTIF(K205:AE205,\">=1\")+COUNTIF(K205:AE205,\"T\")","v":0},{"$f":"MIN(15,COUNTIF(K205:AE205,\">=1\"))","v":0},{"$f":"IF(I205>=15,(SUM(LARGE(K205:AE205,{1;2;3;4;5;6;7;8;9;10;11;12;13;14;15}))+AF205),SUM(K205:AF205))","v":0},null,null,null,null,null,null,null,null,null,null,null,null,null,null,null,null,null,null,null,null,null,null,{"$f":"COUNTIF(K205:AF205,\">=1\")-I205","v":0}]
["M",{"$f":"IF(ISBLANK(E206),\"\",LOOKUP(IF(2000+E206>$G$1,1900+E206,2000+E206),Tabelle2!A:A,Tabelle2!C:C))","v":60},{"$f":"IF(G206>=1,SUMPRODUCT(($A$6:$A$418=A206)*($B$6:$B$418=B206)*($G$6:$G$418>G206))+1,\"\")","v":""},"Korn, Ronald",63,"Braunsbedra",{"$f":"H206+J206","v":0},{"$f":"COUNTIF(K206:AE206,\">=1\")+COUNTIF(K206:AE206,\"T\")","v":0},{"$f":"MIN(15,COUNTIF(K206:AE206,\">=1\"))","v":0},{"$f":"IF(I206>=15,(SUM(LARGE(K206:AE206,{1;2;3;4;5;6;7;8;9;10;11;12;13;14;15}))+AF206),SUM(K206:AF206))","v":0},null,null,null,null,null,null,null,null,null,null,null,null,null,null,null,null,null,null,null,null,null,null,{"$f":"COUNTIF(K206:AF206,\">=1\")-I206","v":0}]
["M",{"$f":"IF(ISBLANK(E207),\"\",LOOKUP(IF(2000+E207>$G$1,1900+E207,2000+E207),Tabelle2!A:A,Tabelle2!C:C))","v":60},{"$f":"IF(G207>=1,SUMPRODUCT(($A$6:$A$418=A207)*($B$6:$B$418=B207)*($G$6:$G$418>G207))+1,\"\")","v":""},"Sawall, Andreas",63,"SV 1885 Teutschenthal",{"$f":"H207+J207","v":0},{"$f":"COUNTIF(K207:AE207,\">=1\")+COUNTIF(K207:AE207,\"T\")","v":0},{"$f":"MIN(15,COUNTIF(K207:AE207,\">=1\"))","v":0},{"$f":"IF(I207>=15,(SUM(LARGE(K207:AE207,{1;2;3;4;5;6;7;8;9;10;11;12;13;14;15}))+AF207),SUM(K207:AF207))","v":0},null,null,null,null,null,null,null,null,null,null,null,null,null,null,null,null,null,null,null,null,null,null,{"$f":"COUNTIF(K207:AF207,\">=1\")-I207","v":0}]
["M",{"$f":"IF(ISBLANK(E208),\"\",LOOKUP(IF(2000+E208>$G$1,1900+E208,2000+E208),Tabelle2!A:A,Tabelle2!C:C))","v":60},{"$f":"IF(G208>=1,SUMPRODUCT(($A$6:$A$418=A208)*($B$6:$B$418=B208)*($G$6:$G$418>G208))+1,\"\")","v":""},"Winkler, Karl",59,"SV Blauer Ball Merseburg",{"$f":"H208+J208","v":0},{"$f":"COUNTIF(K208:AE208,\">=1\")+COUNTIF(K208:AE208,\"T\")","v":0},{"$f":"MIN(15,COUNTIF(K208:AE208,\">=1\"))","v":0},{"$f":"IF(I208>=15,(SUM(LARGE(K208:AE208,{1;2;3;4;5;6;7;8;9;10;11;12;13;14;15}))+AF208),SUM(K208:AF208))","v":0},null,null,null,null,null,null,null,null,null,null,null,null,null,null,null,null,null,null,null,null,null,null,{"$f":"COUNTIF(K208:AF208,\">=1\")-I208","v":0}]
["M",{"$f":"IF(ISBLANK(E209),\"\",LOOKUP(IF(2000+E209>$G$1,1900+E209,2000+E209),Tabelle2!A:A,Tabelle2!C:C))","v":65},{"$f":"IF(G209>=1,SUMPRODUCT(($A$6:$A$418=A209)*($B$6:$B$418=B209)*($G$6:$G$418>G209))+1,\"\")","v":1},"Knörgen, Manfred Dr.",54,"HSG Merseburg",{"$f":"H209+J209","v":42},{"$f":"COUNTIF(K209:AE209,\">=1\")+COUNTIF(K209:AE209,\"T\")","v":2},{"$f":"MIN(15,COUNTIF(K209:AE209,\">=1\"))","v":2},{"$f":"IF(I209>=15,(SUM(LARGE(K209:AE209,{1;2;3;4;5;6;7;8;9;10;11;12;13;14;15}))+AF209),SUM(K209:AF209))","v":40},20,20,null,null,null,null,null,null,null,null,null,null,null,null,null,null,null,null,null,null,null,null,{"$f":"COUNTIF(K209:AF209,\">=1\")-I209","v":0}]
["M",{"$f":"IF(ISBLANK(E210),\"\",LOOKUP(IF(2000+E210>$G$1,1900+E210,2000+E210),Tabelle2!A:A,Tabelle2!C:C))","v":65},{"$f":"IF(G210>=1,SUMPRODUCT(($A$6:$A$418=A210)*($B$6:$B$418=B210)*($G$6:$G$418>G210))+1,\"\")","v":2},"Weber, Hendrik",58,"SV 1916 Beuna",{"$f":"H210+J210","v":40},{"$f":"COUNTIF(K210:AE210,\">=1\")+COUNTIF(K210:AE210,\"T\")","v":2},{"$f":"MIN(15,COUNTIF(K210:AE210,\">=1\"))","v":2},{"$f":"IF(I210>=15,(SUM(LARGE(K210:AE210,{1;2;3;4;5;6;7;8;9;10;11;12;13;14;15}))+AF210),SUM(K210:AF210))","v":38},15,23,null,null,null,null,null,null,null,null,null,null,null,null,null,null,null,null,null,null,null,null,{"$f":"COUNTIF(K210:AF210,\">=1\")-I210","v":0}]
["M",{"$f":"IF(ISBLANK(E211),\"\",LOOKUP(IF(2000+E211>$G$1,1900+E211,2000+E211),Tabelle2!A:A,Tabelle2!C:C))","v":65},{"$f":"IF(G211>=1,SUMPRODUCT(($A$6:$A$418=A211)*($B$6:$B$418=B211)*($G$6:$G$418>G211))+1,\"\")","v":3},"Hübner, Frank",56,"Merseburg",{"$f":"H211+J211","v":26},{"$f":"COUNTIF(K211:AE211,\">=1\")+COUNTIF(K211:AE211,\"T\")","v":1},{"$f":"MIN(15,COUNTIF(K211:AE211,\">=1\"))","v":1},{"$f":"IF(I211>=15,(SUM(LARGE(K211:AE211,{1;2;3;4;5;6;7;8;9;10;11;12;13;14;15}))+AF211),SUM(K211:AF211))","v":25},null,25,null,null,null,null,null,null,null,null,null,null,null,null,null,null,null,null,null,null,null,null,{"$f":"COUNTIF(K211:AF211,\">=1\")-I211","v":0}]
["M",{"$f":"IF(ISBLANK(E212),\"\",LOOKUP(IF(2000+E212>$G$1,1900+E212,2000+E212),Tabelle2!A:A,Tabelle2!C:C))","v":65},{"$f":"IF(G212>=1,SUMPRODUCT(($A$6:$A$418=A212)*($B$6:$B$418=B212)*($G$6:$G$418>G212))+1,\"\")","v":4},"Brakopp, Frank",57,"SV 1916 Beuna",{"$f":"H212+J212","v":19},{"$f":"COUNTIF(K212:AE212,\">=1\")+COUNTIF(K212:AE212,\"T\")","v":1},{"$f":"MIN(15,COUNTIF(K212:AE212,\">=1\"))","v":1},{"$f":"IF(I212>=15,(SUM(LARGE(K212:AE212,{1;2;3;4;5;6;7;8;9;10;11;12;13;14;15}))+AF212),SUM(K212:AF212))","v":18},null,18,null,null,null,null,null,null,null,null,null,null,null,null,null,null,null,null,null,null,null,null,{"$f":"COUNTIF(K212:AF212,\">=1\")-I212","v":0}]
["M",{"$f":"IF(ISBLANK(E213),\"\",LOOKUP(IF(2000+E213>$G$1,1900+E213,2000+E213),Tabelle2!A:A,Tabelle2!C:C))","v":65},{"$f":"IF(G213>=1,SUMPRODUCT(($A$6:$A$418=A213)*($B$6:$B$418=B213)*($G$6:$G$418>G213))+1,\"\")","v":""},"Berk, Andreas Dr.",54,"VSG Saaletal Wettin",{"$f":"H213+J213","v":0},{"$f":"COUNTIF(K213:AE213,\">=1\")+COUNTIF(K213:AE213,\"T\")","v":0},{"$f":"MIN(15,COUNTIF(K213:AE213,\">=1\"))","v":0},{"$f":"IF(I213>=15,(SUM(LARGE(K213:AE213,{1;2;3;4;5;6;7;8;9;10;11;12;13;14;15}))+AF213),SUM(K213:AF213))","v":0},null,null,null,null,null,null,null,null,null,null,null,null,null,null,null,null,null,null,null,null,null,null,{"$f":"COUNTIF(K213:AF213,\">=1\")-I213","v":0}]
["M",{"$f":"IF(ISBLANK(E214),\"\",LOOKUP(IF(2000+E214>$G$1,1900+E214,2000+E214),Tabelle2!A:A,Tabelle2!C:C))","v":65},{"$f":"IF(G214>=1,SUMPRODUCT(($A$6:$A$418=A214)*($B$6:$B$418=B214)*($G$6:$G$418>G214))+1,\"\")","v":""},"List, Gunter",58,"Braunsbedra",{"$f":"H214+J214","v":0},{"$f":"COUNTIF(K214:AE214,\">=1\")+COUNTIF(K214:AE214,\"T\")","v":0},{"$f":"MIN(15,COUNTIF(K214:AE214,\">=1\"))","v":0},{"$f":"IF(I214>=15,(SUM(LARGE(K214:AE214,{1;2;3;4;5;6;7;8;9;10;11;12;13;14;15}))+AF214),SUM(K214:AF214))","v":0},null,null,null,null,null,null,null,null,null,null,null,null,null,null,null,null,null,null,null,null,null,null,{"$f":"COUNTIF(K214:AF214,\">=1\")-I214","v":0}]
["M",{"$f":"IF(ISBLANK(E215),\"\",LOOKUP(IF(2000+E215>$G$1,1900+E215,2000+E215),Tabelle2!A:A,Tabelle2!C:C))","v":70},{"$f":"IF(G215>=1,SUMPRODUCT(($A$6:$A$418=A215)*($B$6:$B$418=B215)*($G$6:$G$418>G215))+1,\"\")","v":1},"Dietzsch, Wolfgang",49,"SV Braunsbedra",{"$f":"H215+J215","v":52},{"$f":"COUNTIF(K215:AE215,\">=1\")+COUNTIF(K215:AE215,\"T\")","v":2},{"$f":"MIN(15,COUNTIF(K215:AE215,\">=1\"))","v":2},{"$f":"IF(I215>=15,(SUM(LARGE(K215:AE215,{1;2;3;4;5;6;7;8;9;10;11;12;13;14;15}))+AF215),SUM(K215:AF215))","v":50},25,25,null,null,null,null,null,null,null,null,null,null,null,null,null,null,null,null,null,null,null,null,{"$f":"COUNTIF(K215:AF215,\">=1\")-I215","v":0}]
["M",{"$f":"IF(ISBLANK(E216),\"\",LOOKUP(IF(2000+E216>$G$1,1900+E216,2000+E216),Tabelle2!A:A,Tabelle2!C:C))","v":70},{"$f":"IF(G216>=1,SUMPRODUCT(($A$6:$A$418=A216)*($B$6:$B$418=B216)*($G$6:$G$418>G216))+1,\"\")","v":2},"Wagner, Reiner",53,"Merseburg",{"$f":"H216+J216","v":48},{"$f":"COUNTIF(K216:AE216,\">=1\")+COUNTIF(K216:AE216,\"T\")","v":2},{"$f":"MIN(15,COUNTIF(K216:AE216,\">=1\"))","v":2},{"$f":"IF(I216>=15,(SUM(LARGE(K216:AE216,{1;2;3;4;5;6;7;8;9;10;11;12;13;14;15}))+AF216),SUM(K216:AF216))","v":46},23,23,null,null,null,null,null,null,null,null,null,null,null,null,null,null,null,null,null,null,null,null,{"$f":"COUNTIF(K216:AF216,\">=1\")-I216","v":0}]
["M",{"$f":"IF(ISBLANK(E217),\"\",LOOKUP(IF(2000+E217>$G$1,1900+E217,2000+E217),Tabelle2!A:A,Tabelle2!C:C))","v":70},{"$f":"IF(G217>=1,SUMPRODUCT(($A$6:$A$418=A217)*($B$6:$B$418=B217)*($G$6:$G$418>G217))+1,\"\")","v":3},"Nitsche, Rainer",52,"Merseburg",{"$f":"H217+J217","v":35},{"$f":"COUNTIF(K217:AE217,\">=1\")+COUNTIF(K217:AE217,\"T\")","v":2},{"$f":"MIN(15,COUNTIF(K217:AE217,\">=1\"))","v":2},{"$f":"IF(I217>=15,(SUM(LARGE(K217:AE217,{1;2;3;4;5;6;7;8;9;10;11;12;13;14;15}))+AF217),SUM(K217:AF217))","v":33},15,18,null,null,null,null,null,null,null,null,null,null,null,null,null,null,null,null,null,null,null,null,{"$f":"COUNTIF(K217:AF217,\">=1\")-I217","v":0}]
["M",{"$f":"IF(ISBLANK(E218),\"\",LOOKUP(IF(2000+E218>$G$1,1900+E218,2000+E218),Tabelle2!A:A,Tabelle2!C:C))","v":70},{"$f":"IF(G218>=1,SUMPRODUCT(($A$6:$A$418=A218)*($B$6:$B$418=B218)*($G$6:$G$418>G218))+1,\"\")","v":3},"Weise, Wolfgang",51,"CPW Bad Lauchstädt",{"$f":"H218+J218","v":35},{"$f":"COUNTIF(K218:AE218,\">=1\")+COUNTIF(K218:AE218,\"T\")","v":2},{"$f":"MIN(15,COUNTIF(K218:AE218,\">=1\"))","v":2},{"$f":"IF(I218>=15,(SUM(LARGE(K218:AE218,{1;2;3;4;5;6;7;8;9;10;11;12;13;14;15}))+AF218),SUM(K218:AF218))","v":33},13,20,null,null,null,null,null,null,null,null,null,null,null,null,null,null,null,null,null,null,null,null,{"$f":"COUNTIF(K218:AF218,\">=1\")-I218","v":0}]
["M",{"$f":"IF(ISBLANK(E219),\"\",LOOKUP(IF(2000+E219>$G$1,1900+E219,2000+E219),Tabelle2!A:A,Tabelle2!C:C))","v":70},{"$f":"IF(G219>=1,SUMPRODUCT(($A$6:$A$418=A219)*($B$6:$B$418=B219)*($G$6:$G$418>G219))+1,\"\")","v":5},"Hofmann, Egon",50,"SV 1916 Beuna",{"$f":"H219+J219","v":1},{"$f":"COUNTIF(K219:AE219,\">=1\")+COUNTIF(K219:AE219,\"T\")","v":1},{"$f":"MIN(15,COUNTIF(K219:AE219,\">=1\"))","v":0},{"$f":"IF(I219>=15,(SUM(LARGE(K219:AE219,{1;2;3;4;5;6;7;8;9;10;11;12;13;14;15}))+AF219),SUM(K219:AF219))","v":0},null,"T",null,null,null,null,null,null,null,null,null,null,null,null,null,null,null,null,null,null,null,null,{"$f":"COUNTIF(K219:AF219,\">=1\")-I219","v":0}]
["M",{"$f":"IF(ISBLANK(E220),\"\",LOOKUP(IF(2000+E220>$G$1,1900+E220,2000+E220),Tabelle2!A:A,Tabelle2!C:C))","v":70},{"$f":"IF(G220>=1,SUMPRODUCT(($A$6:$A$418=A220)*($B$6:$B$418=B220)*($G$6:$G$418>G220))+1,\"\")","v":""},"Ballenthin, Siegfried",52,"SV 1885 Teutschenthal",{"$f":"H220+J220","v":0},{"$f":"COUNTIF(K220:AE220,\">=1\")+COUNTIF(K220:AE220,\"T\")","v":0},{"$f":"MIN(15,COUNTIF(K220:AE220,\">=1\"))","v":0},{"$f":"IF(I220>=15,(SUM(LARGE(K220:AE220,{1;2;3;4;5;6;7;8;9;10;11;12;13;14;15}))+AF220),SUM(K220:AF220))","v":0},null,null,null,null,null,null,null,null,null,null,null,null,null,null,null,null,null,null,null,null,null,null,{"$f":"COUNTIF(K220:AF220,\">=1\")-I220","v":0}]
["M",{"$f":"IF(ISBLANK(E221),\"\",LOOKUP(IF(2000+E221>$G$1,1900+E221,2000+E221),Tabelle2!A:A,Tabelle2!C:C))","v":70},{"$f":"IF(G221>=1,SUMPRODUCT(($A$6:$A$418=A221)*($B$6:$B$418=B221)*($G$6:$G$418>G221))+1,\"\")","v":""},"Spitzmüller, Erwin",51,"Querfurt",{"$f":"H221+J221","v":0},{"$f":"COUNTIF(K221:AE221,\">=1\")+COUNTIF(K221:AE221,\"T\")","v":0},{"$f":"MIN(15,COUNTIF(K221:AE221,\">=1\"))","v":0},{"$f":"IF(I221>=15,(SUM(LARGE(K221:AE221,{1;2;3;4;5;6;7;8;9;10;11;12;13;14;15}))+AF221),SUM(K221:AF221))","v":0},null,null,null,null,null,null,null,null,null,null,null,null,null,null,null,null,null,null,null,null,null,null,{"$f":"COUNTIF(K221:AF221,\">=1\")-I221","v":0}]
["M",{"$f":"IF(ISBLANK(E222),\"\",LOOKUP(IF(2000+E222>$G$1,1900+E222,2000+E222),Tabelle2!A:A,Tabelle2!C:C))","v":75},{"$f":"IF(G222>=1,SUMPRODUCT(($A$6:$A$418=A222)*($B$6:$B$418=B222)*($G$6:$G$418>G222))+1,\"\")","v":1},"Günther, Ulrich",47,"Merseburg",{"$f":"H222+J222","v":21},{"$f":"COUNTIF(K222:AE222,\">=1\")+COUNTIF(K222:AE222,\"T\")","v":1},{"$f":"MIN(15,COUNTIF(K222:AE222,\">=1\"))","v":1},{"$f":"IF(I222>=15,(SUM(LARGE(K222:AE222,{1;2;3;4;5;6;7;8;9;10;11;12;13;14;15}))+AF222),SUM(K222:AF222))","v":20},20,null,null,null,null,null,null,null,null,null,null,null,null,null,null,null,null,null,null,null,null,null,{"$f":"COUNTIF(K222:AF222,\">=1\")-I222","v":0}]
["M",{"$f":"IF(ISBLANK(E223),\"\",LOOKUP(IF(2000+E223>$G$1,1900+E223,2000+E223),Tabelle2!A:A,Tabelle2!C:C))","v":75},{"$f":"IF(G223>=1,SUMPRODUCT(($A$6:$A$418=A223)*($B$6:$B$418=B223)*($G$6:$G$418>G223))+1,\"\")","v":2},"Bretfeld, Dieter",44,"Merseburg",{"$f":"H223+J223","v":16},{"$f":"COUNTIF(K223:AE223,\">=1\")+COUNTIF(K223:AE223,\"T\")","v":1},{"$f":"MIN(15,COUNTIF(K223:AE223,\">=1\"))","v":1},{"$f":"IF(I223>=15,(SUM(LARGE(K223:AE223,{1;2;3;4;5;6;7;8;9;10;11;12;13;14;15}))+AF223),SUM(K223:AF223))","v":15},15,null,null,null,null,null,null,null,null,null,null,null,null,null,null,null,null,null,null,null,null,null,{"$f":"COUNTIF(K223:AF223,\">=1\")-I223","v":0}]
["M",{"$f":"IF(ISBLANK(E224),\"\",LOOKUP(IF(2000+E224>$G$1,1900+E224,2000+E224),Tabelle2!A:A,Tabelle2!C:C))","v":75},{"$f":"IF(G224>=1,SUMPRODUCT(($A$6:$A$418=A224)*($B$6:$B$418=B224)*($G$6:$G$418>G224))+1,\"\")","v":""},"Deparade, Martin",44,"VSG Saaletal Wettin",{"$f":"H224+J224","v":0},{"$f":"COUNTIF(K224:AE224,\">=1\")+COUNTIF(K224:AE224,\"T\")","v":0},{"$f":"MIN(15,COUNTIF(K224:AE224,\">=1\"))","v":0},{"$f":"IF(I224>=15,(SUM(LARGE(K224:AE224,{1;2;3;4;5;6;7;8;9;10;11;12;13;14;15}))+AF224),SUM(K224:AF224))","v":0},null,null,null,null,null,null,null,null,null,null,null,null,null,null,null,null,null,null,null,null,null,null,{"$f":"COUNTIF(K224:AF224,\">=1\")-I224","v":0}]
["M",{"$f":"IF(ISBLANK(E225),\"\",LOOKUP(IF(2000+E225>$G$1,1900+E225,2000+E225),Tabelle2!A:A,Tabelle2!C:C))","v":75},{"$f":"IF(G225>=1,SUMPRODUCT(($A$6:$A$418=A225)*($B$6:$B$418=B225)*($G$6:$G$418>G225))+1,\"\")","v":""},"Franke, Hartmut",44,"VSG Saaletal Wettin",{"$f":"H225+J225","v":0},{"$f":"COUNTIF(K225:AE225,\">=1\")+COUNTIF(K225:AE225,\"T\")","v":0},{"$f":"MIN(15,COUNTIF(K225:AE225,\">=1\"))","v":0},{"$f":"IF(I225>=15,(SUM(LARGE(K225:AE225,{1;2;3;4;5;6;7;8;9;10;11;12;13;14;15}))+AF225),SUM(K225:AF225))","v":0},null,null,null,null,null,null,null,null,null,null,null,null,null,null,null,null,null,null,null,null,null,null,{"$f":"COUNTIF(K225:AF225,\">=1\")-I225","v":0}]
["M",{"$f":"IF(ISBLANK(E226),\"\",LOOKUP(IF(2000+E226>$G$1,1900+E226,2000+E226),Tabelle2!A:A,Tabelle2!C:C))","v":80},{"$f":"IF(G226>=1,SUMPRODUCT(($A$6:$A$418=A226)*($B$6:$B$418=B226)*($G$6:$G$418>G226))+1,\"\")","v":1},"Gutjahr, Jürgen",43,"SG Spergau",{"$f":"H226+J226","v":42},{"$f":"COUNTIF(K226:AE226,\">=1\")+COUNTIF(K226:AE226,\"T\")","v":2},{"$f":"MIN(15,COUNTIF(K226:AE226,\">=1\"))","v":2},{"$f":"IF(I226>=15,(SUM(LARGE(K226:AE226,{1;2;3;4;5;6;7;8;9;10;11;12;13;14;15}))+AF226),SUM(K226:AF226))","v":40},20,20,null,null,null,null,null,null,null,null,null,null,null,null,null,null,null,null,null,null,null,null,{"$f":"COUNTIF(K226:AF226,\">=1\")-I226","v":0}]
["M",{"$f":"IF(ISBLANK(E227),\"\",LOOKUP(IF(2000+E227>$G$1,1900+E227,2000+E227),Tabelle2!A:A,Tabelle2!C:C))","v":80},{"$f":"IF(G227>=1,SUMPRODUCT(($A$6:$A$418=A227)*($B$6:$B$418=B227)*($G$6:$G$418>G227))+1,\"\")","v":2},"Jankofsky, Norbert",40,"SG Spergau",{"$f":"H227+J227","v":38},{"$f":"COUNTIF(K227:AE227,\">=1\")+COUNTIF(K227:AE227,\"T\")","v":2},{"$f":"MIN(15,COUNTIF(K227:AE227,\">=1\"))","v":2},{"$f":"IF(I227>=15,(SUM(LARGE(K227:AE227,{1;2;3;4;5;6;7;8;9;10;11;12;13;14;15}))+AF227),SUM(K227:AF227))","v":36},18,18,null,null,null,null,null,null,null,null,null,null,null,null,null,null,null,null,null,null,null,null,{"$f":"COUNTIF(K227:AF227,\">=1\")-I227","v":0}]
["M",{"$f":"IF(ISBLANK(E228),\"\",LOOKUP(IF(2000+E228>$G$1,1900+E228,2000+E228),Tabelle2!A:A,Tabelle2!C:C))","v":85},{"$f":"IF(G228>=1,SUMPRODUCT(($A$6:$A$418=A228)*($B$6:$B$418=B228)*($G$6:$G$418>G228))+1,\"\")","v":1},"Ueberall, Johannes",38,"VS Bad Lauchstädt",{"$f":"H228+J228","v":16},{"$f":"COUNTIF(K228:AE228,\">=1\")+COUNTIF(K228:AE228,\"T\")","v":1},{"$f":"MIN(15,COUNTIF(K228:AE228,\">=1\"))","v":1},{"$f":"IF(I228>=15,(SUM(LARGE(K228:AE228,{1;2;3;4;5;6;7;8;9;10;11;12;13;14;15}))+AF228),SUM(K228:AF228))","v":15},15,null,null,null,null,null,null,null,null,null,null,null,null,null,null,null,null,null,null,null,null,null,{"$f":"COUNTIF(K228:AF228,\">=1\")-I228","v":0}]
[null,null,null,null,null,null,null,{"$f":"COUNTIF(H6:H227,\">=1\")","v":95},"Teilnehmer",null,{"$f":"COUNTIF(K6:K227,\">=1\")","v":61},{"$f":"COUNTIF(L6:L227,\">=1\")","v":74},{"$f":"COUNTIF(M6:M227,\">=1\")","v":0},{"$f":"COUNTIF(N6:N227,\">=1\")","v":0},{"$f":"COUNTIF(O6:O227,\">=1\")","v":0},{"$f":"COUNTIF(P6:P227,\">=1\")","v":0},{"$f":"COUNTIF(Q6:Q227,\">=1\")","v":0},{"$f":"COUNTIF(R6:R227,\">=1\")","v":0},{"$f":"COUNTIF(S6:S227,\">=1\")","v":0},{"$f":"COUNTIF(T6:T227,\">=1\")","v":0},{"$f":"COUNTIF(U6:U227,\">=1\")","v":0},{"$f":"COUNTIF(V6:V227,\">=1\")","v":0},{"$f":"COUNTIF(W6:W227,\">=1\")","v":0},{"$f":"COUNTIF(X6:X227,\">=1\")","v":0},{"$f":"COUNTIF(Y6:Y227,\">=1\")","v":0},{"$f":"COUNTIF(Z6:Z227,\">=1\")","v":0},{"$f":"COUNTIF(AA6:AA227,\">=1\")","v":0},{"$f":"COUNTIF(AB6:AB227,\">=1\")","v":0},{"$f":"COUNTIF(AC6:AC227,\">=1\")","v":0},{"$f":"COUNTIF(AD6:AD227,\">=1\")","v":0},{"$f":"COUNTIF(AE6:AE227,\">=1\")","v":0},{"$f":"COUNTIF(AF6:AF227,\">=1\")","v":0}]
[null,null,null,null,null,null,null,{"$f":"SUM(H6:H229)","v":233},"Teilnahmen"]

{"sheet":"Tabelle2","index":1,"n_rows":123,"n_cols":3,"rows_kept":123,"cut":false,"hidden":true,"merged":[]}
["AK_Liste",null,2023]
["Geb.-Jahr","Alter","A-Kl."]
[1930,{"$f":"Tabelle1!$G$1-Tabelle2!A3","v":93},90]
[1931,{"$f":"Tabelle1!$G$1-Tabelle2!A4","v":92},90]
[1932,{"$f":"Tabelle1!$G$1-Tabelle2!A5","v":91},90]
[1933,{"$f":"Tabelle1!$G$1-Tabelle2!A6","v":90},90]
[1934,{"$f":"Tabelle1!$G$1-Tabelle2!A7","v":89},85]
[1935,{"$f":"Tabelle1!$G$1-Tabelle2!A8","v":88},85]
[1936,{"$f":"Tabelle1!$G$1-Tabelle2!A9","v":87},85]
[1937,{"$f":"Tabelle1!$G$1-Tabelle2!A10","v":86},85]
[1938,{"$f":"Tabelle1!$G$1-Tabelle2!A11","v":85},85]
[1939,{"$f":"Tabelle1!$G$1-Tabelle2!A12","v":84},80]
[1940,{"$f":"Tabelle1!$G$1-Tabelle2!A13","v":83},80]
[1941,{"$f":"Tabelle1!$G$1-Tabelle2!A14","v":82},80]
[1942,{"$f":"Tabelle1!$G$1-Tabelle2!A15","v":81},80]
[1943,{"$f":"Tabelle1!$G$1-Tabelle2!A16","v":80},80]
[1944,{"$f":"Tabelle1!$G$1-Tabelle2!A17","v":79},75]
[1945,{"$f":"Tabelle1!$G$1-Tabelle2!A18","v":78},75]
[1946,{"$f":"Tabelle1!$G$1-Tabelle2!A19","v":77},75]
[1947,{"$f":"Tabelle1!$G$1-Tabelle2!A20","v":76},75]
[1948,{"$f":"Tabelle1!$G$1-Tabelle2!A21","v":75},75]
[1949,{"$f":"Tabelle1!$G$1-Tabelle2!A22","v":74},70]
[1950,{"$f":"Tabelle1!$G$1-Tabelle2!A23","v":73},70]
[1951,{"$f":"Tabelle1!$G$1-Tabelle2!A24","v":72},70]
[1952,{"$f":"Tabelle1!$G$1-Tabelle2!A25","v":71},70]
[1953,{"$f":"Tabelle1!$G$1-Tabelle2!A26","v":70},70]
[1954,{"$f":"Tabelle1!$G$1-Tabelle2!A27","v":69},65]
[1955,{"$f":"Tabelle1!$G$1-Tabelle2!A28","v":68},65]
[1956,{"$f":"Tabelle1!$G$1-Tabelle2!A29","v":67},65]
[1957,{"$f":"Tabelle1!$G$1-Tabelle2!A30","v":66},65]
[1958,{"$f":"Tabelle1!$G$1-Tabelle2!A31","v":65},65]
[1959,{"$f":"Tabelle1!$G$1-Tabelle2!A32","v":64},60]
[1960,{"$f":"Tabelle1!$G$1-Tabelle2!A33","v":63},60]
[1961,{"$f":"Tabelle1!$G$1-Tabelle2!A34","v":62},60]
[1962,{"$f":"Tabelle1!$G$1-Tabelle2!A35","v":61},60]
[1963,{"$f":"Tabelle1!$G$1-Tabelle2!A36","v":60},60]
[1964,{"$f":"Tabelle1!$G$1-Tabelle2!A37","v":59},55]
[1965,{"$f":"Tabelle1!$G$1-Tabelle2!A38","v":58},55]
[1966,{"$f":"Tabelle1!$G$1-Tabelle2!A39","v":57},55]
[1967,{"$f":"Tabelle1!$G$1-Tabelle2!A40","v":56},55]
[1968,{"$f":"Tabelle1!$G$1-Tabelle2!A41","v":55},55]
[1969,{"$f":"Tabelle1!$G$1-Tabelle2!A42","v":54},50]
[1970,{"$f":"Tabelle1!$G$1-Tabelle2!A43","v":53},50]
[1971,{"$f":"Tabelle1!$G$1-Tabelle2!A44","v":52},50]
[1972,{"$f":"Tabelle1!$G$1-Tabelle2!A45","v":51},50]
[1973,{"$f":"Tabelle1!$G$1-Tabelle2!A46","v":50},50]
[1974,{"$f":"Tabelle1!$G$1-Tabelle2!A47","v":49},45]
[1975,{"$f":"Tabelle1!$G$1-Tabelle2!A48","v":48},45]
[1976,{"$f":"Tabelle1!$G$1-Tabelle2!A49","v":47},45]
[1977,{"$f":"Tabelle1!$G$1-Tabelle2!A50","v":46},45]
[1978,{"$f":"Tabelle1!$G$1-Tabelle2!A51","v":45},45]
[1979,{"$f":"Tabelle1!$G$1-Tabelle2!A52","v":44},40]
[1980,{"$f":"Tabelle1!$G$1-Tabelle2!A53","v":43},40]
[1981,{"$f":"Tabelle1!$G$1-Tabelle2!A54","v":42},40]
[1982,{"$f":"Tabelle1!$G$1-Tabelle2!A55","v":41},40]
[1983,{"$f":"Tabelle1!$G$1-Tabelle2!A56","v":40},40]
[1984,{"$f":"Tabelle1!$G$1-Tabelle2!A57","v":39},35]
[1985,{"$f":"Tabelle1!$G$1-Tabelle2!A58","v":38},35]
[1986,{"$f":"Tabelle1!$G$1-Tabelle2!A59","v":37},35]
[1987,{"$f":"Tabelle1!$G$1-Tabelle2!A60","v":36},35]
[1988,{"$f":"Tabelle1!$G$1-Tabelle2!A61","v":35},35]
[1989,{"$f":"Tabelle1!$G$1-Tabelle2!A62","v":34},30]
[1990,{"$f":"Tabelle1!$G$1-Tabelle2!A63","v":33},30]
[1991,{"$f":"Tabelle1!$G$1-Tabelle2!A64","v":32},30]
[1992,{"$f":"Tabelle1!$G$1-Tabelle2!A65","v":31},30]
[1993,{"$f":"Tabelle1!$G$1-Tabelle2!A66","v":30},30]
[1994,{"$f":"Tabelle1!$G$1-Tabelle2!A67","v":29},20]
[1995,{"$f":"Tabelle1!$G$1-Tabelle2!A68","v":28},20]
[1996,{"$f":"Tabelle1!$G$1-Tabelle2!A69","v":27},20]
[1997,{"$f":"Tabelle1!$G$1-Tabelle2!A70","v":26},20]
[1998,{"$f":"Tabelle1!$G$1-Tabelle2!A71","v":25},20]
[1999,{"$f":"Tabelle1!$G$1-Tabelle2!A72","v":24},20]
[2000,{"$f":"Tabelle1!$G$1-Tabelle2!A73","v":23},20]
[2001,{"$f":"Tabelle1!$G$1-Tabelle2!A74","v":22},20]
[2002,{"$f":"Tabelle1!$G$1-Tabelle2!A75","v":21},20]
[2003,{"$f":"Tabelle1!$G$1-Tabelle2!A76","v":20},20]
[2004,{"$f":"Tabelle1!$G$1-Tabelle2!A77","v":19},"U20"]
[2005,{"$f":"Tabelle1!$G$1-Tabelle2!A78","v":18},"U20"]
[2006,{"$f":"Tabelle1!$G$1-Tabelle2!A79","v":17},"U18"]
[2007,{"$f":"Tabelle1!$G$1-Tabelle2!A80","v":16},"U18"]
[2008,{"$f":"Tabelle1!$G$1-Tabelle2!A81","v":15},"U16"]
[2009,{"$f":"Tabelle1!$G$1-Tabelle2!A82","v":14},"U16"]
[2010,{"$f":"Tabelle1!$G$1-Tabelle2!A83","v":13},"U14"]
[2011,{"$f":"Tabelle1!$G$1-Tabelle2!A84","v":12},"U14"]
[2012,{"$f":"Tabelle1!$G$1-Tabelle2!A85","v":11},"U12"]
[2013,{"$f":"Tabelle1!$G$1-Tabelle2!A86","v":10},"U12"]
[2014,{"$f":"Tabelle1!$G$1-Tabelle2!A87","v":9},"U10"]
[2015,{"$f":"Tabelle1!$G$1-Tabelle2!A88","v":8},"U10"]
[2016,{"$f":"Tabelle1!$G$1-Tabelle2!A89","v":7},"U08"]
[2017,{"$f":"Tabelle1!$G$1-Tabelle2!A90","v":6},"U08"]
[2018,{"$f":"Tabelle1!$G$1-Tabelle2!A91","v":5}]
[2019,{"$f":"Tabelle1!$G$1-Tabelle2!A92","v":4}]
[2020,{"$f":"Tabelle1!$G$1-Tabelle2!A93","v":3}]
[2021,{"$f":"Tabelle1!$G$1-Tabelle2!A94","v":2}]
[2022,{"$f":"Tabelle1!$G$1-Tabelle2!A95","v":1}]
[2023,{"$f":"Tabelle1!$G$1-Tabelle2!A96","v":0}]
[2024,{"$f":"Tabelle1!$G$1-Tabelle2!A97","v":-1}]
[2025,{"$f":"Tabelle1!$G$1-Tabelle2!A98","v":-2}]
[2026,{"$f":"Tabelle1!$G$1-Tabelle2!A99","v":-3}]
[2027,{"$f":"Tabelle1!$G$1-Tabelle2!A100","v":-4}]
[2028,{"$f":"Tabelle1!$G$1-Tabelle2!A101","v":-5}]
[2029,{"$f":"Tabelle1!$G$1-Tabelle2!A102","v":-6}]
[2030,{"$f":"Tabelle1!$G$1-Tabelle2!A103","v":-7}]
[2031,{"$f":"Tabelle1!$G$1-Tabelle2!A104","v":-8}]
[2032,{"$f":"Tabelle1!$G$1-Tabelle2!A105","v":-9}]
[2033,{"$f":"Tabelle1!$G$1-Tabelle2!A106","v":-10}]
[2034,{"$f":"Tabelle1!$G$1-Tabelle2!A107","v":-11}]
[2035,{"$f":"Tabelle1!$G$1-Tabelle2!A108","v":-12}]
[2036,{"$f":"Tabelle1!$G$1-Tabelle2!A109","v":-13}]
[2037,{"$f":"Tabelle1!$G$1-Tabelle2!A110","v":-14}]
[2038,{"$f":"Tabelle1!$G$1-Tabelle2!A111","v":-15}]
[2039,{"$f":"Tabelle1!$G$1-Tabelle2!A112","v":-16}]
[2040,{"$f":"Tabelle1!$G$1-Tabelle2!A113","v":-17}]
[2041,{"$f":"Tabelle1!$G$1-Tabelle2!A114","v":-18}]
[2042,{"$f":"Tabelle1!$G$1-Tabelle2!A115","v":-19}]
[2043,{"$f":"Tabelle1!$G$1-Tabelle2!A116","v":-20}]
[2044,{"$f":"Tabelle1!$G$1-Tabelle2!A117","v":-21}]
[2045,{"$f":"Tabelle1!$G$1-Tabelle2!A118","v":-22}]
[2046,{"$f":"Tabelle1!$G$1-Tabelle2!A119","v":-23}]
[2047,{"$f":"Tabelle1!$G$1-Tabelle2!A120","v":-24}]
[2048,{"$f":"Tabelle1!$G$1-Tabelle2!A121","v":-25}]
[2049,{"$f":"Tabelle1!$G$1-Tabelle2!A122","v":-26}]
[2050,{"$f":"Tabelle1!$G$1-Tabelle2!A123","v":-27}]